BEGIN:VCALENDAR
PRODID:-//eluceo/ical//2.0/EN
VERSION:2.0
CALSCALE:GREGORIAN
BEGIN:VEVENT
UID:https://hbb.rivio.dev/senioren/2024/wedstrijd/35469
DTSTAMP:20260420T090358Z
SUMMARY:Hanevoet 1 - De Valken 4
DESCRIPTION:Baan 2\, Wedstrijdnummer 94\, Afdeling 2e klasse D
DTSTART:20240919T200000
DTEND:20240919T230000
LOCATION:City Resort Helmond
ATTACH;FMTTYPE=text/plain:https://hbb.rivio.dev/senioren/2024/wedstrijd/354
 69
END:VEVENT
BEGIN:VEVENT
UID:https://hbb.rivio.dev/senioren/2024/wedstrijd/35490
DTSTAMP:20260420T090358Z
SUMMARY:ASML 2 - Hanevoet 1
DESCRIPTION:Baan 4\, Wedstrijdnummer 104\, Afdeling 2e klasse K
DTSTART:20240926T200000
DTEND:20240926T230000
LOCATION:City Resort Helmond
ATTACH;FMTTYPE=text/plain:https://hbb.rivio.dev/senioren/2024/wedstrijd/354
 90
END:VEVENT
BEGIN:VEVENT
UID:https://hbb.rivio.dev/senioren/2024/wedstrijd/35510
DTSTAMP:20260420T090358Z
SUMMARY:Hanevoet 1 - Phoenix 3
DESCRIPTION:Baan 11\, Wedstrijdnummer 105\, Afdeling 2e klasse D
DTSTART:20241003T200000
DTEND:20241003T230000
LOCATION:City Resort Helmond
ATTACH;FMTTYPE=text/plain:https://hbb.rivio.dev/senioren/2024/wedstrijd/355
 10
END:VEVENT
BEGIN:VEVENT
UID:https://hbb.rivio.dev/senioren/2024/wedstrijd/35528
DTSTAMP:20260420T090358Z
SUMMARY:Con Brio 2 - Hanevoet 1
DESCRIPTION:Baan 4\, Wedstrijdnummer 112\, Afdeling 2e klasse D
DTSTART:20241010T200000
DTEND:20241010T230000
LOCATION:City Resort Helmond
ATTACH;FMTTYPE=text/plain:https://hbb.rivio.dev/senioren/2024/wedstrijd/355
 28
END:VEVENT
BEGIN:VEVENT
UID:https://hbb.rivio.dev/senioren/2024/wedstrijd/35550
DTSTAMP:20260420T090358Z
SUMMARY:Hanevoet 1 - Bakel 4
DESCRIPTION:Baan 13\, Wedstrijdnummer 118\, Afdeling 2e klasse D
DTSTART:20241017T200000
DTEND:20241017T230000
LOCATION:City Resort Helmond
ATTACH;FMTTYPE=text/plain:https://hbb.rivio.dev/senioren/2024/wedstrijd/355
 50
END:VEVENT
BEGIN:VEVENT
UID:https://hbb.rivio.dev/senioren/2024/wedstrijd/35566
DTSTAMP:20260420T090358Z
SUMMARY:Mixed 4 - Hanevoet 1
DESCRIPTION:Baan 4\, Wedstrijdnummer 123\, Afdeling 2e klasse K
DTSTART:20241031T200000
DTEND:20241031T230000
LOCATION:City Resort Helmond
ATTACH;FMTTYPE=text/plain:https://hbb.rivio.dev/senioren/2024/wedstrijd/355
 66
END:VEVENT
BEGIN:VEVENT
UID:https://hbb.rivio.dev/senioren/2024/wedstrijd/35592
DTSTAMP:20260420T090358Z
SUMMARY:Hanevoet 1 - Mierlo 6
DESCRIPTION:Baan 4\, Wedstrijdnummer 131\, Afdeling 2e klasse D
DTSTART:20241114T200000
DTEND:20241114T230000
LOCATION:City Resort Helmond
ATTACH;FMTTYPE=text/plain:https://hbb.rivio.dev/senioren/2024/wedstrijd/355
 92
END:VEVENT
BEGIN:VEVENT
UID:https://hbb.rivio.dev/senioren/2024/wedstrijd/35621
DTSTAMP:20260420T090358Z
SUMMARY:Mierlo 5 - Hanevoet 1
DESCRIPTION:Baan 5\, Wedstrijdnummer 136\, Afdeling 2e klasse D
DTSTART:20241128T200000
DTEND:20241128T230000
LOCATION:City Resort Helmond
ATTACH;FMTTYPE=text/plain:https://hbb.rivio.dev/senioren/2024/wedstrijd/356
 21
END:VEVENT
BEGIN:VEVENT
UID:https://hbb.rivio.dev/senioren/2024/wedstrijd/35652
DTSTAMP:20260420T090358Z
SUMMARY:Hanevoet 1 - Mixed 3
DESCRIPTION:Baan 11\, Wedstrijdnummer 143\, Afdeling 2e klasse D
DTSTART:20241212T200000
DTEND:20241212T230000
LOCATION:City Resort Helmond
ATTACH;FMTTYPE=text/plain:https://hbb.rivio.dev/senioren/2024/wedstrijd/356
 52
END:VEVENT
BEGIN:VEVENT
UID:https://hbb.rivio.dev/senioren/2024/wedstrijd/35678
DTSTAMP:20260420T090358Z
SUMMARY:Heeze 1 - Hanevoet 1
DESCRIPTION:Baan 5\, Wedstrijdnummer 151\, Afdeling 2e klasse K
DTSTART:20250109T200000
DTEND:20250109T230000
LOCATION:City Resort Helmond
ATTACH;FMTTYPE=text/plain:https://hbb.rivio.dev/senioren/2024/wedstrijd/356
 78
END:VEVENT
BEGIN:VEVENT
UID:https://hbb.rivio.dev/senioren/2024/wedstrijd/35699
DTSTAMP:20260420T090358Z
SUMMARY:Hanevoet 1 - Gemert 1
DESCRIPTION:Baan 13\, Wedstrijdnummer 156\, Afdeling 2e klasse D
DTSTART:20250116T200000
DTEND:20250116T230000
LOCATION:City Resort Helmond
ATTACH;FMTTYPE=text/plain:https://hbb.rivio.dev/senioren/2024/wedstrijd/356
 99
END:VEVENT
BEGIN:VEVENT
UID:https://hbb.rivio.dev/senioren/2024/wedstrijd/35724
DTSTAMP:20260420T090358Z
SUMMARY:Ganzeveer 2 - Hanevoet 1
DESCRIPTION:Baan 11\, Wedstrijdnummer 161\, Afdeling 2e klasse D
DTSTART:20250129T200000
DTEND:20250129T230000
LOCATION:City Resort Helmond
ATTACH;FMTTYPE=text/plain:https://hbb.rivio.dev/senioren/2024/wedstrijd/357
 24
END:VEVENT
BEGIN:VEVENT
UID:https://hbb.rivio.dev/senioren/2024/wedstrijd/35850
DTSTAMP:20260420T090358Z
SUMMARY:Hanevoet 1 - Mierlo 6
DESCRIPTION:Baan 11\, Wedstrijdnummer 2005\, Afdeling 2e klasse D
DTSTART:20250220T200000
DTEND:20250220T230000
LOCATION:City Resort Helmond
ATTACH;FMTTYPE=text/plain:https://hbb.rivio.dev/senioren/2024/wedstrijd/358
 50
END:VEVENT
BEGIN:VEVENT
UID:https://hbb.rivio.dev/senioren/2024/wedstrijd/35857
DTSTAMP:20260420T090358Z
SUMMARY:Hanevoet 1 - De Valken 4
DESCRIPTION:Baan 13\, Wedstrijdnummer 2012\, Afdeling 2e klasse D
DTSTART:20250313T200000
DTEND:20250313T230000
LOCATION:City Resort Helmond
ATTACH;FMTTYPE=text/plain:https://hbb.rivio.dev/senioren/2024/wedstrijd/358
 57
END:VEVENT
BEGIN:VEVENT
UID:https://hbb.rivio.dev/senioren/2024/wedstrijd/35860
DTSTAMP:20260420T090358Z
SUMMARY:Con Brio 2 - Hanevoet 1
DESCRIPTION:Baan 12\, Wedstrijdnummer 2018\, Afdeling 2e klasse D
DTSTART:20250319T200000
DTEND:20250319T230000
LOCATION:City Resort Helmond
ATTACH;FMTTYPE=text/plain:https://hbb.rivio.dev/senioren/2024/wedstrijd/358
 60
END:VEVENT
BEGIN:VEVENT
UID:https://hbb.rivio.dev/senioren/2024/wedstrijd/35869
DTSTAMP:20260420T090358Z
SUMMARY:Phoenix 3 - Hanevoet 1
DESCRIPTION:Baan 4\, Wedstrijdnummer 2024\, Afdeling 2e klasse D
DTSTART:20250327T200000
DTEND:20250327T230000
LOCATION:City Resort Helmond
ATTACH;FMTTYPE=text/plain:https://hbb.rivio.dev/senioren/2024/wedstrijd/358
 69
END:VEVENT
BEGIN:VEVENT
UID:https://hbb.rivio.dev/senioren/2024/wedstrijd/35872
DTSTAMP:20260420T090358Z
SUMMARY:Ganzeveer 2 - Hanevoet 1
DESCRIPTION:Baan 11\, Wedstrijdnummer 2029\, Afdeling 2e klasse D
DTSTART:20250402T200000
DTEND:20250402T230000
LOCATION:City Resort Helmond
ATTACH;FMTTYPE=text/plain:https://hbb.rivio.dev/senioren/2024/wedstrijd/358
 72
END:VEVENT
BEGIN:VEVENT
UID:https://hbb.rivio.dev/senioren/2024/wedstrijd/35877
DTSTAMP:20260420T090358Z
SUMMARY:Hanevoet 1 - Mierlo 5
DESCRIPTION:Baan 5\, Wedstrijdnummer 2031\, Afdeling 2e klasse D
DTSTART:20250515T200000
DTEND:20250515T230000
LOCATION:City Resort Helmond
ATTACH;FMTTYPE=text/plain:https://hbb.rivio.dev/senioren/2024/wedstrijd/358
 77
END:VEVENT
BEGIN:VTIMEZONE
TZID:Europe/Amsterdam
BEGIN:STANDARD
DTSTART:20240101T000000
TZNAME:CET
TZOFFSETTO:+0100
TZOFFSETFROM:+0100
END:STANDARD
BEGIN:DAYLIGHT
DTSTART:20240331T030000
TZNAME:CEST
TZOFFSETTO:+0200
TZOFFSETFROM:+0100
END:DAYLIGHT
BEGIN:STANDARD
DTSTART:20241027T020000
TZNAME:CET
TZOFFSETTO:+0100
TZOFFSETFROM:+0200
END:STANDARD
BEGIN:DAYLIGHT
DTSTART:20250330T030000
TZNAME:CEST
TZOFFSETTO:+0200
TZOFFSETFROM:+0100
END:DAYLIGHT
BEGIN:STANDARD
DTSTART:20251026T020000
TZNAME:CET
TZOFFSETTO:+0100
TZOFFSETFROM:+0200
END:STANDARD
END:VTIMEZONE
END:VCALENDAR
