BEGIN:VCALENDAR
PRODID:-//eluceo/ical//2.0/EN
VERSION:2.0
CALSCALE:GREGORIAN
BEGIN:VEVENT
UID:https://hbb.rivio.dev/senioren/2024/wedstrijd/35490
DTSTAMP:20260420T190322Z
SUMMARY:ASML 2 - Hanevoet 1
DESCRIPTION:Baan 4\, Wedstrijdnummer 104\, Afdeling 2e klasse K
DTSTART:20240926T200000
DTEND:20240926T230000
LOCATION:City Resort Helmond
ATTACH;FMTTYPE=text/plain:https://hbb.rivio.dev/senioren/2024/wedstrijd/354
 90
END:VEVENT
BEGIN:VEVENT
UID:https://hbb.rivio.dev/senioren/2024/wedstrijd/35509
DTSTAMP:20260420T190322Z
SUMMARY:ASML 2 - De Valken 4
DESCRIPTION:Baan 5\, Wedstrijdnummer 107\, Afdeling 2e klasse K
DTSTART:20241003T200000
DTEND:20241003T230000
LOCATION:City Resort Helmond
ATTACH;FMTTYPE=text/plain:https://hbb.rivio.dev/senioren/2024/wedstrijd/355
 09
END:VEVENT
BEGIN:VEVENT
UID:https://hbb.rivio.dev/senioren/2024/wedstrijd/35518
DTSTAMP:20260420T190322Z
SUMMARY:Phoenix 3 - ASML 2
DESCRIPTION:Baan 4\, Wedstrijdnummer 114\, Afdeling 2e klasse D
DTSTART:20241009T200000
DTEND:20241009T230000
LOCATION:City Resort Helmond
ATTACH;FMTTYPE=text/plain:https://hbb.rivio.dev/senioren/2024/wedstrijd/355
 18
END:VEVENT
BEGIN:VEVENT
UID:https://hbb.rivio.dev/senioren/2024/wedstrijd/35540
DTSTAMP:20260420T190322Z
SUMMARY:ASML 2 - Con Brio 2
DESCRIPTION:Baan 12\, Wedstrijdnummer 120\, Afdeling 2e klasse K
DTSTART:20241016T200000
DTEND:20241016T230000
LOCATION:City Resort Helmond
ATTACH;FMTTYPE=text/plain:https://hbb.rivio.dev/senioren/2024/wedstrijd/355
 40
END:VEVENT
BEGIN:VEVENT
UID:https://hbb.rivio.dev/senioren/2024/wedstrijd/35567
DTSTAMP:20260420T190322Z
SUMMARY:Bakel 4 - ASML 2
DESCRIPTION:Baan 5\, Wedstrijdnummer 127\, Afdeling 2e klasse K
DTSTART:20241031T200000
DTEND:20241031T230000
LOCATION:City Resort Helmond
ATTACH;FMTTYPE=text/plain:https://hbb.rivio.dev/senioren/2024/wedstrijd/355
 67
END:VEVENT
BEGIN:VEVENT
UID:https://hbb.rivio.dev/senioren/2024/wedstrijd/35593
DTSTAMP:20260420T190322Z
SUMMARY:ASML 2 - Mixed 4
DESCRIPTION:Baan 5\, Wedstrijdnummer 133\, Afdeling 2e klasse K
DTSTART:20241114T200000
DTEND:20241114T230000
LOCATION:City Resort Helmond
ATTACH;FMTTYPE=text/plain:https://hbb.rivio.dev/senioren/2024/wedstrijd/355
 93
END:VEVENT
BEGIN:VEVENT
UID:https://hbb.rivio.dev/senioren/2024/wedstrijd/35622
DTSTAMP:20260420T190322Z
SUMMARY:Mierlo 6 - ASML 2
DESCRIPTION:Baan 11\, Wedstrijdnummer 138\, Afdeling 2e klasse D
DTSTART:20241128T200000
DTEND:20241128T230000
LOCATION:City Resort Helmond
ATTACH;FMTTYPE=text/plain:https://hbb.rivio.dev/senioren/2024/wedstrijd/356
 22
END:VEVENT
BEGIN:VEVENT
UID:https://hbb.rivio.dev/senioren/2024/wedstrijd/35639
DTSTAMP:20260420T190322Z
SUMMARY:ASML 2 - Mierlo 5
DESCRIPTION:Baan 3\, Wedstrijdnummer 146\, Afdeling 2e klasse K
DTSTART:20241211T200000
DTEND:20241211T230000
LOCATION:City Resort Helmond
ATTACH;FMTTYPE=text/plain:https://hbb.rivio.dev/senioren/2024/wedstrijd/356
 39
END:VEVENT
BEGIN:VEVENT
UID:https://hbb.rivio.dev/senioren/2024/wedstrijd/35662
DTSTAMP:20260420T190322Z
SUMMARY:Mixed 3 - ASML 2
DESCRIPTION:Baan 12\, Wedstrijdnummer 152\, Afdeling 2e klasse K
DTSTART:20241218T200000
DTEND:20241218T230000
LOCATION:City Resort Helmond
ATTACH;FMTTYPE=text/plain:https://hbb.rivio.dev/senioren/2024/wedstrijd/356
 62
END:VEVENT
BEGIN:VEVENT
UID:https://hbb.rivio.dev/senioren/2024/wedstrijd/35686
DTSTAMP:20260420T190322Z
SUMMARY:ASML 2 - Heeze 1
DESCRIPTION:Baan 4\, Wedstrijdnummer 158\, Afdeling 2e klasse K
DTSTART:20250115T200000
DTEND:20250115T230000
LOCATION:City Resort Helmond
ATTACH;FMTTYPE=text/plain:https://hbb.rivio.dev/senioren/2024/wedstrijd/356
 86
END:VEVENT
BEGIN:VEVENT
UID:https://hbb.rivio.dev/senioren/2024/wedstrijd/35725
DTSTAMP:20260420T190322Z
SUMMARY:Gemert 1 - ASML 2
DESCRIPTION:Baan 12\, Wedstrijdnummer 162\, Afdeling 2e klasse K
DTSTART:20250129T200000
DTEND:20250129T230000
LOCATION:City Resort Helmond
ATTACH;FMTTYPE=text/plain:https://hbb.rivio.dev/senioren/2024/wedstrijd/357
 25
END:VEVENT
BEGIN:VEVENT
UID:https://hbb.rivio.dev/senioren/2024/wedstrijd/35741
DTSTAMP:20260420T190322Z
SUMMARY:ASML 2 - Ganzeveer 2
DESCRIPTION:Baan 3\, Wedstrijdnummer 170\, Afdeling 2e klasse K
DTSTART:20250205T200000
DTEND:20250205T230000
LOCATION:City Resort Helmond
ATTACH;FMTTYPE=text/plain:https://hbb.rivio.dev/senioren/2024/wedstrijd/357
 41
END:VEVENT
BEGIN:VEVENT
UID:https://hbb.rivio.dev/senioren/2024/wedstrijd/35849
DTSTAMP:20260420T190322Z
SUMMARY:ASML 2 - Mixed 3
DESCRIPTION:Baan 5\, Wedstrijdnummer 2003\, Afdeling 2e klasse K
DTSTART:20250220T200000
DTEND:20250220T230000
LOCATION:City Resort Helmond
ATTACH;FMTTYPE=text/plain:https://hbb.rivio.dev/senioren/2024/wedstrijd/358
 49
END:VEVENT
BEGIN:VEVENT
UID:https://hbb.rivio.dev/senioren/2024/wedstrijd/35854
DTSTAMP:20260420T190322Z
SUMMARY:Gemert 1 - ASML 2
DESCRIPTION:Baan 5\, Wedstrijdnummer 2009\, Afdeling 2e klasse K
DTSTART:20250313T200000
DTEND:20250313T230000
LOCATION:City Resort Helmond
ATTACH;FMTTYPE=text/plain:https://hbb.rivio.dev/senioren/2024/wedstrijd/358
 54
END:VEVENT
BEGIN:VEVENT
UID:https://hbb.rivio.dev/senioren/2024/wedstrijd/35862
DTSTAMP:20260420T190322Z
SUMMARY:Mixed 4 - ASML 2
DESCRIPTION:Baan 11\, Wedstrijdnummer 2014\, Afdeling 2e klasse K
DTSTART:20250320T200000
DTEND:20250320T230000
LOCATION:City Resort Helmond
ATTACH;FMTTYPE=text/plain:https://hbb.rivio.dev/senioren/2024/wedstrijd/358
 62
END:VEVENT
BEGIN:VEVENT
UID:https://hbb.rivio.dev/senioren/2024/wedstrijd/35864
DTSTAMP:20260420T190322Z
SUMMARY:ASML 2 - Heeze 1
DESCRIPTION:Baan 2\, Wedstrijdnummer 2019\, Afdeling 2e klasse K
DTSTART:20250326T200000
DTEND:20250326T230000
LOCATION:City Resort Helmond
ATTACH;FMTTYPE=text/plain:https://hbb.rivio.dev/senioren/2024/wedstrijd/358
 64
END:VEVENT
BEGIN:VEVENT
UID:https://hbb.rivio.dev/senioren/2024/wedstrijd/35875
DTSTAMP:20260420T190322Z
SUMMARY:ASML 2 - Bakel 4
DESCRIPTION:Baan 13\, Wedstrijdnummer 2026\, Afdeling 2e klasse K
DTSTART:20250403T200000
DTEND:20250403T230000
LOCATION:City Resort Helmond
ATTACH;FMTTYPE=text/plain:https://hbb.rivio.dev/senioren/2024/wedstrijd/358
 75
END:VEVENT
BEGIN:VTIMEZONE
TZID:Europe/Amsterdam
BEGIN:STANDARD
DTSTART:20240101T000000
TZNAME:CET
TZOFFSETTO:+0100
TZOFFSETFROM:+0100
END:STANDARD
BEGIN:DAYLIGHT
DTSTART:20240331T030000
TZNAME:CEST
TZOFFSETTO:+0200
TZOFFSETFROM:+0100
END:DAYLIGHT
BEGIN:STANDARD
DTSTART:20241027T020000
TZNAME:CET
TZOFFSETTO:+0100
TZOFFSETFROM:+0200
END:STANDARD
BEGIN:DAYLIGHT
DTSTART:20250330T030000
TZNAME:CEST
TZOFFSETTO:+0200
TZOFFSETFROM:+0100
END:DAYLIGHT
BEGIN:STANDARD
DTSTART:20251026T020000
TZNAME:CET
TZOFFSETTO:+0100
TZOFFSETFROM:+0200
END:STANDARD
END:VTIMEZONE
END:VCALENDAR
