BEGIN:VCALENDAR
PRODID:-//eluceo/ical//2.0/EN
VERSION:2.0
CALSCALE:GREGORIAN
BEGIN:VEVENT
UID:https://hbb.rivio.dev/senioren/2024/wedstrijd/35508
DTSTAMP:20260420T150454Z
SUMMARY:Eindhoven 1 - Someren 2
DESCRIPTION:Baan 4\, Wedstrijdnummer 68\, Afdeling 1e klasse 
DTSTART:20241003T200000
DTEND:20241003T230000
LOCATION:City Resort Helmond
ATTACH;FMTTYPE=text/plain:https://hbb.rivio.dev/senioren/2024/wedstrijd/355
 08
END:VEVENT
BEGIN:VEVENT
UID:https://hbb.rivio.dev/senioren/2024/wedstrijd/35565
DTSTAMP:20260420T150454Z
SUMMARY:RBC 1 - Eindhoven 1
DESCRIPTION:Baan 3\, Wedstrijdnummer 75\, Afdeling 1e klasse 
DTSTART:20241031T200000
DTEND:20241031T230000
LOCATION:City Resort Helmond
ATTACH;FMTTYPE=text/plain:https://hbb.rivio.dev/senioren/2024/wedstrijd/355
 65
END:VEVENT
BEGIN:VEVENT
UID:https://hbb.rivio.dev/senioren/2024/wedstrijd/35601
DTSTAMP:20260420T150454Z
SUMMARY:De Valken 3 - Eindhoven 1
DESCRIPTION:Baan 3\, Wedstrijdnummer 78\, Afdeling 1e klasse 
DTSTART:20241121T200000
DTEND:20241121T230000
LOCATION:City Resort Helmond
ATTACH;FMTTYPE=text/plain:https://hbb.rivio.dev/senioren/2024/wedstrijd/356
 01
END:VEVENT
BEGIN:VEVENT
UID:https://hbb.rivio.dev/senioren/2024/wedstrijd/35619
DTSTAMP:20260420T150454Z
SUMMARY:Smashing Bruang 1 - Eindhoven 1
DESCRIPTION:Baan 2\, Wedstrijdnummer 81\, Afdeling 1e klasse 
DTSTART:20241128T200000
DTEND:20241128T230000
LOCATION:City Resort Helmond
ATTACH;FMTTYPE=text/plain:https://hbb.rivio.dev/senioren/2024/wedstrijd/356
 19
END:VEVENT
BEGIN:VEVENT
UID:https://hbb.rivio.dev/senioren/2024/wedstrijd/35669
DTSTAMP:20260420T150454Z
SUMMARY:Eindhoven 1 - Phoenix 2
DESCRIPTION:Baan 5\, Wedstrijdnummer 86\, Afdeling 1e klasse 
DTSTART:20241219T200000
DTEND:20241219T230000
LOCATION:City Resort Helmond
ATTACH;FMTTYPE=text/plain:https://hbb.rivio.dev/senioren/2024/wedstrijd/356
 69
END:VEVENT
BEGIN:VEVENT
UID:https://hbb.rivio.dev/senioren/2024/wedstrijd/35696
DTSTAMP:20260420T150454Z
SUMMARY:Eindhoven 1 - Mierlo 4
DESCRIPTION:Baan 5\, Wedstrijdnummer 91\, Afdeling 1e klasse 
DTSTART:20250116T200000
DTEND:20250116T230000
LOCATION:City Resort Helmond
ATTACH;FMTTYPE=text/plain:https://hbb.rivio.dev/senioren/2024/wedstrijd/356
 96
END:VEVENT
BEGIN:VEVENT
UID:https://hbb.rivio.dev/senioren/2024/wedstrijd/35713
DTSTAMP:20260420T150454Z
SUMMARY:Someren 2 - Eindhoven 1
DESCRIPTION:Baan 3\, Wedstrijdnummer 1068\, Afdeling 1e klasse 
DTSTART:20250123T200000
DTEND:20250123T230000
LOCATION:City Resort Helmond
ATTACH;FMTTYPE=text/plain:https://hbb.rivio.dev/senioren/2024/wedstrijd/357
 13
END:VEVENT
BEGIN:VEVENT
UID:https://hbb.rivio.dev/senioren/2024/wedstrijd/35771
DTSTAMP:20260420T150454Z
SUMMARY:Eindhoven 1 - RBC 1
DESCRIPTION:Baan 5\, Wedstrijdnummer 1075\, Afdeling 1e klasse 
DTSTART:20250213T200000
DTEND:20250213T230000
LOCATION:City Resort Helmond
ATTACH;FMTTYPE=text/plain:https://hbb.rivio.dev/senioren/2024/wedstrijd/357
 71
END:VEVENT
BEGIN:VEVENT
UID:https://hbb.rivio.dev/senioren/2024/wedstrijd/35786
DTSTAMP:20260420T150454Z
SUMMARY:Eindhoven 1 - De Valken 3
DESCRIPTION:Baan 4\, Wedstrijdnummer 1078\, Afdeling 1e klasse 
DTSTART:20250220T200000
DTEND:20250220T230000
LOCATION:City Resort Helmond
ATTACH;FMTTYPE=text/plain:https://hbb.rivio.dev/senioren/2024/wedstrijd/357
 86
END:VEVENT
BEGIN:VEVENT
UID:https://hbb.rivio.dev/senioren/2024/wedstrijd/35808
DTSTAMP:20260420T150455Z
SUMMARY:Eindhoven 1 - Smashing Bruang 1
DESCRIPTION:Baan 3\, Wedstrijdnummer 1081\, Afdeling 1e klasse 
DTSTART:20250403T200000
DTEND:20250403T230000
LOCATION:City Resort Helmond
ATTACH;FMTTYPE=text/plain:https://hbb.rivio.dev/senioren/2024/wedstrijd/358
 08
END:VEVENT
BEGIN:VEVENT
UID:https://hbb.rivio.dev/senioren/2024/wedstrijd/35813
DTSTAMP:20260420T150455Z
SUMMARY:Phoenix 2 - Eindhoven 1
DESCRIPTION:Baan 4\, Wedstrijdnummer 1086\, Afdeling 1e klasse 
DTSTART:20250409T200000
DTEND:20250409T230000
LOCATION:City Resort Helmond
ATTACH;FMTTYPE=text/plain:https://hbb.rivio.dev/senioren/2024/wedstrijd/358
 13
END:VEVENT
BEGIN:VEVENT
UID:https://hbb.rivio.dev/senioren/2024/wedstrijd/35829
DTSTAMP:20260420T150455Z
SUMMARY:Mierlo 4 - Eindhoven 1
DESCRIPTION:Baan 4\, Wedstrijdnummer 1091\, Afdeling 1e klasse 
DTSTART:20250515T200000
DTEND:20250515T230000
LOCATION:City Resort Helmond
ATTACH;FMTTYPE=text/plain:https://hbb.rivio.dev/senioren/2024/wedstrijd/358
 29
END:VEVENT
BEGIN:VTIMEZONE
TZID:Europe/Amsterdam
BEGIN:STANDARD
DTSTART:20240101T000000
TZNAME:CET
TZOFFSETTO:+0100
TZOFFSETFROM:+0100
END:STANDARD
BEGIN:DAYLIGHT
DTSTART:20240331T030000
TZNAME:CEST
TZOFFSETTO:+0200
TZOFFSETFROM:+0100
END:DAYLIGHT
BEGIN:STANDARD
DTSTART:20241027T020000
TZNAME:CET
TZOFFSETTO:+0100
TZOFFSETFROM:+0200
END:STANDARD
BEGIN:DAYLIGHT
DTSTART:20250330T030000
TZNAME:CEST
TZOFFSETTO:+0200
TZOFFSETFROM:+0100
END:DAYLIGHT
BEGIN:STANDARD
DTSTART:20251026T020000
TZNAME:CET
TZOFFSETTO:+0100
TZOFFSETFROM:+0200
END:STANDARD
END:VTIMEZONE
END:VCALENDAR
