BEGIN:VCALENDAR
PRODID:-//eluceo/ical//2.0/EN
VERSION:2.0
CALSCALE:GREGORIAN
BEGIN:VEVENT
UID:https://hbb.rivio.dev/senioren/2024/wedstrijd/35496
DTSTAMP:20260420T164920Z
SUMMARY:Phoenix 1 - Someren 1
DESCRIPTION:Baan 1\, Wedstrijdnummer 1\, Afdeling Topklasse 
DTSTART:20241002T200000
DTEND:20241002T230000
LOCATION:City Resort Helmond
ATTACH;FMTTYPE=text/plain:https://hbb.rivio.dev/senioren/2024/wedstrijd/354
 96
END:VEVENT
BEGIN:VEVENT
UID:https://hbb.rivio.dev/senioren/2024/wedstrijd/35515
DTSTAMP:20260420T164920Z
SUMMARY:De Valken 1 - Phoenix 1
DESCRIPTION:Baan 1\, Wedstrijdnummer 5\, Afdeling Topklasse 
DTSTART:20241009T200000
DTEND:20241009T230000
LOCATION:City Resort Helmond
ATTACH;FMTTYPE=text/plain:https://hbb.rivio.dev/senioren/2024/wedstrijd/355
 15
END:VEVENT
BEGIN:VEVENT
UID:https://hbb.rivio.dev/senioren/2024/wedstrijd/35534
DTSTAMP:20260420T164920Z
SUMMARY:Phoenix 1 - Bakel 1
DESCRIPTION:Baan 1\, Wedstrijdnummer 9\, Afdeling Topklasse 
DTSTART:20241016T200000
DTEND:20241016T230000
LOCATION:City Resort Helmond
ATTACH;FMTTYPE=text/plain:https://hbb.rivio.dev/senioren/2024/wedstrijd/355
 34
END:VEVENT
BEGIN:VEVENT
UID:https://hbb.rivio.dev/senioren/2024/wedstrijd/35572
DTSTAMP:20260420T164920Z
SUMMARY:Brabantia 1 - Phoenix 1
DESCRIPTION:Baan 1\, Wedstrijdnummer 13\, Afdeling Topklasse 
DTSTART:20241106T200000
DTEND:20241106T230000
LOCATION:City Resort Helmond
ATTACH;FMTTYPE=text/plain:https://hbb.rivio.dev/senioren/2024/wedstrijd/355
 72
END:VEVENT
BEGIN:VEVENT
UID:https://hbb.rivio.dev/senioren/2024/wedstrijd/35580
DTSTAMP:20260420T164920Z
SUMMARY:Phoenix 1 - Mixed 1
DESCRIPTION:Baan 1\, Wedstrijdnummer 17\, Afdeling Topklasse 
DTSTART:20241113T200000
DTEND:20241113T230000
LOCATION:City Resort Helmond
ATTACH;FMTTYPE=text/plain:https://hbb.rivio.dev/senioren/2024/wedstrijd/355
 80
END:VEVENT
BEGIN:VEVENT
UID:https://hbb.rivio.dev/senioren/2024/wedstrijd/35627
DTSTAMP:20260420T164920Z
SUMMARY:Mierlo 1 - Phoenix 1
DESCRIPTION:Baan 1\, Wedstrijdnummer 21\, Afdeling Topklasse 
DTSTART:20241204T200000
DTEND:20241204T230000
LOCATION:City Resort Helmond
ATTACH;FMTTYPE=text/plain:https://hbb.rivio.dev/senioren/2024/wedstrijd/356
 27
END:VEVENT
BEGIN:VEVENT
UID:https://hbb.rivio.dev/senioren/2024/wedstrijd/35656
DTSTAMP:20260420T164920Z
SUMMARY:Phoenix 1 - Con Brio 1
DESCRIPTION:Baan 1\, Wedstrijdnummer 25\, Afdeling Topklasse 
DTSTART:20241218T200000
DTEND:20241218T230000
LOCATION:City Resort Helmond
ATTACH;FMTTYPE=text/plain:https://hbb.rivio.dev/senioren/2024/wedstrijd/356
 56
END:VEVENT
BEGIN:VEVENT
UID:https://hbb.rivio.dev/senioren/2024/wedstrijd/35693
DTSTAMP:20260420T164920Z
SUMMARY:Someren 1 - Phoenix 1
DESCRIPTION:Baan 1\, Wedstrijdnummer 1001\, Afdeling Topklasse 
DTSTART:20250116T200000
DTEND:20250116T230000
LOCATION:City Resort Helmond
ATTACH;FMTTYPE=text/plain:https://hbb.rivio.dev/senioren/2024/wedstrijd/356
 93
END:VEVENT
BEGIN:VEVENT
UID:https://hbb.rivio.dev/senioren/2024/wedstrijd/35701
DTSTAMP:20260420T164920Z
SUMMARY:Phoenix 1 - De Valken 1
DESCRIPTION:Baan 1\, Wedstrijdnummer 1005\, Afdeling Topklasse 
DTSTART:20250122T200000
DTEND:20250122T230000
LOCATION:City Resort Helmond
ATTACH;FMTTYPE=text/plain:https://hbb.rivio.dev/senioren/2024/wedstrijd/357
 01
END:VEVENT
BEGIN:VEVENT
UID:https://hbb.rivio.dev/senioren/2024/wedstrijd/35750
DTSTAMP:20260420T164920Z
SUMMARY:Bakel 1 - Phoenix 1
DESCRIPTION:Baan 2\, Wedstrijdnummer 1009\, Afdeling Topklasse 
DTSTART:20250206T200000
DTEND:20250206T230000
LOCATION:City Resort Helmond
ATTACH;FMTTYPE=text/plain:https://hbb.rivio.dev/senioren/2024/wedstrijd/357
 50
END:VEVENT
BEGIN:VEVENT
UID:https://hbb.rivio.dev/senioren/2024/wedstrijd/35758
DTSTAMP:20260420T164920Z
SUMMARY:Phoenix 1 - Brabantia 1
DESCRIPTION:Baan 1\, Wedstrijdnummer 1013\, Afdeling Topklasse 
DTSTART:20250212T200000
DTEND:20250212T230000
LOCATION:City Resort Helmond
ATTACH;FMTTYPE=text/plain:https://hbb.rivio.dev/senioren/2024/wedstrijd/357
 58
END:VEVENT
BEGIN:VEVENT
UID:https://hbb.rivio.dev/senioren/2024/wedstrijd/35794
DTSTAMP:20260420T164920Z
SUMMARY:Mixed 1 - Phoenix 1
DESCRIPTION:Baan 2\, Wedstrijdnummer 1017\, Afdeling Topklasse 
DTSTART:20250319T200000
DTEND:20250319T230000
LOCATION:City Resort Helmond
ATTACH;FMTTYPE=text/plain:https://hbb.rivio.dev/senioren/2024/wedstrijd/357
 94
END:VEVENT
BEGIN:VEVENT
UID:https://hbb.rivio.dev/senioren/2024/wedstrijd/35810
DTSTAMP:20260420T164920Z
SUMMARY:Phoenix 1 - Mierlo 1
DESCRIPTION:Baan 1\, Wedstrijdnummer 1021\, Afdeling Topklasse 
DTSTART:20250409T200000
DTEND:20250409T230000
LOCATION:City Resort Helmond
ATTACH;FMTTYPE=text/plain:https://hbb.rivio.dev/senioren/2024/wedstrijd/358
 10
END:VEVENT
BEGIN:VEVENT
UID:https://hbb.rivio.dev/senioren/2024/wedstrijd/35818
DTSTAMP:20260420T164920Z
SUMMARY:Con Brio 1 - Phoenix 1
DESCRIPTION:Baan 1\, Wedstrijdnummer 1025\, Afdeling Topklasse 
DTSTART:20250416T200000
DTEND:20250416T230000
LOCATION:City Resort Helmond
ATTACH;FMTTYPE=text/plain:https://hbb.rivio.dev/senioren/2024/wedstrijd/358
 18
END:VEVENT
BEGIN:VTIMEZONE
TZID:Europe/Amsterdam
BEGIN:STANDARD
DTSTART:20240101T000000
TZNAME:CET
TZOFFSETTO:+0100
TZOFFSETFROM:+0100
END:STANDARD
BEGIN:DAYLIGHT
DTSTART:20240331T030000
TZNAME:CEST
TZOFFSETTO:+0200
TZOFFSETFROM:+0100
END:DAYLIGHT
BEGIN:STANDARD
DTSTART:20241027T020000
TZNAME:CET
TZOFFSETTO:+0100
TZOFFSETFROM:+0200
END:STANDARD
BEGIN:DAYLIGHT
DTSTART:20250330T030000
TZNAME:CEST
TZOFFSETTO:+0200
TZOFFSETFROM:+0100
END:DAYLIGHT
BEGIN:STANDARD
DTSTART:20251026T020000
TZNAME:CET
TZOFFSETTO:+0100
TZOFFSETFROM:+0200
END:STANDARD
END:VTIMEZONE
END:VCALENDAR
