BEGIN:VCALENDAR
PRODID:-//eluceo/ical//2.0/EN
VERSION:2.0
CALSCALE:GREGORIAN
BEGIN:VEVENT
UID:https://hbb.rivio.dev/senioren/2024/wedstrijd/35488
DTSTAMP:20260420T203055Z
SUMMARY:Mixed 1 - Brabantia 1
DESCRIPTION:Baan 2\, Wedstrijdnummer 4\, Afdeling Topklasse 
DTSTART:20240926T200000
DTEND:20240926T230000
LOCATION:City Resort Helmond
ATTACH;FMTTYPE=text/plain:https://hbb.rivio.dev/senioren/2024/wedstrijd/354
 88
END:VEVENT
BEGIN:VEVENT
UID:https://hbb.rivio.dev/senioren/2024/wedstrijd/35526
DTSTAMP:20260420T203055Z
SUMMARY:Con Brio 1 - Brabantia 1
DESCRIPTION:Baan 2\, Wedstrijdnummer 7\, Afdeling Topklasse 
DTSTART:20241010T200000
DTEND:20241010T230000
LOCATION:City Resort Helmond
ATTACH;FMTTYPE=text/plain:https://hbb.rivio.dev/senioren/2024/wedstrijd/355
 26
END:VEVENT
BEGIN:VEVENT
UID:https://hbb.rivio.dev/senioren/2024/wedstrijd/35535
DTSTAMP:20260420T203055Z
SUMMARY:De Valken 1 - Brabantia 1
DESCRIPTION:Baan 2\, Wedstrijdnummer 10\, Afdeling Topklasse 
DTSTART:20241016T200000
DTEND:20241016T230000
LOCATION:City Resort Helmond
ATTACH;FMTTYPE=text/plain:https://hbb.rivio.dev/senioren/2024/wedstrijd/355
 35
END:VEVENT
BEGIN:VEVENT
UID:https://hbb.rivio.dev/senioren/2024/wedstrijd/35572
DTSTAMP:20260420T203055Z
SUMMARY:Brabantia 1 - Phoenix 1
DESCRIPTION:Baan 1\, Wedstrijdnummer 13\, Afdeling Topklasse 
DTSTART:20241106T200000
DTEND:20241106T230000
LOCATION:City Resort Helmond
ATTACH;FMTTYPE=text/plain:https://hbb.rivio.dev/senioren/2024/wedstrijd/355
 72
END:VEVENT
BEGIN:VEVENT
UID:https://hbb.rivio.dev/senioren/2024/wedstrijd/35581
DTSTAMP:20260420T203055Z
SUMMARY:Brabantia 1 - Mierlo 1
DESCRIPTION:Baan 2\, Wedstrijdnummer 18\, Afdeling Topklasse 
DTSTART:20241113T200000
DTEND:20241113T230000
LOCATION:City Resort Helmond
ATTACH;FMTTYPE=text/plain:https://hbb.rivio.dev/senioren/2024/wedstrijd/355
 81
END:VEVENT
BEGIN:VEVENT
UID:https://hbb.rivio.dev/senioren/2024/wedstrijd/35648
DTSTAMP:20260420T203055Z
SUMMARY:Brabantia 1 - Someren 1
DESCRIPTION:Baan 2\, Wedstrijdnummer 23\, Afdeling Topklasse 
DTSTART:20241212T200000
DTEND:20241212T230000
LOCATION:City Resort Helmond
ATTACH;FMTTYPE=text/plain:https://hbb.rivio.dev/senioren/2024/wedstrijd/356
 48
END:VEVENT
BEGIN:VEVENT
UID:https://hbb.rivio.dev/senioren/2024/wedstrijd/35666
DTSTAMP:20260420T203055Z
SUMMARY:Brabantia 1 - Bakel 1
DESCRIPTION:Baan 1\, Wedstrijdnummer 28\, Afdeling Topklasse 
DTSTART:20241219T200000
DTEND:20241219T230000
LOCATION:City Resort Helmond
ATTACH;FMTTYPE=text/plain:https://hbb.rivio.dev/senioren/2024/wedstrijd/356
 66
END:VEVENT
BEGIN:VEVENT
UID:https://hbb.rivio.dev/senioren/2024/wedstrijd/35695
DTSTAMP:20260420T203055Z
SUMMARY:Brabantia 1 - Mixed 1
DESCRIPTION:Baan 3\, Wedstrijdnummer 1004\, Afdeling Topklasse 
DTSTART:20250116T200000
DTEND:20250116T230000
LOCATION:City Resort Helmond
ATTACH;FMTTYPE=text/plain:https://hbb.rivio.dev/senioren/2024/wedstrijd/356
 95
END:VEVENT
BEGIN:VEVENT
UID:https://hbb.rivio.dev/senioren/2024/wedstrijd/35720
DTSTAMP:20260420T203055Z
SUMMARY:Brabantia 1 - Con Brio 1
DESCRIPTION:Baan 1\, Wedstrijdnummer 1007\, Afdeling Topklasse 
DTSTART:20250129T200000
DTEND:20250129T230000
LOCATION:City Resort Helmond
ATTACH;FMTTYPE=text/plain:https://hbb.rivio.dev/senioren/2024/wedstrijd/357
 20
END:VEVENT
BEGIN:VEVENT
UID:https://hbb.rivio.dev/senioren/2024/wedstrijd/35749
DTSTAMP:20260420T203055Z
SUMMARY:Brabantia 1 - De Valken 1
DESCRIPTION:Baan 1\, Wedstrijdnummer 1010\, Afdeling Topklasse 
DTSTART:20250206T200000
DTEND:20250206T230000
LOCATION:City Resort Helmond
ATTACH;FMTTYPE=text/plain:https://hbb.rivio.dev/senioren/2024/wedstrijd/357
 49
END:VEVENT
BEGIN:VEVENT
UID:https://hbb.rivio.dev/senioren/2024/wedstrijd/35758
DTSTAMP:20260420T203055Z
SUMMARY:Phoenix 1 - Brabantia 1
DESCRIPTION:Baan 1\, Wedstrijdnummer 1013\, Afdeling Topklasse 
DTSTART:20250212T200000
DTEND:20250212T230000
LOCATION:City Resort Helmond
ATTACH;FMTTYPE=text/plain:https://hbb.rivio.dev/senioren/2024/wedstrijd/357
 58
END:VEVENT
BEGIN:VEVENT
UID:https://hbb.rivio.dev/senioren/2024/wedstrijd/35793
DTSTAMP:20260420T203055Z
SUMMARY:Mierlo 1 - Brabantia 1
DESCRIPTION:Baan 1\, Wedstrijdnummer 1018\, Afdeling Topklasse 
DTSTART:20250319T200000
DTEND:20250319T230000
LOCATION:City Resort Helmond
ATTACH;FMTTYPE=text/plain:https://hbb.rivio.dev/senioren/2024/wedstrijd/357
 93
END:VEVENT
BEGIN:VEVENT
UID:https://hbb.rivio.dev/senioren/2024/wedstrijd/35806
DTSTAMP:20260420T203055Z
SUMMARY:Someren 1 - Brabantia 1
DESCRIPTION:Baan 1\, Wedstrijdnummer 1023\, Afdeling Topklasse 
DTSTART:20250403T200000
DTEND:20250403T230000
LOCATION:City Resort Helmond
ATTACH;FMTTYPE=text/plain:https://hbb.rivio.dev/senioren/2024/wedstrijd/358
 06
END:VEVENT
BEGIN:VEVENT
UID:https://hbb.rivio.dev/senioren/2024/wedstrijd/35824
DTSTAMP:20260420T203055Z
SUMMARY:Bakel 1 - Brabantia 1
DESCRIPTION:Baan 3\, Wedstrijdnummer 1028\, Afdeling Topklasse 
DTSTART:20250417T200000
DTEND:20250417T230000
LOCATION:City Resort Helmond
ATTACH;FMTTYPE=text/plain:https://hbb.rivio.dev/senioren/2024/wedstrijd/358
 24
END:VEVENT
BEGIN:VTIMEZONE
TZID:Europe/Amsterdam
BEGIN:STANDARD
DTSTART:20240101T000000
TZNAME:CET
TZOFFSETTO:+0100
TZOFFSETFROM:+0100
END:STANDARD
BEGIN:DAYLIGHT
DTSTART:20240331T030000
TZNAME:CEST
TZOFFSETTO:+0200
TZOFFSETFROM:+0100
END:DAYLIGHT
BEGIN:STANDARD
DTSTART:20241027T020000
TZNAME:CET
TZOFFSETTO:+0100
TZOFFSETFROM:+0200
END:STANDARD
BEGIN:DAYLIGHT
DTSTART:20250330T030000
TZNAME:CEST
TZOFFSETTO:+0200
TZOFFSETFROM:+0100
END:DAYLIGHT
BEGIN:STANDARD
DTSTART:20251026T020000
TZNAME:CET
TZOFFSETTO:+0100
TZOFFSETFROM:+0200
END:STANDARD
END:VTIMEZONE
END:VCALENDAR
