BEGIN:VCALENDAR
PRODID:-//eluceo/ical//2.0/EN
VERSION:2.0
CALSCALE:GREGORIAN
BEGIN:VEVENT
UID:https://hbb.rivio.dev/senioren/2024/wedstrijd/35458
DTSTAMP:20260420T202428Z
SUMMARY:Mierlo 9 - De Valken 5
DESCRIPTION:Baan 1\, Wedstrijdnummer 240\, Afdeling 4e klasse D
DTSTART:20240918T200000
DTEND:20240918T230000
LOCATION:City Resort Helmond
ATTACH;FMTTYPE=text/plain:https://hbb.rivio.dev/senioren/2024/wedstrijd/354
 58
END:VEVENT
BEGIN:VEVENT
UID:https://hbb.rivio.dev/senioren/2024/wedstrijd/35485
DTSTAMP:20260420T202428Z
SUMMARY:De Valken 5 - Heeze 2
DESCRIPTION:Baan 14\, Wedstrijdnummer 244\, Afdeling 4e klasse K
DTSTART:20240925T200000
DTEND:20240925T230000
LOCATION:City Resort Helmond
ATTACH;FMTTYPE=text/plain:https://hbb.rivio.dev/senioren/2024/wedstrijd/354
 85
END:VEVENT
BEGIN:VEVENT
UID:https://hbb.rivio.dev/senioren/2024/wedstrijd/35570
DTSTAMP:20260420T202428Z
SUMMARY:De Valken 5 - BC '85 1
DESCRIPTION:Baan 14\, Wedstrijdnummer 256\, Afdeling 4e klasse K
DTSTART:20241031T200000
DTEND:20241031T230000
LOCATION:City Resort Helmond
ATTACH;FMTTYPE=text/plain:https://hbb.rivio.dev/senioren/2024/wedstrijd/355
 70
END:VEVENT
BEGIN:VEVENT
UID:https://hbb.rivio.dev/senioren/2024/wedstrijd/35578
DTSTAMP:20260420T202428Z
SUMMARY:Mixed 5 - De Valken 5
DESCRIPTION:Baan 14\, Wedstrijdnummer 264\, Afdeling 4e klasse K
DTSTART:20241106T200000
DTEND:20241106T230000
LOCATION:City Resort Helmond
ATTACH;FMTTYPE=text/plain:https://hbb.rivio.dev/senioren/2024/wedstrijd/355
 78
END:VEVENT
BEGIN:VEVENT
UID:https://hbb.rivio.dev/senioren/2024/wedstrijd/35615
DTSTAMP:20260420T202428Z
SUMMARY:De Valken 5 - Phoenix 4
DESCRIPTION:Baan 13\, Wedstrijdnummer 268\, Afdeling 4e klasse K
DTSTART:20241127T200000
DTEND:20241127T230000
LOCATION:City Resort Helmond
ATTACH;FMTTYPE=text/plain:https://hbb.rivio.dev/senioren/2024/wedstrijd/356
 15
END:VEVENT
BEGIN:VEVENT
UID:https://hbb.rivio.dev/senioren/2024/wedstrijd/35672
DTSTAMP:20260420T202428Z
SUMMARY:Someren 4 - De Valken 5
DESCRIPTION:Baan 14\, Wedstrijdnummer 283\, Afdeling 4e klasse K
DTSTART:20241219T200000
DTEND:20241219T230000
LOCATION:City Resort Helmond
ATTACH;FMTTYPE=text/plain:https://hbb.rivio.dev/senioren/2024/wedstrijd/356
 72
END:VEVENT
BEGIN:VEVENT
UID:https://hbb.rivio.dev/senioren/2024/wedstrijd/35681
DTSTAMP:20260420T202428Z
SUMMARY:De Valken 5 - Heiakker 1
DESCRIPTION:Baan 13\, Wedstrijdnummer 285\, Afdeling 4e klasse K
DTSTART:20250109T200000
DTEND:20250109T230000
LOCATION:City Resort Helmond
ATTACH;FMTTYPE=text/plain:https://hbb.rivio.dev/senioren/2024/wedstrijd/356
 81
END:VEVENT
BEGIN:VEVENT
UID:https://hbb.rivio.dev/senioren/2024/wedstrijd/35710
DTSTAMP:20260420T202428Z
SUMMARY:Gemert 3 - De Valken 5
DESCRIPTION:Baan 15\, Wedstrijdnummer 294\, Afdeling 4e klasse K
DTSTART:20250122T200000
DTEND:20250122T230000
LOCATION:City Resort Helmond
ATTACH;FMTTYPE=text/plain:https://hbb.rivio.dev/senioren/2024/wedstrijd/357
 10
END:VEVENT
BEGIN:VEVENT
UID:https://hbb.rivio.dev/senioren/2024/wedstrijd/35766
DTSTAMP:20260420T202428Z
SUMMARY:De Valken 5 - Gemert 4
DESCRIPTION:Baan 15\, Wedstrijdnummer 298\, Afdeling 4e klasse K
DTSTART:20250212T200000
DTEND:20250212T230000
LOCATION:City Resort Helmond
ATTACH;FMTTYPE=text/plain:https://hbb.rivio.dev/senioren/2024/wedstrijd/357
 66
END:VEVENT
BEGIN:VEVENT
UID:https://hbb.rivio.dev/senioren/2024/wedstrijd/35782
DTSTAMP:20260420T202428Z
SUMMARY:Ganzeveer 4 - De Valken 5
DESCRIPTION:Baan 15\, Wedstrijdnummer 308\, Afdeling 4e klasse D
DTSTART:20250219T200000
DTEND:20250219T230000
LOCATION:City Resort Helmond
ATTACH;FMTTYPE=text/plain:https://hbb.rivio.dev/senioren/2024/wedstrijd/357
 82
END:VEVENT
BEGIN:VEVENT
UID:https://hbb.rivio.dev/senioren/2024/wedstrijd/35791
DTSTAMP:20260420T202428Z
SUMMARY:De Valken 5 - Someren 5
DESCRIPTION:Baan 14\, Wedstrijdnummer 310\, Afdeling 4e klasse K
DTSTART:20250313T200000
DTEND:20250313T230000
LOCATION:City Resort Helmond
ATTACH;FMTTYPE=text/plain:https://hbb.rivio.dev/senioren/2024/wedstrijd/357
 91
END:VEVENT
BEGIN:VEVENT
UID:https://hbb.rivio.dev/senioren/2024/wedstrijd/35955
DTSTAMP:20260420T202428Z
SUMMARY:De Valken 5 - Heeze 2
DESCRIPTION:Baan 13\, Wedstrijdnummer 2069\, Afdeling 4e klasse K
DTSTART:20250327T200000
DTEND:20250327T230000
LOCATION:City Resort Helmond
ATTACH;FMTTYPE=text/plain:https://hbb.rivio.dev/senioren/2024/wedstrijd/359
 55
END:VEVENT
BEGIN:VEVENT
UID:https://hbb.rivio.dev/senioren/2024/wedstrijd/35959
DTSTAMP:20260420T202428Z
SUMMARY:Gemert 3 - De Valken 5
DESCRIPTION:Baan 14\, Wedstrijdnummer 2075\, Afdeling 4e klasse K
DTSTART:20250402T200000
DTEND:20250402T230000
LOCATION:City Resort Helmond
ATTACH;FMTTYPE=text/plain:https://hbb.rivio.dev/senioren/2024/wedstrijd/359
 59
END:VEVENT
BEGIN:VEVENT
UID:https://hbb.rivio.dev/senioren/2024/wedstrijd/35965
DTSTAMP:20260420T202428Z
SUMMARY:Gemert 4 - De Valken 5
DESCRIPTION:Baan 15\, Wedstrijdnummer 2080\, Afdeling 4e klasse K
DTSTART:20250410T200000
DTEND:20250410T230000
LOCATION:City Resort Helmond
ATTACH;FMTTYPE=text/plain:https://hbb.rivio.dev/senioren/2024/wedstrijd/359
 65
END:VEVENT
BEGIN:VEVENT
UID:https://hbb.rivio.dev/senioren/2024/wedstrijd/35972
DTSTAMP:20260420T202428Z
SUMMARY:De Valken 5 - Someren 4
DESCRIPTION:Baan 11\, Wedstrijdnummer 2085\, Afdeling 4e klasse K
DTSTART:20250521T200000
DTEND:20250521T230000
LOCATION:City Resort Helmond
ATTACH;FMTTYPE=text/plain:https://hbb.rivio.dev/senioren/2024/wedstrijd/359
 72
END:VEVENT
BEGIN:VEVENT
UID:https://hbb.rivio.dev/senioren/2024/wedstrijd/35977
DTSTAMP:20260420T202428Z
SUMMARY:De Valken 5 - Mixed 5
DESCRIPTION:Baan 11\, Wedstrijdnummer 2092\, Afdeling 4e klasse K
DTSTART:20250528T200000
DTEND:20250528T230000
LOCATION:City Resort Helmond
ATTACH;FMTTYPE=text/plain:https://hbb.rivio.dev/senioren/2024/wedstrijd/359
 77
END:VEVENT
BEGIN:VTIMEZONE
TZID:Europe/Amsterdam
BEGIN:STANDARD
DTSTART:20240101T000000
TZNAME:CET
TZOFFSETTO:+0100
TZOFFSETFROM:+0100
END:STANDARD
BEGIN:DAYLIGHT
DTSTART:20240331T030000
TZNAME:CEST
TZOFFSETTO:+0200
TZOFFSETFROM:+0100
END:DAYLIGHT
BEGIN:STANDARD
DTSTART:20241027T020000
TZNAME:CET
TZOFFSETTO:+0100
TZOFFSETFROM:+0200
END:STANDARD
BEGIN:DAYLIGHT
DTSTART:20250330T030000
TZNAME:CEST
TZOFFSETTO:+0200
TZOFFSETFROM:+0100
END:DAYLIGHT
BEGIN:STANDARD
DTSTART:20251026T020000
TZNAME:CET
TZOFFSETTO:+0100
TZOFFSETFROM:+0200
END:STANDARD
END:VTIMEZONE
END:VCALENDAR
