BEGIN:VCALENDAR
PRODID:-//eluceo/ical//2.0/EN
VERSION:2.0
CALSCALE:GREGORIAN
BEGIN:VEVENT
UID:https://hbb.rivio.dev/senioren/2024/wedstrijd/35469
DTSTAMP:20260420T151539Z
SUMMARY:Hanevoet 1 - De Valken 4
DESCRIPTION:Baan 2\, Wedstrijdnummer 94\, Afdeling 2e klasse D
DTSTART:20240919T200000
DTEND:20240919T230000
LOCATION:City Resort Helmond
ATTACH;FMTTYPE=text/plain:https://hbb.rivio.dev/senioren/2024/wedstrijd/354
 69
END:VEVENT
BEGIN:VEVENT
UID:https://hbb.rivio.dev/senioren/2024/wedstrijd/35478
DTSTAMP:20260420T151539Z
SUMMARY:De Valken 4 - Mierlo 5
DESCRIPTION:Baan 2\, Wedstrijdnummer 101\, Afdeling 2e klasse D
DTSTART:20240925T200000
DTEND:20240925T230000
LOCATION:City Resort Helmond
ATTACH;FMTTYPE=text/plain:https://hbb.rivio.dev/senioren/2024/wedstrijd/354
 78
END:VEVENT
BEGIN:VEVENT
UID:https://hbb.rivio.dev/senioren/2024/wedstrijd/35509
DTSTAMP:20260420T151539Z
SUMMARY:ASML 2 - De Valken 4
DESCRIPTION:Baan 5\, Wedstrijdnummer 107\, Afdeling 2e klasse K
DTSTART:20241003T200000
DTEND:20241003T230000
LOCATION:City Resort Helmond
ATTACH;FMTTYPE=text/plain:https://hbb.rivio.dev/senioren/2024/wedstrijd/355
 09
END:VEVENT
BEGIN:VEVENT
UID:https://hbb.rivio.dev/senioren/2024/wedstrijd/35516
DTSTAMP:20260420T151539Z
SUMMARY:De Valken 4 - Mixed 3
DESCRIPTION:Baan 2\, Wedstrijdnummer 115\, Afdeling 2e klasse D
DTSTART:20241009T200000
DTEND:20241009T230000
LOCATION:City Resort Helmond
ATTACH;FMTTYPE=text/plain:https://hbb.rivio.dev/senioren/2024/wedstrijd/355
 16
END:VEVENT
BEGIN:VEVENT
UID:https://hbb.rivio.dev/senioren/2024/wedstrijd/35538
DTSTAMP:20260420T151539Z
SUMMARY:Phoenix 3 - De Valken 4
DESCRIPTION:Baan 5\, Wedstrijdnummer 117\, Afdeling 2e klasse D
DTSTART:20241016T200000
DTEND:20241016T230000
LOCATION:City Resort Helmond
ATTACH;FMTTYPE=text/plain:https://hbb.rivio.dev/senioren/2024/wedstrijd/355
 38
END:VEVENT
BEGIN:VEVENT
UID:https://hbb.rivio.dev/senioren/2024/wedstrijd/35568
DTSTAMP:20260420T151539Z
SUMMARY:De Valken 4 - Heeze 1
DESCRIPTION:Baan 11\, Wedstrijdnummer 126\, Afdeling 2e klasse D
DTSTART:20241031T200000
DTEND:20241031T230000
LOCATION:City Resort Helmond
ATTACH;FMTTYPE=text/plain:https://hbb.rivio.dev/senioren/2024/wedstrijd/355
 68
END:VEVENT
BEGIN:VEVENT
UID:https://hbb.rivio.dev/senioren/2024/wedstrijd/35585
DTSTAMP:20260420T151539Z
SUMMARY:Con Brio 2 - De Valken 4
DESCRIPTION:Baan 12\, Wedstrijdnummer 129\, Afdeling 2e klasse D
DTSTART:20241113T200000
DTEND:20241113T230000
LOCATION:City Resort Helmond
ATTACH;FMTTYPE=text/plain:https://hbb.rivio.dev/senioren/2024/wedstrijd/355
 85
END:VEVENT
BEGIN:VEVENT
UID:https://hbb.rivio.dev/senioren/2024/wedstrijd/35612
DTSTAMP:20260420T151539Z
SUMMARY:De Valken 4 - Gemert 1
DESCRIPTION:Baan 5\, Wedstrijdnummer 137\, Afdeling 2e klasse D
DTSTART:20241127T200000
DTEND:20241127T230000
LOCATION:City Resort Helmond
ATTACH;FMTTYPE=text/plain:https://hbb.rivio.dev/senioren/2024/wedstrijd/356
 12
END:VEVENT
BEGIN:VEVENT
UID:https://hbb.rivio.dev/senioren/2024/wedstrijd/35653
DTSTAMP:20260420T151539Z
SUMMARY:Bakel 4 - De Valken 4
DESCRIPTION:Baan 12\, Wedstrijdnummer 145\, Afdeling 2e klasse K
DTSTART:20241212T200000
DTEND:20241212T230000
LOCATION:City Resort Helmond
ATTACH;FMTTYPE=text/plain:https://hbb.rivio.dev/senioren/2024/wedstrijd/356
 53
END:VEVENT
BEGIN:VEVENT
UID:https://hbb.rivio.dev/senioren/2024/wedstrijd/35660
DTSTAMP:20260420T151539Z
SUMMARY:De Valken 4 - Ganzeveer 2
DESCRIPTION:Baan 5\, Wedstrijdnummer 149\, Afdeling 2e klasse D
DTSTART:20241218T200000
DTEND:20241218T230000
LOCATION:City Resort Helmond
ATTACH;FMTTYPE=text/plain:https://hbb.rivio.dev/senioren/2024/wedstrijd/356
 60
END:VEVENT
BEGIN:VEVENT
UID:https://hbb.rivio.dev/senioren/2024/wedstrijd/35698
DTSTAMP:20260420T151539Z
SUMMARY:Mixed 4 - De Valken 4
DESCRIPTION:Baan 12\, Wedstrijdnummer 153\, Afdeling 2e klasse K
DTSTART:20250116T200000
DTEND:20250116T230000
LOCATION:City Resort Helmond
ATTACH;FMTTYPE=text/plain:https://hbb.rivio.dev/senioren/2024/wedstrijd/356
 98
END:VEVENT
BEGIN:VEVENT
UID:https://hbb.rivio.dev/senioren/2024/wedstrijd/35740
DTSTAMP:20260420T151539Z
SUMMARY:De Valken 4 - Mierlo 6
DESCRIPTION:Baan 2\, Wedstrijdnummer 168\, Afdeling 2e klasse D
DTSTART:20250205T200000
DTEND:20250205T230000
LOCATION:City Resort Helmond
ATTACH;FMTTYPE=text/plain:https://hbb.rivio.dev/senioren/2024/wedstrijd/357
 40
END:VEVENT
BEGIN:VEVENT
UID:https://hbb.rivio.dev/senioren/2024/wedstrijd/35851
DTSTAMP:20260420T151539Z
SUMMARY:De Valken 4 - Ganzeveer 2
DESCRIPTION:Baan 12\, Wedstrijdnummer 2006\, Afdeling 2e klasse D
DTSTART:20250220T200000
DTEND:20250220T230000
LOCATION:City Resort Helmond
ATTACH;FMTTYPE=text/plain:https://hbb.rivio.dev/senioren/2024/wedstrijd/358
 51
END:VEVENT
BEGIN:VEVENT
UID:https://hbb.rivio.dev/senioren/2024/wedstrijd/35857
DTSTAMP:20260420T151539Z
SUMMARY:Hanevoet 1 - De Valken 4
DESCRIPTION:Baan 13\, Wedstrijdnummer 2012\, Afdeling 2e klasse D
DTSTART:20250313T200000
DTEND:20250313T230000
LOCATION:City Resort Helmond
ATTACH;FMTTYPE=text/plain:https://hbb.rivio.dev/senioren/2024/wedstrijd/358
 57
END:VEVENT
BEGIN:VEVENT
UID:https://hbb.rivio.dev/senioren/2024/wedstrijd/35868
DTSTAMP:20260420T151539Z
SUMMARY:Mierlo 6 - De Valken 4
DESCRIPTION:Baan 3\, Wedstrijdnummer 2023\, Afdeling 2e klasse D
DTSTART:20250327T200000
DTEND:20250327T230000
LOCATION:City Resort Helmond
ATTACH;FMTTYPE=text/plain:https://hbb.rivio.dev/senioren/2024/wedstrijd/358
 68
END:VEVENT
BEGIN:VEVENT
UID:https://hbb.rivio.dev/senioren/2024/wedstrijd/35871
DTSTAMP:20260420T151539Z
SUMMARY:Mierlo 5 - De Valken 4
DESCRIPTION:Baan 5\, Wedstrijdnummer 2028\, Afdeling 2e klasse D
DTSTART:20250402T200000
DTEND:20250402T230000
LOCATION:City Resort Helmond
ATTACH;FMTTYPE=text/plain:https://hbb.rivio.dev/senioren/2024/wedstrijd/358
 71
END:VEVENT
BEGIN:VEVENT
UID:https://hbb.rivio.dev/senioren/2024/wedstrijd/35878
DTSTAMP:20260420T151539Z
SUMMARY:De Valken 4 - Con Brio 2
DESCRIPTION:Baan 11\, Wedstrijdnummer 2032\, Afdeling 2e klasse D
DTSTART:20250515T200000
DTEND:20250515T230000
LOCATION:City Resort Helmond
ATTACH;FMTTYPE=text/plain:https://hbb.rivio.dev/senioren/2024/wedstrijd/358
 78
END:VEVENT
BEGIN:VEVENT
UID:https://hbb.rivio.dev/senioren/2024/wedstrijd/35880
DTSTAMP:20260420T151539Z
SUMMARY:De Valken 4 - Phoenix 3
DESCRIPTION:Baan 2\, Wedstrijdnummer 2035\, Afdeling 2e klasse D
DTSTART:20250522T200000
DTEND:20250522T230000
LOCATION:City Resort Helmond
ATTACH;FMTTYPE=text/plain:https://hbb.rivio.dev/senioren/2024/wedstrijd/358
 80
END:VEVENT
BEGIN:VTIMEZONE
TZID:Europe/Amsterdam
BEGIN:STANDARD
DTSTART:20240101T000000
TZNAME:CET
TZOFFSETTO:+0100
TZOFFSETFROM:+0100
END:STANDARD
BEGIN:DAYLIGHT
DTSTART:20240331T030000
TZNAME:CEST
TZOFFSETTO:+0200
TZOFFSETFROM:+0100
END:DAYLIGHT
BEGIN:STANDARD
DTSTART:20241027T020000
TZNAME:CET
TZOFFSETTO:+0100
TZOFFSETFROM:+0200
END:STANDARD
BEGIN:DAYLIGHT
DTSTART:20250330T030000
TZNAME:CEST
TZOFFSETTO:+0200
TZOFFSETFROM:+0100
END:DAYLIGHT
BEGIN:STANDARD
DTSTART:20251026T020000
TZNAME:CET
TZOFFSETTO:+0100
TZOFFSETFROM:+0200
END:STANDARD
END:VTIMEZONE
END:VCALENDAR
