BEGIN:VCALENDAR
PRODID:-//eluceo/ical//2.0/EN
VERSION:2.0
CALSCALE:GREGORIAN
BEGIN:VEVENT
UID:https://hbb.rivio.dev/senioren/2024/wedstrijd/35549
DTSTAMP:20260420T120557Z
SUMMARY:RBC 1 - De Valken 3
DESCRIPTION:Baan 11\, Wedstrijdnummer 70\, Afdeling 1e klasse 
DTSTART:20241017T200000
DTEND:20241017T230000
LOCATION:City Resort Helmond
ATTACH;FMTTYPE=text/plain:https://hbb.rivio.dev/senioren/2024/wedstrijd/355
 49
END:VEVENT
BEGIN:VEVENT
UID:https://hbb.rivio.dev/senioren/2024/wedstrijd/35564
DTSTAMP:20260420T120557Z
SUMMARY:Smashing Bruang 1 - De Valken 3
DESCRIPTION:Baan 2\, Wedstrijdnummer 73\, Afdeling 1e klasse 
DTSTART:20241031T200000
DTEND:20241031T230000
LOCATION:City Resort Helmond
ATTACH;FMTTYPE=text/plain:https://hbb.rivio.dev/senioren/2024/wedstrijd/355
 64
END:VEVENT
BEGIN:VEVENT
UID:https://hbb.rivio.dev/senioren/2024/wedstrijd/35601
DTSTAMP:20260420T120557Z
SUMMARY:De Valken 3 - Eindhoven 1
DESCRIPTION:Baan 3\, Wedstrijdnummer 78\, Afdeling 1e klasse 
DTSTART:20241121T200000
DTEND:20241121T230000
LOCATION:City Resort Helmond
ATTACH;FMTTYPE=text/plain:https://hbb.rivio.dev/senioren/2024/wedstrijd/356
 01
END:VEVENT
BEGIN:VEVENT
UID:https://hbb.rivio.dev/senioren/2024/wedstrijd/35631
DTSTAMP:20260420T120557Z
SUMMARY:De Valken 3 - Phoenix 2
DESCRIPTION:Baan 5\, Wedstrijdnummer 83\, Afdeling 1e klasse 
DTSTART:20241204T200000
DTEND:20241204T230000
LOCATION:City Resort Helmond
ATTACH;FMTTYPE=text/plain:https://hbb.rivio.dev/senioren/2024/wedstrijd/356
 31
END:VEVENT
BEGIN:VEVENT
UID:https://hbb.rivio.dev/senioren/2024/wedstrijd/35638
DTSTAMP:20260420T120557Z
SUMMARY:De Valken 3 - Mierlo 4
DESCRIPTION:Baan 2\, Wedstrijdnummer 88\, Afdeling 1e klasse 
DTSTART:20241211T200000
DTEND:20241211T230000
LOCATION:City Resort Helmond
ATTACH;FMTTYPE=text/plain:https://hbb.rivio.dev/senioren/2024/wedstrijd/356
 38
END:VEVENT
BEGIN:VEVENT
UID:https://hbb.rivio.dev/senioren/2024/wedstrijd/35697
DTSTAMP:20260420T120557Z
SUMMARY:Someren 2 - De Valken 3
DESCRIPTION:Baan 11\, Wedstrijdnummer 92\, Afdeling 1e klasse 
DTSTART:20250116T200000
DTEND:20250116T230000
LOCATION:City Resort Helmond
ATTACH;FMTTYPE=text/plain:https://hbb.rivio.dev/senioren/2024/wedstrijd/356
 97
END:VEVENT
BEGIN:VEVENT
UID:https://hbb.rivio.dev/senioren/2024/wedstrijd/35751
DTSTAMP:20260420T120557Z
SUMMARY:De Valken 3 - RBC 1
DESCRIPTION:Baan 3\, Wedstrijdnummer 1070\, Afdeling 1e klasse 
DTSTART:20250206T200000
DTEND:20250206T230000
LOCATION:City Resort Helmond
ATTACH;FMTTYPE=text/plain:https://hbb.rivio.dev/senioren/2024/wedstrijd/357
 51
END:VEVENT
BEGIN:VEVENT
UID:https://hbb.rivio.dev/senioren/2024/wedstrijd/35770
DTSTAMP:20260420T120557Z
SUMMARY:De Valken 3 - Smashing Bruang 1
DESCRIPTION:Baan 4\, Wedstrijdnummer 1073\, Afdeling 1e klasse 
DTSTART:20250213T200000
DTEND:20250213T230000
LOCATION:City Resort Helmond
ATTACH;FMTTYPE=text/plain:https://hbb.rivio.dev/senioren/2024/wedstrijd/357
 70
END:VEVENT
BEGIN:VEVENT
UID:https://hbb.rivio.dev/senioren/2024/wedstrijd/35786
DTSTAMP:20260420T120557Z
SUMMARY:Eindhoven 1 - De Valken 3
DESCRIPTION:Baan 4\, Wedstrijdnummer 1078\, Afdeling 1e klasse 
DTSTART:20250220T200000
DTEND:20250220T230000
LOCATION:City Resort Helmond
ATTACH;FMTTYPE=text/plain:https://hbb.rivio.dev/senioren/2024/wedstrijd/357
 86
END:VEVENT
BEGIN:VEVENT
UID:https://hbb.rivio.dev/senioren/2024/wedstrijd/35805
DTSTAMP:20260420T120557Z
SUMMARY:Phoenix 2 - De Valken 3
DESCRIPTION:Baan 3\, Wedstrijdnummer 1083\, Afdeling 1e klasse 
DTSTART:20250402T200000
DTEND:20250402T230000
LOCATION:City Resort Helmond
ATTACH;FMTTYPE=text/plain:https://hbb.rivio.dev/senioren/2024/wedstrijd/358
 05
END:VEVENT
BEGIN:VEVENT
UID:https://hbb.rivio.dev/senioren/2024/wedstrijd/35814
DTSTAMP:20260420T120557Z
SUMMARY:Mierlo 4 - De Valken 3
DESCRIPTION:Baan 5\, Wedstrijdnummer 1088\, Afdeling 1e klasse 
DTSTART:20250409T200000
DTEND:20250409T230000
LOCATION:City Resort Helmond
ATTACH;FMTTYPE=text/plain:https://hbb.rivio.dev/senioren/2024/wedstrijd/358
 14
END:VEVENT
BEGIN:VEVENT
UID:https://hbb.rivio.dev/senioren/2024/wedstrijd/35833
DTSTAMP:20260420T120557Z
SUMMARY:De Valken 3 - Someren 2
DESCRIPTION:Baan 4\, Wedstrijdnummer 1092\, Afdeling 1e klasse 
DTSTART:20250521T200000
DTEND:20250521T230000
LOCATION:City Resort Helmond
ATTACH;FMTTYPE=text/plain:https://hbb.rivio.dev/senioren/2024/wedstrijd/358
 33
END:VEVENT
BEGIN:VTIMEZONE
TZID:Europe/Amsterdam
BEGIN:STANDARD
DTSTART:20240101T000000
TZNAME:CET
TZOFFSETTO:+0100
TZOFFSETFROM:+0100
END:STANDARD
BEGIN:DAYLIGHT
DTSTART:20240331T030000
TZNAME:CEST
TZOFFSETTO:+0200
TZOFFSETFROM:+0100
END:DAYLIGHT
BEGIN:STANDARD
DTSTART:20241027T020000
TZNAME:CET
TZOFFSETTO:+0100
TZOFFSETFROM:+0200
END:STANDARD
BEGIN:DAYLIGHT
DTSTART:20250330T030000
TZNAME:CEST
TZOFFSETTO:+0200
TZOFFSETFROM:+0100
END:DAYLIGHT
BEGIN:STANDARD
DTSTART:20251026T020000
TZNAME:CET
TZOFFSETTO:+0100
TZOFFSETFROM:+0200
END:STANDARD
END:VTIMEZONE
END:VCALENDAR
