BEGIN:VCALENDAR
PRODID:-//eluceo/ical//2.0/EN
VERSION:2.0
CALSCALE:GREGORIAN
BEGIN:VEVENT
UID:https://hbb.rivio.dev/senioren/2024/wedstrijd/35476
DTSTAMP:20260420T165428Z
SUMMARY:De Valken 2 - Mixed 2
DESCRIPTION:Baan 15\, Wedstrijdnummer 31\, Afdeling Hoofdklasse 
DTSTART:20240919T200000
DTEND:20240919T230000
LOCATION:City Resort Helmond
ATTACH;FMTTYPE=text/plain:https://hbb.rivio.dev/senioren/2024/wedstrijd/354
 76
END:VEVENT
BEGIN:VEVENT
UID:https://hbb.rivio.dev/senioren/2024/wedstrijd/35511
DTSTAMP:20260420T165428Z
SUMMARY:Mierlo 3 - De Valken 2
DESCRIPTION:Baan 12\, Wedstrijdnummer 35\, Afdeling Hoofdklasse 
DTSTART:20241003T200000
DTEND:20241003T230000
LOCATION:City Resort Helmond
ATTACH;FMTTYPE=text/plain:https://hbb.rivio.dev/senioren/2024/wedstrijd/355
 11
END:VEVENT
BEGIN:VEVENT
UID:https://hbb.rivio.dev/senioren/2024/wedstrijd/35547
DTSTAMP:20260420T165428Z
SUMMARY:De Valken 2 - Bakel 3
DESCRIPTION:Baan 4\, Wedstrijdnummer 39\, Afdeling Hoofdklasse 
DTSTART:20241017T200000
DTEND:20241017T230000
LOCATION:City Resort Helmond
ATTACH;FMTTYPE=text/plain:https://hbb.rivio.dev/senioren/2024/wedstrijd/355
 47
END:VEVENT
BEGIN:VEVENT
UID:https://hbb.rivio.dev/senioren/2024/wedstrijd/35584
DTSTAMP:20260420T165428Z
SUMMARY:Geldrop 1 - De Valken 2
DESCRIPTION:Baan 5\, Wedstrijdnummer 44\, Afdeling Hoofdklasse 
DTSTART:20241113T200000
DTEND:20241113T230000
LOCATION:City Resort Helmond
ATTACH;FMTTYPE=text/plain:https://hbb.rivio.dev/senioren/2024/wedstrijd/355
 84
END:VEVENT
BEGIN:VEVENT
UID:https://hbb.rivio.dev/senioren/2024/wedstrijd/35609
DTSTAMP:20260420T165428Z
SUMMARY:De Valken 2 - Ganzeveer 1
DESCRIPTION:Baan 2\, Wedstrijdnummer 47\, Afdeling Hoofdklasse 
DTSTART:20241127T200000
DTEND:20241127T230000
LOCATION:City Resort Helmond
ATTACH;FMTTYPE=text/plain:https://hbb.rivio.dev/senioren/2024/wedstrijd/356
 09
END:VEVENT
BEGIN:VEVENT
UID:https://hbb.rivio.dev/senioren/2024/wedstrijd/35628
DTSTAMP:20260420T165428Z
SUMMARY:'t Veertje 1 - De Valken 2
DESCRIPTION:Baan 2\, Wedstrijdnummer 49\, Afdeling Hoofdklasse 
DTSTART:20241204T200000
DTEND:20241204T230000
LOCATION:City Resort Helmond
ATTACH;FMTTYPE=text/plain:https://hbb.rivio.dev/senioren/2024/wedstrijd/356
 28
END:VEVENT
BEGIN:VEVENT
UID:https://hbb.rivio.dev/senioren/2024/wedstrijd/35675
DTSTAMP:20260420T165428Z
SUMMARY:Bakel 2 - De Valken 2
DESCRIPTION:Baan 2\, Wedstrijdnummer 58\, Afdeling Hoofdklasse 
DTSTART:20250109T200000
DTEND:20250109T230000
LOCATION:City Resort Helmond
ATTACH;FMTTYPE=text/plain:https://hbb.rivio.dev/senioren/2024/wedstrijd/356
 75
END:VEVENT
BEGIN:VEVENT
UID:https://hbb.rivio.dev/senioren/2024/wedstrijd/35718
DTSTAMP:20260420T165428Z
SUMMARY:De Valken 2 - Mierlo 2
DESCRIPTION:Baan 13\, Wedstrijdnummer 61\, Afdeling Hoofdklasse 
DTSTART:20250123T200000
DTEND:20250123T230000
LOCATION:City Resort Helmond
ATTACH;FMTTYPE=text/plain:https://hbb.rivio.dev/senioren/2024/wedstrijd/357
 18
END:VEVENT
BEGIN:VEVENT
UID:https://hbb.rivio.dev/senioren/2024/wedstrijd/35722
DTSTAMP:20260420T165428Z
SUMMARY:Mixed 2 - De Valken 2
DESCRIPTION:Baan 3\, Wedstrijdnummer 1031\, Afdeling Hoofdklasse 
DTSTART:20250129T200000
DTEND:20250129T230000
LOCATION:City Resort Helmond
ATTACH;FMTTYPE=text/plain:https://hbb.rivio.dev/senioren/2024/wedstrijd/357
 22
END:VEVENT
BEGIN:VEVENT
UID:https://hbb.rivio.dev/senioren/2024/wedstrijd/35775
DTSTAMP:20260420T165428Z
SUMMARY:De Valken 2 - Mierlo 3
DESCRIPTION:Baan 14\, Wedstrijdnummer 1035\, Afdeling Hoofdklasse 
DTSTART:20250213T200000
DTEND:20250213T230000
LOCATION:City Resort Helmond
ATTACH;FMTTYPE=text/plain:https://hbb.rivio.dev/senioren/2024/wedstrijd/357
 75
END:VEVENT
BEGIN:VEVENT
UID:https://hbb.rivio.dev/senioren/2024/wedstrijd/35790
DTSTAMP:20260420T165428Z
SUMMARY:Bakel 3 - De Valken 2
DESCRIPTION:Baan 2\, Wedstrijdnummer 1039\, Afdeling Hoofdklasse 
DTSTART:20250313T200000
DTEND:20250313T230000
LOCATION:City Resort Helmond
ATTACH;FMTTYPE=text/plain:https://hbb.rivio.dev/senioren/2024/wedstrijd/357
 90
END:VEVENT
BEGIN:VEVENT
UID:https://hbb.rivio.dev/senioren/2024/wedstrijd/35796
DTSTAMP:20260420T165428Z
SUMMARY:De Valken 2 - Geldrop 1
DESCRIPTION:Baan 4\, Wedstrijdnummer 1044\, Afdeling Hoofdklasse 
DTSTART:20250319T200000
DTEND:20250319T230000
LOCATION:City Resort Helmond
ATTACH;FMTTYPE=text/plain:https://hbb.rivio.dev/senioren/2024/wedstrijd/357
 96
END:VEVENT
BEGIN:VEVENT
UID:https://hbb.rivio.dev/senioren/2024/wedstrijd/35803
DTSTAMP:20260420T165428Z
SUMMARY:Ganzeveer 1 - De Valken 2
DESCRIPTION:Baan 1\, Wedstrijdnummer 1047\, Afdeling Hoofdklasse 
DTSTART:20250402T200000
DTEND:20250402T230000
LOCATION:City Resort Helmond
ATTACH;FMTTYPE=text/plain:https://hbb.rivio.dev/senioren/2024/wedstrijd/358
 03
END:VEVENT
BEGIN:VEVENT
UID:https://hbb.rivio.dev/senioren/2024/wedstrijd/35811
DTSTAMP:20260420T165428Z
SUMMARY:De Valken 2 - 't Veertje 1
DESCRIPTION:Baan 2\, Wedstrijdnummer 1049\, Afdeling Hoofdklasse 
DTSTART:20250409T200000
DTEND:20250409T230000
LOCATION:City Resort Helmond
ATTACH;FMTTYPE=text/plain:https://hbb.rivio.dev/senioren/2024/wedstrijd/358
 11
END:VEVENT
BEGIN:VEVENT
UID:https://hbb.rivio.dev/senioren/2024/wedstrijd/35827
DTSTAMP:20260420T165428Z
SUMMARY:De Valken 2 - Bakel 2
DESCRIPTION:Baan 1\, Wedstrijdnummer 1058\, Afdeling Hoofdklasse 
DTSTART:20250515T200000
DTEND:20250515T230000
LOCATION:City Resort Helmond
ATTACH;FMTTYPE=text/plain:https://hbb.rivio.dev/senioren/2024/wedstrijd/358
 27
END:VEVENT
BEGIN:VEVENT
UID:https://hbb.rivio.dev/senioren/2024/wedstrijd/35834
DTSTAMP:20260420T165428Z
SUMMARY:Mierlo 2 - De Valken 2
DESCRIPTION:Baan 1\, Wedstrijdnummer 1061\, Afdeling Hoofdklasse 
DTSTART:20250528T200000
DTEND:20250528T230000
LOCATION:City Resort Helmond
ATTACH;FMTTYPE=text/plain:https://hbb.rivio.dev/senioren/2024/wedstrijd/358
 34
END:VEVENT
BEGIN:VTIMEZONE
TZID:Europe/Amsterdam
BEGIN:STANDARD
DTSTART:20240101T000000
TZNAME:CET
TZOFFSETTO:+0100
TZOFFSETFROM:+0100
END:STANDARD
BEGIN:DAYLIGHT
DTSTART:20240331T030000
TZNAME:CEST
TZOFFSETTO:+0200
TZOFFSETFROM:+0100
END:DAYLIGHT
BEGIN:STANDARD
DTSTART:20241027T020000
TZNAME:CET
TZOFFSETTO:+0100
TZOFFSETFROM:+0200
END:STANDARD
BEGIN:DAYLIGHT
DTSTART:20250330T030000
TZNAME:CEST
TZOFFSETTO:+0200
TZOFFSETFROM:+0100
END:DAYLIGHT
BEGIN:STANDARD
DTSTART:20251026T020000
TZNAME:CET
TZOFFSETTO:+0100
TZOFFSETFROM:+0200
END:STANDARD
END:VTIMEZONE
END:VCALENDAR
