BEGIN:VCALENDAR
PRODID:-//eluceo/ical//2.0/EN
VERSION:2.0
CALSCALE:GREGORIAN
BEGIN:VEVENT
UID:https://hbb.rivio.dev/senioren/2024/wedstrijd/35466
DTSTAMP:20260420T103401Z
SUMMARY:Heeze 2 - Phoenix 4
DESCRIPTION:Baan 14\, Wedstrijdnummer 239\, Afdeling 4e klasse K
DTSTART:20240918T200000
DTEND:20240918T230000
LOCATION:City Resort Helmond
ATTACH;FMTTYPE=text/plain:https://hbb.rivio.dev/senioren/2024/wedstrijd/354
 66
END:VEVENT
BEGIN:VEVENT
UID:https://hbb.rivio.dev/senioren/2024/wedstrijd/35485
DTSTAMP:20260420T103401Z
SUMMARY:De Valken 5 - Heeze 2
DESCRIPTION:Baan 14\, Wedstrijdnummer 244\, Afdeling 4e klasse K
DTSTART:20240925T200000
DTEND:20240925T230000
LOCATION:City Resort Helmond
ATTACH;FMTTYPE=text/plain:https://hbb.rivio.dev/senioren/2024/wedstrijd/354
 85
END:VEVENT
BEGIN:VEVENT
UID:https://hbb.rivio.dev/senioren/2024/wedstrijd/35532
DTSTAMP:20260420T103401Z
SUMMARY:Heeze 2 - Someren 4
DESCRIPTION:Baan 13\, Wedstrijdnummer 250\, Afdeling 4e klasse K
DTSTART:20241010T200000
DTEND:20241010T230000
LOCATION:City Resort Helmond
ATTACH;FMTTYPE=text/plain:https://hbb.rivio.dev/senioren/2024/wedstrijd/355
 32
END:VEVENT
BEGIN:VEVENT
UID:https://hbb.rivio.dev/senioren/2024/wedstrijd/35552
DTSTAMP:20260420T103401Z
SUMMARY:Heiakker 1 - Heeze 2
DESCRIPTION:Baan 15\, Wedstrijdnummer 255\, Afdeling 4e klasse D
DTSTART:20241017T200000
DTEND:20241017T230000
LOCATION:City Resort Helmond
ATTACH;FMTTYPE=text/plain:https://hbb.rivio.dev/senioren/2024/wedstrijd/355
 52
END:VEVENT
BEGIN:VEVENT
UID:https://hbb.rivio.dev/senioren/2024/wedstrijd/35577
DTSTAMP:20260420T103401Z
SUMMARY:Heeze 2 - Gemert 3
DESCRIPTION:Baan 13\, Wedstrijdnummer 263\, Afdeling 4e klasse K
DTSTART:20241106T200000
DTEND:20241106T230000
LOCATION:City Resort Helmond
ATTACH;FMTTYPE=text/plain:https://hbb.rivio.dev/senioren/2024/wedstrijd/355
 77
END:VEVENT
BEGIN:VEVENT
UID:https://hbb.rivio.dev/senioren/2024/wedstrijd/35616
DTSTAMP:20260420T103401Z
SUMMARY:Gemert 4 - Heeze 2
DESCRIPTION:Baan 14\, Wedstrijdnummer 269\, Afdeling 4e klasse K
DTSTART:20241127T200000
DTEND:20241127T230000
LOCATION:City Resort Helmond
ATTACH;FMTTYPE=text/plain:https://hbb.rivio.dev/senioren/2024/wedstrijd/356
 16
END:VEVENT
BEGIN:VEVENT
UID:https://hbb.rivio.dev/senioren/2024/wedstrijd/35635
DTSTAMP:20260420T103401Z
SUMMARY:Heeze 2 - Ganzeveer 4
DESCRIPTION:Baan 14\, Wedstrijdnummer 276\, Afdeling 4e klasse K
DTSTART:20241204T200000
DTEND:20241204T230000
LOCATION:City Resort Helmond
ATTACH;FMTTYPE=text/plain:https://hbb.rivio.dev/senioren/2024/wedstrijd/356
 35
END:VEVENT
BEGIN:VEVENT
UID:https://hbb.rivio.dev/senioren/2024/wedstrijd/35673
DTSTAMP:20260420T103401Z
SUMMARY:Someren 5 - Heeze 2
DESCRIPTION:Baan 15\, Wedstrijdnummer 284\, Afdeling 4e klasse D
DTSTART:20241219T200000
DTEND:20241219T230000
LOCATION:City Resort Helmond
ATTACH;FMTTYPE=text/plain:https://hbb.rivio.dev/senioren/2024/wedstrijd/356
 73
END:VEVENT
BEGIN:VEVENT
UID:https://hbb.rivio.dev/senioren/2024/wedstrijd/35682
DTSTAMP:20260420T103401Z
SUMMARY:Heeze 2 - Mierlo 9
DESCRIPTION:Baan 14\, Wedstrijdnummer 288\, Afdeling 4e klasse K
DTSTART:20250109T200000
DTEND:20250109T230000
LOCATION:City Resort Helmond
ATTACH;FMTTYPE=text/plain:https://hbb.rivio.dev/senioren/2024/wedstrijd/356
 82
END:VEVENT
BEGIN:VEVENT
UID:https://hbb.rivio.dev/senioren/2024/wedstrijd/35760
DTSTAMP:20260420T103401Z
SUMMARY:Heeze 2 - BC '85 1
DESCRIPTION:Baan 3\, Wedstrijdnummer 305\, Afdeling 4e klasse K
DTSTART:20250212T200000
DTEND:20250212T230000
LOCATION:City Resort Helmond
ATTACH;FMTTYPE=text/plain:https://hbb.rivio.dev/senioren/2024/wedstrijd/357
 60
END:VEVENT
BEGIN:VEVENT
UID:https://hbb.rivio.dev/senioren/2024/wedstrijd/35788
DTSTAMP:20260420T103401Z
SUMMARY:Mixed 5 - Heeze 2
DESCRIPTION:Baan 15\, Wedstrijdnummer 314\, Afdeling 4e klasse K
DTSTART:20250220T200000
DTEND:20250220T230000
LOCATION:City Resort Helmond
ATTACH;FMTTYPE=text/plain:https://hbb.rivio.dev/senioren/2024/wedstrijd/357
 88
END:VEVENT
BEGIN:VEVENT
UID:https://hbb.rivio.dev/senioren/2024/wedstrijd/35955
DTSTAMP:20260420T103401Z
SUMMARY:De Valken 5 - Heeze 2
DESCRIPTION:Baan 13\, Wedstrijdnummer 2069\, Afdeling 4e klasse K
DTSTART:20250327T200000
DTEND:20250327T230000
LOCATION:City Resort Helmond
ATTACH;FMTTYPE=text/plain:https://hbb.rivio.dev/senioren/2024/wedstrijd/359
 55
END:VEVENT
BEGIN:VEVENT
UID:https://hbb.rivio.dev/senioren/2024/wedstrijd/35958
DTSTAMP:20260420T103401Z
SUMMARY:Mixed 5 - Heeze 2
DESCRIPTION:Baan 13\, Wedstrijdnummer 2074\, Afdeling 4e klasse K
DTSTART:20250402T200000
DTEND:20250402T230000
LOCATION:City Resort Helmond
ATTACH;FMTTYPE=text/plain:https://hbb.rivio.dev/senioren/2024/wedstrijd/359
 58
END:VEVENT
BEGIN:VEVENT
UID:https://hbb.rivio.dev/senioren/2024/wedstrijd/35964
DTSTAMP:20260420T103401Z
SUMMARY:Someren 4 - Heeze 2
DESCRIPTION:Baan 14\, Wedstrijdnummer 2079\, Afdeling 4e klasse K
DTSTART:20250410T200000
DTEND:20250410T230000
LOCATION:City Resort Helmond
ATTACH;FMTTYPE=text/plain:https://hbb.rivio.dev/senioren/2024/wedstrijd/359
 64
END:VEVENT
BEGIN:VEVENT
UID:https://hbb.rivio.dev/senioren/2024/wedstrijd/35974
DTSTAMP:20260420T103401Z
SUMMARY:Heeze 2 - Gemert 3
DESCRIPTION:Baan 14\, Wedstrijdnummer 2086\, Afdeling 4e klasse K
DTSTART:20250521T200000
DTEND:20250521T230000
LOCATION:City Resort Helmond
ATTACH;FMTTYPE=text/plain:https://hbb.rivio.dev/senioren/2024/wedstrijd/359
 74
END:VEVENT
BEGIN:VEVENT
UID:https://hbb.rivio.dev/senioren/2024/wedstrijd/35978
DTSTAMP:20260420T103401Z
SUMMARY:Heeze 2 - Gemert 4
DESCRIPTION:Baan 12\, Wedstrijdnummer 2093\, Afdeling 4e klasse K
DTSTART:20250528T200000
DTEND:20250528T230000
LOCATION:City Resort Helmond
ATTACH;FMTTYPE=text/plain:https://hbb.rivio.dev/senioren/2024/wedstrijd/359
 78
END:VEVENT
BEGIN:VTIMEZONE
TZID:Europe/Amsterdam
BEGIN:STANDARD
DTSTART:20240101T000000
TZNAME:CET
TZOFFSETTO:+0100
TZOFFSETFROM:+0100
END:STANDARD
BEGIN:DAYLIGHT
DTSTART:20240331T030000
TZNAME:CEST
TZOFFSETTO:+0200
TZOFFSETFROM:+0100
END:DAYLIGHT
BEGIN:STANDARD
DTSTART:20241027T020000
TZNAME:CET
TZOFFSETTO:+0100
TZOFFSETFROM:+0200
END:STANDARD
BEGIN:DAYLIGHT
DTSTART:20250330T030000
TZNAME:CEST
TZOFFSETTO:+0200
TZOFFSETFROM:+0100
END:DAYLIGHT
BEGIN:STANDARD
DTSTART:20251026T020000
TZNAME:CET
TZOFFSETTO:+0100
TZOFFSETFROM:+0200
END:STANDARD
END:VTIMEZONE
END:VCALENDAR
