BEGIN:VCALENDAR
PRODID:-//eluceo/ical//2.0/EN
VERSION:2.0
CALSCALE:GREGORIAN
BEGIN:VEVENT
UID:https://hbb.rivio.dev/senioren/2024/wedstrijd/35470
DTSTAMP:20260420T151809Z
SUMMARY:Heeze 1 - Bakel 4
DESCRIPTION:Baan 3\, Wedstrijdnummer 97\, Afdeling 2e klasse K
DTSTART:20240919T200000
DTEND:20240919T230000
LOCATION:City Resort Helmond
ATTACH;FMTTYPE=text/plain:https://hbb.rivio.dev/senioren/2024/wedstrijd/354
 70
END:VEVENT
BEGIN:VEVENT
UID:https://hbb.rivio.dev/senioren/2024/wedstrijd/35491
DTSTAMP:20260420T151809Z
SUMMARY:Mixed 4 - Heeze 1
DESCRIPTION:Baan 5\, Wedstrijdnummer 99\, Afdeling 2e klasse K
DTSTART:20240926T200000
DTEND:20240926T230000
LOCATION:City Resort Helmond
ATTACH;FMTTYPE=text/plain:https://hbb.rivio.dev/senioren/2024/wedstrijd/354
 91
END:VEVENT
BEGIN:VEVENT
UID:https://hbb.rivio.dev/senioren/2024/wedstrijd/35500
DTSTAMP:20260420T151809Z
SUMMARY:Heeze 1 - Mierlo 6
DESCRIPTION:Baan 5\, Wedstrijdnummer 109\, Afdeling 2e klasse K
DTSTART:20241002T200000
DTEND:20241002T230000
LOCATION:City Resort Helmond
ATTACH;FMTTYPE=text/plain:https://hbb.rivio.dev/senioren/2024/wedstrijd/355
 00
END:VEVENT
BEGIN:VEVENT
UID:https://hbb.rivio.dev/senioren/2024/wedstrijd/35529
DTSTAMP:20260420T151809Z
SUMMARY:Mierlo 5 - Heeze 1
DESCRIPTION:Baan 5\, Wedstrijdnummer 113\, Afdeling 2e klasse D
DTSTART:20241010T200000
DTEND:20241010T230000
LOCATION:City Resort Helmond
ATTACH;FMTTYPE=text/plain:https://hbb.rivio.dev/senioren/2024/wedstrijd/355
 29
END:VEVENT
BEGIN:VEVENT
UID:https://hbb.rivio.dev/senioren/2024/wedstrijd/35542
DTSTAMP:20260420T151809Z
SUMMARY:Heeze 1 - Mixed 3
DESCRIPTION:Baan 14\, Wedstrijdnummer 122\, Afdeling 2e klasse K
DTSTART:20241016T200000
DTEND:20241016T230000
LOCATION:City Resort Helmond
ATTACH;FMTTYPE=text/plain:https://hbb.rivio.dev/senioren/2024/wedstrijd/355
 42
END:VEVENT
BEGIN:VEVENT
UID:https://hbb.rivio.dev/senioren/2024/wedstrijd/35568
DTSTAMP:20260420T151809Z
SUMMARY:De Valken 4 - Heeze 1
DESCRIPTION:Baan 11\, Wedstrijdnummer 126\, Afdeling 2e klasse D
DTSTART:20241031T200000
DTEND:20241031T230000
LOCATION:City Resort Helmond
ATTACH;FMTTYPE=text/plain:https://hbb.rivio.dev/senioren/2024/wedstrijd/355
 68
END:VEVENT
BEGIN:VEVENT
UID:https://hbb.rivio.dev/senioren/2024/wedstrijd/35588
DTSTAMP:20260420T151809Z
SUMMARY:Gemert 1 - Heeze 1
DESCRIPTION:Baan 15\, Wedstrijdnummer 134\, Afdeling 2e klasse K
DTSTART:20241113T200000
DTEND:20241113T230000
LOCATION:City Resort Helmond
ATTACH;FMTTYPE=text/plain:https://hbb.rivio.dev/senioren/2024/wedstrijd/355
 88
END:VEVENT
BEGIN:VEVENT
UID:https://hbb.rivio.dev/senioren/2024/wedstrijd/35613
DTSTAMP:20260420T151809Z
SUMMARY:Heeze 1 - Ganzeveer 2
DESCRIPTION:Baan 11\, Wedstrijdnummer 140\, Afdeling 2e klasse K
DTSTART:20241127T200000
DTEND:20241127T230000
LOCATION:City Resort Helmond
ATTACH;FMTTYPE=text/plain:https://hbb.rivio.dev/senioren/2024/wedstrijd/356
 13
END:VEVENT
BEGIN:VEVENT
UID:https://hbb.rivio.dev/senioren/2024/wedstrijd/35678
DTSTAMP:20260420T151809Z
SUMMARY:Heeze 1 - Hanevoet 1
DESCRIPTION:Baan 5\, Wedstrijdnummer 151\, Afdeling 2e klasse K
DTSTART:20250109T200000
DTEND:20250109T230000
LOCATION:City Resort Helmond
ATTACH;FMTTYPE=text/plain:https://hbb.rivio.dev/senioren/2024/wedstrijd/356
 78
END:VEVENT
BEGIN:VEVENT
UID:https://hbb.rivio.dev/senioren/2024/wedstrijd/35686
DTSTAMP:20260420T151809Z
SUMMARY:ASML 2 - Heeze 1
DESCRIPTION:Baan 4\, Wedstrijdnummer 158\, Afdeling 2e klasse K
DTSTART:20250115T200000
DTEND:20250115T230000
LOCATION:City Resort Helmond
ATTACH;FMTTYPE=text/plain:https://hbb.rivio.dev/senioren/2024/wedstrijd/356
 86
END:VEVENT
BEGIN:VEVENT
UID:https://hbb.rivio.dev/senioren/2024/wedstrijd/35726
DTSTAMP:20260420T151809Z
SUMMARY:Heeze 1 - Phoenix 3
DESCRIPTION:Baan 13\, Wedstrijdnummer 163\, Afdeling 2e klasse K
DTSTART:20250129T200000
DTEND:20250129T230000
LOCATION:City Resort Helmond
ATTACH;FMTTYPE=text/plain:https://hbb.rivio.dev/senioren/2024/wedstrijd/357
 26
END:VEVENT
BEGIN:VEVENT
UID:https://hbb.rivio.dev/senioren/2024/wedstrijd/35742
DTSTAMP:20260420T151809Z
SUMMARY:Con Brio 2 - Heeze 1
DESCRIPTION:Baan 4\, Wedstrijdnummer 166\, Afdeling 2e klasse D
DTSTART:20250205T200000
DTEND:20250205T230000
LOCATION:City Resort Helmond
ATTACH;FMTTYPE=text/plain:https://hbb.rivio.dev/senioren/2024/wedstrijd/357
 42
END:VEVENT
BEGIN:VEVENT
UID:https://hbb.rivio.dev/senioren/2024/wedstrijd/35847
DTSTAMP:20260420T151809Z
SUMMARY:Heeze 1 - Bakel 4
DESCRIPTION:Baan 12\, Wedstrijdnummer 2001\, Afdeling 2e klasse K
DTSTART:20250219T200000
DTEND:20250219T230000
LOCATION:City Resort Helmond
ATTACH;FMTTYPE=text/plain:https://hbb.rivio.dev/senioren/2024/wedstrijd/358
 47
END:VEVENT
BEGIN:VEVENT
UID:https://hbb.rivio.dev/senioren/2024/wedstrijd/35852
DTSTAMP:20260420T151809Z
SUMMARY:Mixed 4 - Heeze 1
DESCRIPTION:Baan 3\, Wedstrijdnummer 2007\, Afdeling 2e klasse K
DTSTART:20250313T200000
DTEND:20250313T230000
LOCATION:City Resort Helmond
ATTACH;FMTTYPE=text/plain:https://hbb.rivio.dev/senioren/2024/wedstrijd/358
 52
END:VEVENT
BEGIN:VEVENT
UID:https://hbb.rivio.dev/senioren/2024/wedstrijd/35861
DTSTAMP:20260420T151809Z
SUMMARY:Heeze 1 - Mixed 3
DESCRIPTION:Baan 5\, Wedstrijdnummer 2013\, Afdeling 2e klasse K
DTSTART:20250320T200000
DTEND:20250320T230000
LOCATION:City Resort Helmond
ATTACH;FMTTYPE=text/plain:https://hbb.rivio.dev/senioren/2024/wedstrijd/358
 61
END:VEVENT
BEGIN:VEVENT
UID:https://hbb.rivio.dev/senioren/2024/wedstrijd/35864
DTSTAMP:20260420T151809Z
SUMMARY:ASML 2 - Heeze 1
DESCRIPTION:Baan 2\, Wedstrijdnummer 2019\, Afdeling 2e klasse K
DTSTART:20250326T200000
DTEND:20250326T230000
LOCATION:City Resort Helmond
ATTACH;FMTTYPE=text/plain:https://hbb.rivio.dev/senioren/2024/wedstrijd/358
 64
END:VEVENT
BEGIN:VEVENT
UID:https://hbb.rivio.dev/senioren/2024/wedstrijd/35874
DTSTAMP:20260420T151809Z
SUMMARY:Heeze 1 - Gemert 1
DESCRIPTION:Baan 12\, Wedstrijdnummer 2025\, Afdeling 2e klasse K
DTSTART:20250403T200000
DTEND:20250403T230000
LOCATION:City Resort Helmond
ATTACH;FMTTYPE=text/plain:https://hbb.rivio.dev/senioren/2024/wedstrijd/358
 74
END:VEVENT
BEGIN:VTIMEZONE
TZID:Europe/Amsterdam
BEGIN:STANDARD
DTSTART:20240101T000000
TZNAME:CET
TZOFFSETTO:+0100
TZOFFSETFROM:+0100
END:STANDARD
BEGIN:DAYLIGHT
DTSTART:20240331T030000
TZNAME:CEST
TZOFFSETTO:+0200
TZOFFSETFROM:+0100
END:DAYLIGHT
BEGIN:STANDARD
DTSTART:20241027T020000
TZNAME:CET
TZOFFSETTO:+0100
TZOFFSETFROM:+0200
END:STANDARD
BEGIN:DAYLIGHT
DTSTART:20250330T030000
TZNAME:CEST
TZOFFSETTO:+0200
TZOFFSETFROM:+0100
END:DAYLIGHT
BEGIN:STANDARD
DTSTART:20251026T020000
TZNAME:CET
TZOFFSETTO:+0100
TZOFFSETFROM:+0200
END:STANDARD
END:VTIMEZONE
END:VCALENDAR
