BEGIN:VCALENDAR
PRODID:-//eluceo/ical//2.0/EN
VERSION:2.0
CALSCALE:GREGORIAN
BEGIN:VEVENT
UID:https://hbb.rivio.dev/senioren/2024/wedstrijd/35461
DTSTAMP:20260420T220426Z
SUMMARY:Ganzeveer 2 - Phoenix 3
DESCRIPTION:Baan 4\, Wedstrijdnummer 95\, Afdeling 2e klasse D
DTSTART:20240918T200000
DTEND:20240918T230000
LOCATION:City Resort Helmond
ATTACH;FMTTYPE=text/plain:https://hbb.rivio.dev/senioren/2024/wedstrijd/354
 61
END:VEVENT
BEGIN:VEVENT
UID:https://hbb.rivio.dev/senioren/2024/wedstrijd/35480
DTSTAMP:20260420T220426Z
SUMMARY:Con Brio 2 - Ganzeveer 2
DESCRIPTION:Baan 4\, Wedstrijdnummer 100\, Afdeling 2e klasse D
DTSTART:20240925T200000
DTEND:20240925T230000
LOCATION:City Resort Helmond
ATTACH;FMTTYPE=text/plain:https://hbb.rivio.dev/senioren/2024/wedstrijd/354
 80
END:VEVENT
BEGIN:VEVENT
UID:https://hbb.rivio.dev/senioren/2024/wedstrijd/35503
DTSTAMP:20260420T220426Z
SUMMARY:Ganzeveer 2 - Bakel 4
DESCRIPTION:Baan 14\, Wedstrijdnummer 106\, Afdeling 2e klasse D
DTSTART:20241002T200000
DTEND:20241002T230000
LOCATION:City Resort Helmond
ATTACH;FMTTYPE=text/plain:https://hbb.rivio.dev/senioren/2024/wedstrijd/355
 03
END:VEVENT
BEGIN:VEVENT
UID:https://hbb.rivio.dev/senioren/2024/wedstrijd/35519
DTSTAMP:20260420T220426Z
SUMMARY:Mixed 4 - Ganzeveer 2
DESCRIPTION:Baan 5\, Wedstrijdnummer 111\, Afdeling 2e klasse K
DTSTART:20241009T200000
DTEND:20241009T230000
LOCATION:City Resort Helmond
ATTACH;FMTTYPE=text/plain:https://hbb.rivio.dev/senioren/2024/wedstrijd/355
 19
END:VEVENT
BEGIN:VEVENT
UID:https://hbb.rivio.dev/senioren/2024/wedstrijd/35539
DTSTAMP:20260420T220426Z
SUMMARY:Ganzeveer 2 - Mierlo 6
DESCRIPTION:Baan 11\, Wedstrijdnummer 119\, Afdeling 2e klasse D
DTSTART:20241016T200000
DTEND:20241016T230000
LOCATION:City Resort Helmond
ATTACH;FMTTYPE=text/plain:https://hbb.rivio.dev/senioren/2024/wedstrijd/355
 39
END:VEVENT
BEGIN:VEVENT
UID:https://hbb.rivio.dev/senioren/2024/wedstrijd/35555
DTSTAMP:20260420T220426Z
SUMMARY:Mierlo 5 - Ganzeveer 2
DESCRIPTION:Baan 3\, Wedstrijdnummer 125\, Afdeling 2e klasse D
DTSTART:20241030T200000
DTEND:20241030T230000
LOCATION:City Resort Helmond
ATTACH;FMTTYPE=text/plain:https://hbb.rivio.dev/senioren/2024/wedstrijd/355
 55
END:VEVENT
BEGIN:VEVENT
UID:https://hbb.rivio.dev/senioren/2024/wedstrijd/35587
DTSTAMP:20260420T220427Z
SUMMARY:Ganzeveer 2 - Mixed 3
DESCRIPTION:Baan 14\, Wedstrijdnummer 132\, Afdeling 2e klasse D
DTSTART:20241113T200000
DTEND:20241113T230000
LOCATION:City Resort Helmond
ATTACH;FMTTYPE=text/plain:https://hbb.rivio.dev/senioren/2024/wedstrijd/355
 87
END:VEVENT
BEGIN:VEVENT
UID:https://hbb.rivio.dev/senioren/2024/wedstrijd/35613
DTSTAMP:20260420T220427Z
SUMMARY:Heeze 1 - Ganzeveer 2
DESCRIPTION:Baan 11\, Wedstrijdnummer 140\, Afdeling 2e klasse K
DTSTART:20241127T200000
DTEND:20241127T230000
LOCATION:City Resort Helmond
ATTACH;FMTTYPE=text/plain:https://hbb.rivio.dev/senioren/2024/wedstrijd/356
 13
END:VEVENT
BEGIN:VEVENT
UID:https://hbb.rivio.dev/senioren/2024/wedstrijd/35642
DTSTAMP:20260420T220427Z
SUMMARY:Ganzeveer 2 - Gemert 1
DESCRIPTION:Baan 11\, Wedstrijdnummer 144\, Afdeling 2e klasse D
DTSTART:20241211T200000
DTEND:20241211T230000
LOCATION:City Resort Helmond
ATTACH;FMTTYPE=text/plain:https://hbb.rivio.dev/senioren/2024/wedstrijd/356
 42
END:VEVENT
BEGIN:VEVENT
UID:https://hbb.rivio.dev/senioren/2024/wedstrijd/35660
DTSTAMP:20260420T220427Z
SUMMARY:De Valken 4 - Ganzeveer 2
DESCRIPTION:Baan 5\, Wedstrijdnummer 149\, Afdeling 2e klasse D
DTSTART:20241218T200000
DTEND:20241218T230000
LOCATION:City Resort Helmond
ATTACH;FMTTYPE=text/plain:https://hbb.rivio.dev/senioren/2024/wedstrijd/356
 60
END:VEVENT
BEGIN:VEVENT
UID:https://hbb.rivio.dev/senioren/2024/wedstrijd/35724
DTSTAMP:20260420T220427Z
SUMMARY:Ganzeveer 2 - Hanevoet 1
DESCRIPTION:Baan 11\, Wedstrijdnummer 161\, Afdeling 2e klasse D
DTSTART:20250129T200000
DTEND:20250129T230000
LOCATION:City Resort Helmond
ATTACH;FMTTYPE=text/plain:https://hbb.rivio.dev/senioren/2024/wedstrijd/357
 24
END:VEVENT
BEGIN:VEVENT
UID:https://hbb.rivio.dev/senioren/2024/wedstrijd/35741
DTSTAMP:20260420T220427Z
SUMMARY:ASML 2 - Ganzeveer 2
DESCRIPTION:Baan 3\, Wedstrijdnummer 170\, Afdeling 2e klasse K
DTSTART:20250205T200000
DTEND:20250205T230000
LOCATION:City Resort Helmond
ATTACH;FMTTYPE=text/plain:https://hbb.rivio.dev/senioren/2024/wedstrijd/357
 41
END:VEVENT
BEGIN:VEVENT
UID:https://hbb.rivio.dev/senioren/2024/wedstrijd/35851
DTSTAMP:20260420T220427Z
SUMMARY:De Valken 4 - Ganzeveer 2
DESCRIPTION:Baan 12\, Wedstrijdnummer 2006\, Afdeling 2e klasse D
DTSTART:20250220T200000
DTEND:20250220T230000
LOCATION:City Resort Helmond
ATTACH;FMTTYPE=text/plain:https://hbb.rivio.dev/senioren/2024/wedstrijd/358
 51
END:VEVENT
BEGIN:VEVENT
UID:https://hbb.rivio.dev/senioren/2024/wedstrijd/35856
DTSTAMP:20260420T220427Z
SUMMARY:Con Brio 2 - Ganzeveer 2
DESCRIPTION:Baan 12\, Wedstrijdnummer 2011\, Afdeling 2e klasse D
DTSTART:20250313T200000
DTEND:20250313T230000
LOCATION:City Resort Helmond
ATTACH;FMTTYPE=text/plain:https://hbb.rivio.dev/senioren/2024/wedstrijd/358
 56
END:VEVENT
BEGIN:VEVENT
UID:https://hbb.rivio.dev/senioren/2024/wedstrijd/35859
DTSTAMP:20260420T220427Z
SUMMARY:Phoenix 3 - Ganzeveer 2
DESCRIPTION:Baan 11\, Wedstrijdnummer 2017\, Afdeling 2e klasse D
DTSTART:20250319T200000
DTEND:20250319T230000
LOCATION:City Resort Helmond
ATTACH;FMTTYPE=text/plain:https://hbb.rivio.dev/senioren/2024/wedstrijd/358
 59
END:VEVENT
BEGIN:VEVENT
UID:https://hbb.rivio.dev/senioren/2024/wedstrijd/35867
DTSTAMP:20260420T220427Z
SUMMARY:Ganzeveer 2 - Mierlo 5
DESCRIPTION:Baan 2\, Wedstrijdnummer 2022\, Afdeling 2e klasse D
DTSTART:20250327T200000
DTEND:20250327T230000
LOCATION:City Resort Helmond
ATTACH;FMTTYPE=text/plain:https://hbb.rivio.dev/senioren/2024/wedstrijd/358
 67
END:VEVENT
BEGIN:VEVENT
UID:https://hbb.rivio.dev/senioren/2024/wedstrijd/35872
DTSTAMP:20260420T220427Z
SUMMARY:Ganzeveer 2 - Hanevoet 1
DESCRIPTION:Baan 11\, Wedstrijdnummer 2029\, Afdeling 2e klasse D
DTSTART:20250402T200000
DTEND:20250402T230000
LOCATION:City Resort Helmond
ATTACH;FMTTYPE=text/plain:https://hbb.rivio.dev/senioren/2024/wedstrijd/358
 72
END:VEVENT
BEGIN:VEVENT
UID:https://hbb.rivio.dev/senioren/2024/wedstrijd/35881
DTSTAMP:20260420T220427Z
SUMMARY:Ganzeveer 2 - Mierlo 6
DESCRIPTION:Baan 3\, Wedstrijdnummer 2036\, Afdeling 2e klasse D
DTSTART:20250522T200000
DTEND:20250522T230000
LOCATION:City Resort Helmond
ATTACH;FMTTYPE=text/plain:https://hbb.rivio.dev/senioren/2024/wedstrijd/358
 81
END:VEVENT
BEGIN:VTIMEZONE
TZID:Europe/Amsterdam
BEGIN:STANDARD
DTSTART:20240101T000000
TZNAME:CET
TZOFFSETTO:+0100
TZOFFSETFROM:+0100
END:STANDARD
BEGIN:DAYLIGHT
DTSTART:20240331T030000
TZNAME:CEST
TZOFFSETTO:+0200
TZOFFSETFROM:+0100
END:DAYLIGHT
BEGIN:STANDARD
DTSTART:20241027T020000
TZNAME:CET
TZOFFSETTO:+0100
TZOFFSETFROM:+0200
END:STANDARD
BEGIN:DAYLIGHT
DTSTART:20250330T030000
TZNAME:CEST
TZOFFSETTO:+0200
TZOFFSETFROM:+0100
END:DAYLIGHT
BEGIN:STANDARD
DTSTART:20251026T020000
TZNAME:CET
TZOFFSETTO:+0100
TZOFFSETFROM:+0200
END:STANDARD
END:VTIMEZONE
END:VCALENDAR
