BEGIN:VCALENDAR
PRODID:-//eluceo/ical//2.0/EN
VERSION:2.0
CALSCALE:GREGORIAN
BEGIN:VEVENT
UID:https://hbb.rivio.dev/senioren/2024/wedstrijd/35463
DTSTAMP:20260420T220601Z
SUMMARY:Geldrop 3 - Geldrop 2
DESCRIPTION:Baan 11\, Wedstrijdnummer 171\, Afdeling 3e klasse D
DTSTART:20240918T200000
DTEND:20240918T230000
LOCATION:City Resort Helmond
ATTACH;FMTTYPE=text/plain:https://hbb.rivio.dev/senioren/2024/wedstrijd/354
 63
END:VEVENT
BEGIN:VEVENT
UID:https://hbb.rivio.dev/senioren/2024/wedstrijd/35484
DTSTAMP:20260420T220601Z
SUMMARY:Geldrop 3 - Never Down 1
DESCRIPTION:Baan 13\, Wedstrijdnummer 182\, Afdeling 3e klasse D
DTSTART:20240925T200000
DTEND:20240925T230000
LOCATION:City Resort Helmond
ATTACH;FMTTYPE=text/plain:https://hbb.rivio.dev/senioren/2024/wedstrijd/354
 84
END:VEVENT
BEGIN:VEVENT
UID:https://hbb.rivio.dev/senioren/2024/wedstrijd/35522
DTSTAMP:20260420T220601Z
SUMMARY:Geldrop 3 - Someren 3
DESCRIPTION:Baan 13\, Wedstrijdnummer 188\, Afdeling 3e klasse D
DTSTART:20241009T200000
DTEND:20241009T230000
LOCATION:City Resort Helmond
ATTACH;FMTTYPE=text/plain:https://hbb.rivio.dev/senioren/2024/wedstrijd/355
 22
END:VEVENT
BEGIN:VEVENT
UID:https://hbb.rivio.dev/senioren/2024/wedstrijd/35559
DTSTAMP:20260420T220601Z
SUMMARY:Gemert 2 - Geldrop 3
DESCRIPTION:Baan 12\, Wedstrijdnummer 191\, Afdeling 3e klasse K
DTSTART:20241030T200000
DTEND:20241030T230000
LOCATION:City Resort Helmond
ATTACH;FMTTYPE=text/plain:https://hbb.rivio.dev/senioren/2024/wedstrijd/355
 59
END:VEVENT
BEGIN:VEVENT
UID:https://hbb.rivio.dev/senioren/2024/wedstrijd/35576
DTSTAMP:20260420T220601Z
SUMMARY:Veldhoven 1 - Geldrop 3
DESCRIPTION:Baan 11\, Wedstrijdnummer 199\, Afdeling 3e klasse D
DTSTART:20241106T200000
DTEND:20241106T230000
LOCATION:City Resort Helmond
ATTACH;FMTTYPE=text/plain:https://hbb.rivio.dev/senioren/2024/wedstrijd/355
 76
END:VEVENT
BEGIN:VEVENT
UID:https://hbb.rivio.dev/senioren/2024/wedstrijd/35604
DTSTAMP:20260420T220601Z
SUMMARY:RBC 2 - Geldrop 3
DESCRIPTION:Baan 11\, Wedstrijdnummer 202\, Afdeling 3e klasse K
DTSTART:20241121T200000
DTEND:20241121T230000
LOCATION:City Resort Helmond
ATTACH;FMTTYPE=text/plain:https://hbb.rivio.dev/senioren/2024/wedstrijd/356
 04
END:VEVENT
BEGIN:VEVENT
UID:https://hbb.rivio.dev/senioren/2024/wedstrijd/35645
DTSTAMP:20260420T220601Z
SUMMARY:Con Brio 3 - Geldrop 3
DESCRIPTION:Baan 14\, Wedstrijdnummer 212\, Afdeling 3e klasse D
DTSTART:20241211T200000
DTEND:20241211T230000
LOCATION:City Resort Helmond
ATTACH;FMTTYPE=text/plain:https://hbb.rivio.dev/senioren/2024/wedstrijd/356
 45
END:VEVENT
BEGIN:VEVENT
UID:https://hbb.rivio.dev/senioren/2024/wedstrijd/35707
DTSTAMP:20260420T220601Z
SUMMARY:Geldrop 3 - Ganzeveer 3
DESCRIPTION:Baan 12\, Wedstrijdnummer 224\, Afdeling 3e klasse D
DTSTART:20250122T200000
DTEND:20250122T230000
LOCATION:City Resort Helmond
ATTACH;FMTTYPE=text/plain:https://hbb.rivio.dev/senioren/2024/wedstrijd/357
 07
END:VEVENT
BEGIN:VEVENT
UID:https://hbb.rivio.dev/senioren/2024/wedstrijd/35745
DTSTAMP:20260420T220601Z
SUMMARY:Mierlo 7 - Geldrop 3
DESCRIPTION:Baan 12\, Wedstrijdnummer 226\, Afdeling 3e klasse K
DTSTART:20250205T200000
DTEND:20250205T230000
LOCATION:City Resort Helmond
ATTACH;FMTTYPE=text/plain:https://hbb.rivio.dev/senioren/2024/wedstrijd/357
 45
END:VEVENT
BEGIN:VEVENT
UID:https://hbb.rivio.dev/senioren/2024/wedstrijd/35761
DTSTAMP:20260420T220601Z
SUMMARY:Geldrop 3 - Mierlo 8
DESCRIPTION:Baan 5\, Wedstrijdnummer 231\, Afdeling 3e klasse D
DTSTART:20250212T200000
DTEND:20250212T230000
LOCATION:City Resort Helmond
ATTACH;FMTTYPE=text/plain:https://hbb.rivio.dev/senioren/2024/wedstrijd/357
 61
END:VEVENT
BEGIN:VEVENT
UID:https://hbb.rivio.dev/senioren/2024/wedstrijd/35926
DTSTAMP:20260420T220601Z
SUMMARY:Ganzeveer 3 - Geldrop 3
DESCRIPTION:Baan 14\, Wedstrijdnummer 2040\, Afdeling 3e klasse D
DTSTART:20250320T200000
DTEND:20250320T230000
LOCATION:City Resort Helmond
ATTACH;FMTTYPE=text/plain:https://hbb.rivio.dev/senioren/2024/wedstrijd/359
 26
END:VEVENT
BEGIN:VEVENT
UID:https://hbb.rivio.dev/senioren/2024/wedstrijd/35933
DTSTAMP:20260420T220601Z
SUMMARY:Geldrop 3 - Never Down 1
DESCRIPTION:Baan 12\, Wedstrijdnummer 2047\, Afdeling 3e klasse D
DTSTART:20250327T200000
DTEND:20250327T230000
LOCATION:City Resort Helmond
ATTACH;FMTTYPE=text/plain:https://hbb.rivio.dev/senioren/2024/wedstrijd/359
 33
END:VEVENT
BEGIN:VEVENT
UID:https://hbb.rivio.dev/senioren/2024/wedstrijd/35939
DTSTAMP:20260420T220601Z
SUMMARY:Geldrop 3 - Con Brio 3
DESCRIPTION:Baan 13\, Wedstrijdnummer 2054\, Afdeling 3e klasse D
DTSTART:20250410T200000
DTEND:20250410T230000
LOCATION:City Resort Helmond
ATTACH;FMTTYPE=text/plain:https://hbb.rivio.dev/senioren/2024/wedstrijd/359
 39
END:VEVENT
BEGIN:VEVENT
UID:https://hbb.rivio.dev/senioren/2024/wedstrijd/35946
DTSTAMP:20260420T220601Z
SUMMARY:Veldhoven 1 - Geldrop 3
DESCRIPTION:Baan 5\, Wedstrijdnummer 2065\, Afdeling 3e klasse D
DTSTART:20250522T200000
DTEND:20250522T230000
LOCATION:City Resort Helmond
ATTACH;FMTTYPE=text/plain:https://hbb.rivio.dev/senioren/2024/wedstrijd/359
 46
END:VEVENT
BEGIN:VTIMEZONE
TZID:Europe/Amsterdam
BEGIN:STANDARD
DTSTART:20240101T000000
TZNAME:CET
TZOFFSETTO:+0100
TZOFFSETFROM:+0100
END:STANDARD
BEGIN:DAYLIGHT
DTSTART:20240331T030000
TZNAME:CEST
TZOFFSETTO:+0200
TZOFFSETFROM:+0100
END:DAYLIGHT
BEGIN:STANDARD
DTSTART:20241027T020000
TZNAME:CET
TZOFFSETTO:+0100
TZOFFSETFROM:+0200
END:STANDARD
BEGIN:DAYLIGHT
DTSTART:20250330T030000
TZNAME:CEST
TZOFFSETTO:+0200
TZOFFSETFROM:+0100
END:DAYLIGHT
BEGIN:STANDARD
DTSTART:20251026T020000
TZNAME:CET
TZOFFSETTO:+0100
TZOFFSETFROM:+0200
END:STANDARD
END:VTIMEZONE
END:VCALENDAR
