BEGIN:VCALENDAR
PRODID:-//eluceo/ical//2.0/EN
VERSION:2.0
CALSCALE:GREGORIAN
BEGIN:VEVENT
UID:https://hbb.rivio.dev/senioren/2024/wedstrijd/35463
DTSTAMP:20260420T220422Z
SUMMARY:Geldrop 3 - Geldrop 2
DESCRIPTION:Baan 11\, Wedstrijdnummer 171\, Afdeling 3e klasse D
DTSTART:20240918T200000
DTEND:20240918T230000
LOCATION:City Resort Helmond
ATTACH;FMTTYPE=text/plain:https://hbb.rivio.dev/senioren/2024/wedstrijd/354
 63
END:VEVENT
BEGIN:VEVENT
UID:https://hbb.rivio.dev/senioren/2024/wedstrijd/35483
DTSTAMP:20260420T220422Z
SUMMARY:Geldrop 2 - Ganzeveer 3
DESCRIPTION:Baan 12\, Wedstrijdnummer 180\, Afdeling 3e klasse K
DTSTART:20240925T200000
DTEND:20240925T230000
LOCATION:City Resort Helmond
ATTACH;FMTTYPE=text/plain:https://hbb.rivio.dev/senioren/2024/wedstrijd/354
 83
END:VEVENT
BEGIN:VEVENT
UID:https://hbb.rivio.dev/senioren/2024/wedstrijd/35520
DTSTAMP:20260420T220422Z
SUMMARY:Geldrop 2 - Gemert 2
DESCRIPTION:Baan 11\, Wedstrijdnummer 184\, Afdeling 3e klasse K
DTSTART:20241009T200000
DTEND:20241009T230000
LOCATION:City Resort Helmond
ATTACH;FMTTYPE=text/plain:https://hbb.rivio.dev/senioren/2024/wedstrijd/355
 20
END:VEVENT
BEGIN:VEVENT
UID:https://hbb.rivio.dev/senioren/2024/wedstrijd/35557
DTSTAMP:20260420T220422Z
SUMMARY:Geldrop 2 - Mierlo 8
DESCRIPTION:Baan 5\, Wedstrijdnummer 194\, Afdeling 3e klasse K
DTSTART:20241030T200000
DTEND:20241030T230000
LOCATION:City Resort Helmond
ATTACH;FMTTYPE=text/plain:https://hbb.rivio.dev/senioren/2024/wedstrijd/355
 57
END:VEVENT
BEGIN:VEVENT
UID:https://hbb.rivio.dev/senioren/2024/wedstrijd/35595
DTSTAMP:20260420T220422Z
SUMMARY:RBC 2 - Geldrop 2
DESCRIPTION:Baan 12\, Wedstrijdnummer 196\, Afdeling 3e klasse K
DTSTART:20241114T200000
DTEND:20241114T230000
LOCATION:City Resort Helmond
ATTACH;FMTTYPE=text/plain:https://hbb.rivio.dev/senioren/2024/wedstrijd/355
 95
END:VEVENT
BEGIN:VEVENT
UID:https://hbb.rivio.dev/senioren/2024/wedstrijd/35603
DTSTAMP:20260420T220422Z
SUMMARY:Never Down 1 - Geldrop 2
DESCRIPTION:Baan 5\, Wedstrijdnummer 201\, Afdeling 3e klasse D
DTSTART:20241121T200000
DTEND:20241121T230000
LOCATION:City Resort Helmond
ATTACH;FMTTYPE=text/plain:https://hbb.rivio.dev/senioren/2024/wedstrijd/356
 03
END:VEVENT
BEGIN:VEVENT
UID:https://hbb.rivio.dev/senioren/2024/wedstrijd/35689
DTSTAMP:20260420T220422Z
SUMMARY:Geldrop 2 - Someren 3
DESCRIPTION:Baan 12\, Wedstrijdnummer 215\, Afdeling 3e klasse K
DTSTART:20250115T200000
DTEND:20250115T230000
LOCATION:City Resort Helmond
ATTACH;FMTTYPE=text/plain:https://hbb.rivio.dev/senioren/2024/wedstrijd/356
 89
END:VEVENT
BEGIN:VEVENT
UID:https://hbb.rivio.dev/senioren/2024/wedstrijd/35706
DTSTAMP:20260420T220422Z
SUMMARY:Veldhoven 1 - Geldrop 2
DESCRIPTION:Baan 11\, Wedstrijdnummer 223\, Afdeling 3e klasse D
DTSTART:20250122T200000
DTEND:20250122T230000
LOCATION:City Resort Helmond
ATTACH;FMTTYPE=text/plain:https://hbb.rivio.dev/senioren/2024/wedstrijd/357
 06
END:VEVENT
BEGIN:VEVENT
UID:https://hbb.rivio.dev/senioren/2024/wedstrijd/35747
DTSTAMP:20260420T220422Z
SUMMARY:Con Brio 3 - Geldrop 2
DESCRIPTION:Baan 14\, Wedstrijdnummer 228\, Afdeling 3e klasse D
DTSTART:20250205T200000
DTEND:20250205T230000
LOCATION:City Resort Helmond
ATTACH;FMTTYPE=text/plain:https://hbb.rivio.dev/senioren/2024/wedstrijd/357
 47
END:VEVENT
BEGIN:VEVENT
UID:https://hbb.rivio.dev/senioren/2024/wedstrijd/35763
DTSTAMP:20260420T220422Z
SUMMARY:Geldrop 2 - Mierlo 7
DESCRIPTION:Baan 12\, Wedstrijdnummer 234\, Afdeling 3e klasse K
DTSTART:20250212T200000
DTEND:20250212T230000
LOCATION:City Resort Helmond
ATTACH;FMTTYPE=text/plain:https://hbb.rivio.dev/senioren/2024/wedstrijd/357
 63
END:VEVENT
BEGIN:VEVENT
UID:https://hbb.rivio.dev/senioren/2024/wedstrijd/35923
DTSTAMP:20260420T220422Z
SUMMARY:Geldrop 2 - Someren 3
DESCRIPTION:Baan 14\, Wedstrijdnummer 2038\, Afdeling 3e klasse K
DTSTART:20250319T200000
DTEND:20250319T230000
LOCATION:City Resort Helmond
ATTACH;FMTTYPE=text/plain:https://hbb.rivio.dev/senioren/2024/wedstrijd/359
 23
END:VEVENT
BEGIN:VEVENT
UID:https://hbb.rivio.dev/senioren/2024/wedstrijd/35931
DTSTAMP:20260420T220422Z
SUMMARY:Geldrop 2 - Gemert 2
DESCRIPTION:Baan 5\, Wedstrijdnummer 2045\, Afdeling 3e klasse K
DTSTART:20250327T200000
DTEND:20250327T230000
LOCATION:City Resort Helmond
ATTACH;FMTTYPE=text/plain:https://hbb.rivio.dev/senioren/2024/wedstrijd/359
 31
END:VEVENT
BEGIN:VEVENT
UID:https://hbb.rivio.dev/senioren/2024/wedstrijd/35936
DTSTAMP:20260420T220422Z
SUMMARY:RBC 2 - Geldrop 2
DESCRIPTION:Baan 5\, Wedstrijdnummer 2051\, Afdeling 3e klasse K
DTSTART:20250410T200000
DTEND:20250410T230000
LOCATION:City Resort Helmond
ATTACH;FMTTYPE=text/plain:https://hbb.rivio.dev/senioren/2024/wedstrijd/359
 36
END:VEVENT
BEGIN:VEVENT
UID:https://hbb.rivio.dev/senioren/2024/wedstrijd/35941
DTSTAMP:20260420T220422Z
SUMMARY:Mierlo 8 - Geldrop 2
DESCRIPTION:Baan 12\, Wedstrijdnummer 2056\, Afdeling 3e klasse K
DTSTART:20250416T200000
DTEND:20250416T230000
LOCATION:City Resort Helmond
ATTACH;FMTTYPE=text/plain:https://hbb.rivio.dev/senioren/2024/wedstrijd/359
 41
END:VEVENT
BEGIN:VEVENT
UID:https://hbb.rivio.dev/senioren/2024/wedstrijd/35949
DTSTAMP:20260420T220422Z
SUMMARY:Mierlo 7 - Geldrop 2
DESCRIPTION:Baan 13\, Wedstrijdnummer 2061\, Afdeling 3e klasse K
DTSTART:20250522T200000
DTEND:20250522T230000
LOCATION:City Resort Helmond
ATTACH;FMTTYPE=text/plain:https://hbb.rivio.dev/senioren/2024/wedstrijd/359
 49
END:VEVENT
BEGIN:VTIMEZONE
TZID:Europe/Amsterdam
BEGIN:STANDARD
DTSTART:20240101T000000
TZNAME:CET
TZOFFSETTO:+0100
TZOFFSETFROM:+0100
END:STANDARD
BEGIN:DAYLIGHT
DTSTART:20240331T030000
TZNAME:CEST
TZOFFSETTO:+0200
TZOFFSETFROM:+0100
END:DAYLIGHT
BEGIN:STANDARD
DTSTART:20241027T020000
TZNAME:CET
TZOFFSETTO:+0100
TZOFFSETFROM:+0200
END:STANDARD
BEGIN:DAYLIGHT
DTSTART:20250330T030000
TZNAME:CEST
TZOFFSETTO:+0200
TZOFFSETFROM:+0100
END:DAYLIGHT
BEGIN:STANDARD
DTSTART:20251026T020000
TZNAME:CET
TZOFFSETTO:+0100
TZOFFSETFROM:+0200
END:STANDARD
END:VTIMEZONE
END:VCALENDAR
