BEGIN:VCALENDAR
PRODID:-//eluceo/ical//2.0/EN
VERSION:2.0
CALSCALE:GREGORIAN
BEGIN:VEVENT
UID:https://hbb.rivio.dev/senioren/2024/wedstrijd/35472
DTSTAMP:20260420T090408Z
SUMMARY:RBC 2 - Gemert 2
DESCRIPTION:Baan 5\, Wedstrijdnummer 172\, Afdeling 3e klasse K
DTSTART:20240919T200000
DTEND:20240919T230000
LOCATION:City Resort Helmond
ATTACH;FMTTYPE=text/plain:https://hbb.rivio.dev/senioren/2024/wedstrijd/354
 72
END:VEVENT
BEGIN:VEVENT
UID:https://hbb.rivio.dev/senioren/2024/wedstrijd/35513
DTSTAMP:20260420T090408Z
SUMMARY:Mierlo 7 - RBC 2
DESCRIPTION:Baan 14\, Wedstrijdnummer 178\, Afdeling 3e klasse K
DTSTART:20241003T200000
DTEND:20241003T230000
LOCATION:City Resort Helmond
ATTACH;FMTTYPE=text/plain:https://hbb.rivio.dev/senioren/2024/wedstrijd/355
 13
END:VEVENT
BEGIN:VEVENT
UID:https://hbb.rivio.dev/senioren/2024/wedstrijd/35530
DTSTAMP:20260420T090408Z
SUMMARY:RBC 2 - Never Down 1
DESCRIPTION:Baan 11\, Wedstrijdnummer 183\, Afdeling 3e klasse K
DTSTART:20241010T200000
DTEND:20241010T230000
LOCATION:City Resort Helmond
ATTACH;FMTTYPE=text/plain:https://hbb.rivio.dev/senioren/2024/wedstrijd/355
 30
END:VEVENT
BEGIN:VEVENT
UID:https://hbb.rivio.dev/senioren/2024/wedstrijd/35595
DTSTAMP:20260420T090408Z
SUMMARY:RBC 2 - Geldrop 2
DESCRIPTION:Baan 12\, Wedstrijdnummer 196\, Afdeling 3e klasse K
DTSTART:20241114T200000
DTEND:20241114T230000
LOCATION:City Resort Helmond
ATTACH;FMTTYPE=text/plain:https://hbb.rivio.dev/senioren/2024/wedstrijd/355
 95
END:VEVENT
BEGIN:VEVENT
UID:https://hbb.rivio.dev/senioren/2024/wedstrijd/35604
DTSTAMP:20260420T090408Z
SUMMARY:RBC 2 - Geldrop 3
DESCRIPTION:Baan 11\, Wedstrijdnummer 202\, Afdeling 3e klasse K
DTSTART:20241121T200000
DTEND:20241121T230000
LOCATION:City Resort Helmond
ATTACH;FMTTYPE=text/plain:https://hbb.rivio.dev/senioren/2024/wedstrijd/356
 04
END:VEVENT
BEGIN:VEVENT
UID:https://hbb.rivio.dev/senioren/2024/wedstrijd/35654
DTSTAMP:20260420T090408Z
SUMMARY:Someren 3 - RBC 2
DESCRIPTION:Baan 13\, Wedstrijdnummer 207\, Afdeling 3e klasse K
DTSTART:20241212T200000
DTEND:20241212T230000
LOCATION:City Resort Helmond
ATTACH;FMTTYPE=text/plain:https://hbb.rivio.dev/senioren/2024/wedstrijd/356
 54
END:VEVENT
BEGIN:VEVENT
UID:https://hbb.rivio.dev/senioren/2024/wedstrijd/35680
DTSTAMP:20260420T090408Z
SUMMARY:RBC 2 - Ganzeveer 3
DESCRIPTION:Baan 12\, Wedstrijdnummer 218\, Afdeling 3e klasse K
DTSTART:20250109T200000
DTEND:20250109T230000
LOCATION:City Resort Helmond
ATTACH;FMTTYPE=text/plain:https://hbb.rivio.dev/senioren/2024/wedstrijd/356
 80
END:VEVENT
BEGIN:VEVENT
UID:https://hbb.rivio.dev/senioren/2024/wedstrijd/35717
DTSTAMP:20260420T090408Z
SUMMARY:Mierlo 8 - RBC 2
DESCRIPTION:Baan 12\, Wedstrijdnummer 221\, Afdeling 3e klasse K
DTSTART:20250123T200000
DTEND:20250123T230000
LOCATION:City Resort Helmond
ATTACH;FMTTYPE=text/plain:https://hbb.rivio.dev/senioren/2024/wedstrijd/357
 17
END:VEVENT
BEGIN:VEVENT
UID:https://hbb.rivio.dev/senioren/2024/wedstrijd/35734
DTSTAMP:20260420T090408Z
SUMMARY:RBC 2 - Veldhoven 1
DESCRIPTION:Baan 11\, Wedstrijdnummer 229\, Afdeling 3e klasse K
DTSTART:20250130T200000
DTEND:20250130T230000
LOCATION:City Resort Helmond
ATTACH;FMTTYPE=text/plain:https://hbb.rivio.dev/senioren/2024/wedstrijd/357
 34
END:VEVENT
BEGIN:VEVENT
UID:https://hbb.rivio.dev/senioren/2024/wedstrijd/35773
DTSTAMP:20260420T090408Z
SUMMARY:Con Brio 3 - RBC 2
DESCRIPTION:Baan 12\, Wedstrijdnummer 236\, Afdeling 3e klasse D
DTSTART:20250213T200000
DTEND:20250213T230000
LOCATION:City Resort Helmond
ATTACH;FMTTYPE=text/plain:https://hbb.rivio.dev/senioren/2024/wedstrijd/357
 73
END:VEVENT
BEGIN:VEVENT
UID:https://hbb.rivio.dev/senioren/2024/wedstrijd/35922
DTSTAMP:20260420T090408Z
SUMMARY:Mierlo 7 - RBC 2
DESCRIPTION:Baan 13\, Wedstrijdnummer 2037\, Afdeling 3e klasse K
DTSTART:20250319T200000
DTEND:20250319T230000
LOCATION:City Resort Helmond
ATTACH;FMTTYPE=text/plain:https://hbb.rivio.dev/senioren/2024/wedstrijd/359
 22
END:VEVENT
BEGIN:VEVENT
UID:https://hbb.rivio.dev/senioren/2024/wedstrijd/35929
DTSTAMP:20260420T090408Z
SUMMARY:RBC 2 - Mierlo 8
DESCRIPTION:Baan 11\, Wedstrijdnummer 2044\, Afdeling 3e klasse K
DTSTART:20250326T200000
DTEND:20250326T230000
LOCATION:City Resort Helmond
ATTACH;FMTTYPE=text/plain:https://hbb.rivio.dev/senioren/2024/wedstrijd/359
 29
END:VEVENT
BEGIN:VEVENT
UID:https://hbb.rivio.dev/senioren/2024/wedstrijd/35936
DTSTAMP:20260420T090408Z
SUMMARY:RBC 2 - Geldrop 2
DESCRIPTION:Baan 5\, Wedstrijdnummer 2051\, Afdeling 3e klasse K
DTSTART:20250410T200000
DTEND:20250410T230000
LOCATION:City Resort Helmond
ATTACH;FMTTYPE=text/plain:https://hbb.rivio.dev/senioren/2024/wedstrijd/359
 36
END:VEVENT
BEGIN:VEVENT
UID:https://hbb.rivio.dev/senioren/2024/wedstrijd/35940
DTSTAMP:20260420T090408Z
SUMMARY:Someren 3 - RBC 2
DESCRIPTION:Baan 11\, Wedstrijdnummer 2057\, Afdeling 3e klasse K
DTSTART:20250416T200000
DTEND:20250416T230000
LOCATION:City Resort Helmond
ATTACH;FMTTYPE=text/plain:https://hbb.rivio.dev/senioren/2024/wedstrijd/359
 40
END:VEVENT
BEGIN:VEVENT
UID:https://hbb.rivio.dev/senioren/2024/wedstrijd/35950
DTSTAMP:20260420T090408Z
SUMMARY:Gemert 2 - RBC 2
DESCRIPTION:Baan 14\, Wedstrijdnummer 2062\, Afdeling 3e klasse K
DTSTART:20250522T200000
DTEND:20250522T230000
LOCATION:City Resort Helmond
ATTACH;FMTTYPE=text/plain:https://hbb.rivio.dev/senioren/2024/wedstrijd/359
 50
END:VEVENT
BEGIN:VTIMEZONE
TZID:Europe/Amsterdam
BEGIN:STANDARD
DTSTART:20240101T000000
TZNAME:CET
TZOFFSETTO:+0100
TZOFFSETFROM:+0100
END:STANDARD
BEGIN:DAYLIGHT
DTSTART:20240331T030000
TZNAME:CEST
TZOFFSETTO:+0200
TZOFFSETFROM:+0100
END:DAYLIGHT
BEGIN:STANDARD
DTSTART:20241027T020000
TZNAME:CET
TZOFFSETTO:+0100
TZOFFSETFROM:+0200
END:STANDARD
BEGIN:DAYLIGHT
DTSTART:20250330T030000
TZNAME:CEST
TZOFFSETTO:+0200
TZOFFSETFROM:+0100
END:DAYLIGHT
BEGIN:STANDARD
DTSTART:20251026T020000
TZNAME:CET
TZOFFSETTO:+0100
TZOFFSETFROM:+0200
END:STANDARD
END:VTIMEZONE
END:VCALENDAR
