BEGIN:VCALENDAR
PRODID:-//eluceo/ical//2.0/EN
VERSION:2.0
CALSCALE:GREGORIAN
BEGIN:VEVENT
UID:https://hbb.rivio.dev/senioren/2024/wedstrijd/35471
DTSTAMP:20260420T203246Z
SUMMARY:Mixed 3 - Mixed 4
DESCRIPTION:Baan 4\, Wedstrijdnummer 98\, Afdeling 2e klasse K
DTSTART:20240919T200000
DTEND:20240919T230000
LOCATION:City Resort Helmond
ATTACH;FMTTYPE=text/plain:https://hbb.rivio.dev/senioren/2024/wedstrijd/354
 71
END:VEVENT
BEGIN:VEVENT
UID:https://hbb.rivio.dev/senioren/2024/wedstrijd/35479
DTSTAMP:20260420T203246Z
SUMMARY:Mierlo 6 - Mixed 3
DESCRIPTION:Baan 3\, Wedstrijdnummer 102\, Afdeling 2e klasse D
DTSTART:20240925T200000
DTEND:20240925T230000
LOCATION:City Resort Helmond
ATTACH;FMTTYPE=text/plain:https://hbb.rivio.dev/senioren/2024/wedstrijd/354
 79
END:VEVENT
BEGIN:VEVENT
UID:https://hbb.rivio.dev/senioren/2024/wedstrijd/35512
DTSTAMP:20260420T203246Z
SUMMARY:Mixed 3 - Mierlo 5
DESCRIPTION:Baan 13\, Wedstrijdnummer 110\, Afdeling 2e klasse K
DTSTART:20241003T200000
DTEND:20241003T230000
LOCATION:City Resort Helmond
ATTACH;FMTTYPE=text/plain:https://hbb.rivio.dev/senioren/2024/wedstrijd/355
 12
END:VEVENT
BEGIN:VEVENT
UID:https://hbb.rivio.dev/senioren/2024/wedstrijd/35516
DTSTAMP:20260420T203246Z
SUMMARY:De Valken 4 - Mixed 3
DESCRIPTION:Baan 2\, Wedstrijdnummer 115\, Afdeling 2e klasse D
DTSTART:20241009T200000
DTEND:20241009T230000
LOCATION:City Resort Helmond
ATTACH;FMTTYPE=text/plain:https://hbb.rivio.dev/senioren/2024/wedstrijd/355
 16
END:VEVENT
BEGIN:VEVENT
UID:https://hbb.rivio.dev/senioren/2024/wedstrijd/35542
DTSTAMP:20260420T203246Z
SUMMARY:Heeze 1 - Mixed 3
DESCRIPTION:Baan 14\, Wedstrijdnummer 122\, Afdeling 2e klasse K
DTSTART:20241016T200000
DTEND:20241016T230000
LOCATION:City Resort Helmond
ATTACH;FMTTYPE=text/plain:https://hbb.rivio.dev/senioren/2024/wedstrijd/355
 42
END:VEVENT
BEGIN:VEVENT
UID:https://hbb.rivio.dev/senioren/2024/wedstrijd/35556
DTSTAMP:20260420T203246Z
SUMMARY:Mixed 3 - Gemert 1
DESCRIPTION:Baan 4\, Wedstrijdnummer 128\, Afdeling 2e klasse K
DTSTART:20241030T200000
DTEND:20241030T230000
LOCATION:City Resort Helmond
ATTACH;FMTTYPE=text/plain:https://hbb.rivio.dev/senioren/2024/wedstrijd/355
 56
END:VEVENT
BEGIN:VEVENT
UID:https://hbb.rivio.dev/senioren/2024/wedstrijd/35587
DTSTAMP:20260420T203246Z
SUMMARY:Ganzeveer 2 - Mixed 3
DESCRIPTION:Baan 14\, Wedstrijdnummer 132\, Afdeling 2e klasse D
DTSTART:20241113T200000
DTEND:20241113T230000
LOCATION:City Resort Helmond
ATTACH;FMTTYPE=text/plain:https://hbb.rivio.dev/senioren/2024/wedstrijd/355
 87
END:VEVENT
BEGIN:VEVENT
UID:https://hbb.rivio.dev/senioren/2024/wedstrijd/35652
DTSTAMP:20260420T203246Z
SUMMARY:Hanevoet 1 - Mixed 3
DESCRIPTION:Baan 11\, Wedstrijdnummer 143\, Afdeling 2e klasse D
DTSTART:20241212T200000
DTEND:20241212T230000
LOCATION:City Resort Helmond
ATTACH;FMTTYPE=text/plain:https://hbb.rivio.dev/senioren/2024/wedstrijd/356
 52
END:VEVENT
BEGIN:VEVENT
UID:https://hbb.rivio.dev/senioren/2024/wedstrijd/35662
DTSTAMP:20260420T203246Z
SUMMARY:Mixed 3 - ASML 2
DESCRIPTION:Baan 12\, Wedstrijdnummer 152\, Afdeling 2e klasse K
DTSTART:20241218T200000
DTEND:20241218T230000
LOCATION:City Resort Helmond
ATTACH;FMTTYPE=text/plain:https://hbb.rivio.dev/senioren/2024/wedstrijd/356
 62
END:VEVENT
BEGIN:VEVENT
UID:https://hbb.rivio.dev/senioren/2024/wedstrijd/35688
DTSTAMP:20260420T203246Z
SUMMARY:Phoenix 3 - Mixed 3
DESCRIPTION:Baan 11\, Wedstrijdnummer 155\, Afdeling 2e klasse D
DTSTART:20250115T200000
DTEND:20250115T230000
LOCATION:City Resort Helmond
ATTACH;FMTTYPE=text/plain:https://hbb.rivio.dev/senioren/2024/wedstrijd/356
 88
END:VEVENT
BEGIN:VEVENT
UID:https://hbb.rivio.dev/senioren/2024/wedstrijd/35727
DTSTAMP:20260420T203246Z
SUMMARY:Mixed 3 - Con Brio 2
DESCRIPTION:Baan 14\, Wedstrijdnummer 164\, Afdeling 2e klasse K
DTSTART:20250129T200000
DTEND:20250129T230000
LOCATION:City Resort Helmond
ATTACH;FMTTYPE=text/plain:https://hbb.rivio.dev/senioren/2024/wedstrijd/357
 27
END:VEVENT
BEGIN:VEVENT
UID:https://hbb.rivio.dev/senioren/2024/wedstrijd/35754
DTSTAMP:20260420T203246Z
SUMMARY:Bakel 4 - Mixed 3
DESCRIPTION:Baan 12\, Wedstrijdnummer 169\, Afdeling 2e klasse K
DTSTART:20250206T200000
DTEND:20250206T230000
LOCATION:City Resort Helmond
ATTACH;FMTTYPE=text/plain:https://hbb.rivio.dev/senioren/2024/wedstrijd/357
 54
END:VEVENT
BEGIN:VEVENT
UID:https://hbb.rivio.dev/senioren/2024/wedstrijd/35849
DTSTAMP:20260420T203246Z
SUMMARY:ASML 2 - Mixed 3
DESCRIPTION:Baan 5\, Wedstrijdnummer 2003\, Afdeling 2e klasse K
DTSTART:20250220T200000
DTEND:20250220T230000
LOCATION:City Resort Helmond
ATTACH;FMTTYPE=text/plain:https://hbb.rivio.dev/senioren/2024/wedstrijd/358
 49
END:VEVENT
BEGIN:VEVENT
UID:https://hbb.rivio.dev/senioren/2024/wedstrijd/35853
DTSTAMP:20260420T203246Z
SUMMARY:Bakel 4 - Mixed 3
DESCRIPTION:Baan 4\, Wedstrijdnummer 2008\, Afdeling 2e klasse K
DTSTART:20250313T200000
DTEND:20250313T230000
LOCATION:City Resort Helmond
ATTACH;FMTTYPE=text/plain:https://hbb.rivio.dev/senioren/2024/wedstrijd/358
 53
END:VEVENT
BEGIN:VEVENT
UID:https://hbb.rivio.dev/senioren/2024/wedstrijd/35861
DTSTAMP:20260420T203246Z
SUMMARY:Heeze 1 - Mixed 3
DESCRIPTION:Baan 5\, Wedstrijdnummer 2013\, Afdeling 2e klasse K
DTSTART:20250320T200000
DTEND:20250320T230000
LOCATION:City Resort Helmond
ATTACH;FMTTYPE=text/plain:https://hbb.rivio.dev/senioren/2024/wedstrijd/358
 61
END:VEVENT
BEGIN:VEVENT
UID:https://hbb.rivio.dev/senioren/2024/wedstrijd/35865
DTSTAMP:20260420T203247Z
SUMMARY:Mixed 3 - Gemert 1
DESCRIPTION:Baan 3\, Wedstrijdnummer 2020\, Afdeling 2e klasse K
DTSTART:20250326T200000
DTEND:20250326T230000
LOCATION:City Resort Helmond
ATTACH;FMTTYPE=text/plain:https://hbb.rivio.dev/senioren/2024/wedstrijd/358
 65
END:VEVENT
BEGIN:VEVENT
UID:https://hbb.rivio.dev/senioren/2024/wedstrijd/35873
DTSTAMP:20260420T203247Z
SUMMARY:Mixed 3 - Mixed 4
DESCRIPTION:Baan 11\, Wedstrijdnummer 2027\, Afdeling 2e klasse K
DTSTART:20250403T200000
DTEND:20250403T230000
LOCATION:City Resort Helmond
ATTACH;FMTTYPE=text/plain:https://hbb.rivio.dev/senioren/2024/wedstrijd/358
 73
END:VEVENT
BEGIN:VTIMEZONE
TZID:Europe/Amsterdam
BEGIN:STANDARD
DTSTART:20240101T000000
TZNAME:CET
TZOFFSETTO:+0100
TZOFFSETFROM:+0100
END:STANDARD
BEGIN:DAYLIGHT
DTSTART:20240331T030000
TZNAME:CEST
TZOFFSETTO:+0200
TZOFFSETFROM:+0100
END:DAYLIGHT
BEGIN:STANDARD
DTSTART:20241027T020000
TZNAME:CET
TZOFFSETTO:+0100
TZOFFSETFROM:+0200
END:STANDARD
BEGIN:DAYLIGHT
DTSTART:20250330T030000
TZNAME:CEST
TZOFFSETTO:+0200
TZOFFSETFROM:+0100
END:DAYLIGHT
BEGIN:STANDARD
DTSTART:20251026T020000
TZNAME:CET
TZOFFSETTO:+0100
TZOFFSETFROM:+0200
END:STANDARD
END:VTIMEZONE
END:VCALENDAR
