BEGIN:VCALENDAR
PRODID:-//eluceo/ical//2.0/EN
VERSION:2.0
CALSCALE:GREGORIAN
BEGIN:VEVENT
UID:https://hbb.rivio.dev/senioren/2024/wedstrijd/35476
DTSTAMP:20260420T220407Z
SUMMARY:De Valken 2 - Mixed 2
DESCRIPTION:Baan 15\, Wedstrijdnummer 31\, Afdeling Hoofdklasse 
DTSTART:20240919T200000
DTEND:20240919T230000
LOCATION:City Resort Helmond
ATTACH;FMTTYPE=text/plain:https://hbb.rivio.dev/senioren/2024/wedstrijd/354
 76
END:VEVENT
BEGIN:VEVENT
UID:https://hbb.rivio.dev/senioren/2024/wedstrijd/35498
DTSTAMP:20260420T220407Z
SUMMARY:Mixed 2 - 't Veertje 1
DESCRIPTION:Baan 3\, Wedstrijdnummer 34\, Afdeling Hoofdklasse 
DTSTART:20241002T200000
DTEND:20241002T230000
LOCATION:City Resort Helmond
ATTACH;FMTTYPE=text/plain:https://hbb.rivio.dev/senioren/2024/wedstrijd/354
 98
END:VEVENT
BEGIN:VEVENT
UID:https://hbb.rivio.dev/senioren/2024/wedstrijd/35537
DTSTAMP:20260420T220407Z
SUMMARY:Mierlo 3 - Mixed 2
DESCRIPTION:Baan 4\, Wedstrijdnummer 40\, Afdeling Hoofdklasse 
DTSTART:20241016T200000
DTEND:20241016T230000
LOCATION:City Resort Helmond
ATTACH;FMTTYPE=text/plain:https://hbb.rivio.dev/senioren/2024/wedstrijd/355
 37
END:VEVENT
BEGIN:VEVENT
UID:https://hbb.rivio.dev/senioren/2024/wedstrijd/35618
DTSTAMP:20260420T220407Z
SUMMARY:Bakel 3 - Mixed 2
DESCRIPTION:Baan 1\, Wedstrijdnummer 46\, Afdeling Hoofdklasse 
DTSTART:20241128T200000
DTEND:20241128T230000
LOCATION:City Resort Helmond
ATTACH;FMTTYPE=text/plain:https://hbb.rivio.dev/senioren/2024/wedstrijd/356
 18
END:VEVENT
BEGIN:VEVENT
UID:https://hbb.rivio.dev/senioren/2024/wedstrijd/35650
DTSTAMP:20260420T220407Z
SUMMARY:Mixed 2 - Bakel 2
DESCRIPTION:Baan 4\, Wedstrijdnummer 51\, Afdeling Hoofdklasse 
DTSTART:20241212T200000
DTEND:20241212T230000
LOCATION:City Resort Helmond
ATTACH;FMTTYPE=text/plain:https://hbb.rivio.dev/senioren/2024/wedstrijd/356
 50
END:VEVENT
BEGIN:VEVENT
UID:https://hbb.rivio.dev/senioren/2024/wedstrijd/35657
DTSTAMP:20260420T220407Z
SUMMARY:Geldrop 1 - Mixed 2
DESCRIPTION:Baan 2\, Wedstrijdnummer 56\, Afdeling Hoofdklasse 
DTSTART:20241218T200000
DTEND:20241218T230000
LOCATION:City Resort Helmond
ATTACH;FMTTYPE=text/plain:https://hbb.rivio.dev/senioren/2024/wedstrijd/356
 57
END:VEVENT
BEGIN:VEVENT
UID:https://hbb.rivio.dev/senioren/2024/wedstrijd/35684
DTSTAMP:20260420T220407Z
SUMMARY:Mierlo 2 - Mixed 2
DESCRIPTION:Baan 2\, Wedstrijdnummer 57\, Afdeling Hoofdklasse 
DTSTART:20250115T200000
DTEND:20250115T230000
LOCATION:City Resort Helmond
ATTACH;FMTTYPE=text/plain:https://hbb.rivio.dev/senioren/2024/wedstrijd/356
 84
END:VEVENT
BEGIN:VEVENT
UID:https://hbb.rivio.dev/senioren/2024/wedstrijd/35703
DTSTAMP:20260420T220407Z
SUMMARY:Mixed 2 - Ganzeveer 1
DESCRIPTION:Baan 3\, Wedstrijdnummer 62\, Afdeling Hoofdklasse 
DTSTART:20250122T200000
DTEND:20250122T230000
LOCATION:City Resort Helmond
ATTACH;FMTTYPE=text/plain:https://hbb.rivio.dev/senioren/2024/wedstrijd/357
 03
END:VEVENT
BEGIN:VEVENT
UID:https://hbb.rivio.dev/senioren/2024/wedstrijd/35722
DTSTAMP:20260420T220407Z
SUMMARY:Mixed 2 - De Valken 2
DESCRIPTION:Baan 3\, Wedstrijdnummer 1031\, Afdeling Hoofdklasse 
DTSTART:20250129T200000
DTEND:20250129T230000
LOCATION:City Resort Helmond
ATTACH;FMTTYPE=text/plain:https://hbb.rivio.dev/senioren/2024/wedstrijd/357
 22
END:VEVENT
BEGIN:VEVENT
UID:https://hbb.rivio.dev/senioren/2024/wedstrijd/35759
DTSTAMP:20260420T220407Z
SUMMARY:'t Veertje 1 - Mixed 2
DESCRIPTION:Baan 2\, Wedstrijdnummer 1034\, Afdeling Hoofdklasse 
DTSTART:20250212T200000
DTEND:20250212T230000
LOCATION:City Resort Helmond
ATTACH;FMTTYPE=text/plain:https://hbb.rivio.dev/senioren/2024/wedstrijd/357
 59
END:VEVENT
BEGIN:VEVENT
UID:https://hbb.rivio.dev/senioren/2024/wedstrijd/35777
DTSTAMP:20260420T220407Z
SUMMARY:Mixed 2 - Mierlo 3
DESCRIPTION:Baan 1\, Wedstrijdnummer 1040\, Afdeling Hoofdklasse 
DTSTART:20250219T200000
DTEND:20250219T230000
LOCATION:City Resort Helmond
ATTACH;FMTTYPE=text/plain:https://hbb.rivio.dev/senioren/2024/wedstrijd/357
 77
END:VEVENT
BEGIN:VEVENT
UID:https://hbb.rivio.dev/senioren/2024/wedstrijd/35802
DTSTAMP:20260420T220407Z
SUMMARY:Mixed 2 - Bakel 3
DESCRIPTION:Baan 1\, Wedstrijdnummer 1046\, Afdeling Hoofdklasse 
DTSTART:20250327T200000
DTEND:20250327T230000
LOCATION:City Resort Helmond
ATTACH;FMTTYPE=text/plain:https://hbb.rivio.dev/senioren/2024/wedstrijd/358
 02
END:VEVENT
BEGIN:VEVENT
UID:https://hbb.rivio.dev/senioren/2024/wedstrijd/35816
DTSTAMP:20260420T220407Z
SUMMARY:Bakel 2 - Mixed 2
DESCRIPTION:Baan 2\, Wedstrijdnummer 1051\, Afdeling Hoofdklasse 
DTSTART:20250410T200000
DTEND:20250410T230000
LOCATION:City Resort Helmond
ATTACH;FMTTYPE=text/plain:https://hbb.rivio.dev/senioren/2024/wedstrijd/358
 16
END:VEVENT
BEGIN:VEVENT
UID:https://hbb.rivio.dev/senioren/2024/wedstrijd/35821
DTSTAMP:20260420T220407Z
SUMMARY:Mixed 2 - Geldrop 1
DESCRIPTION:Baan 4\, Wedstrijdnummer 1056\, Afdeling Hoofdklasse 
DTSTART:20250416T200000
DTEND:20250416T230000
LOCATION:City Resort Helmond
ATTACH;FMTTYPE=text/plain:https://hbb.rivio.dev/senioren/2024/wedstrijd/358
 21
END:VEVENT
BEGIN:VEVENT
UID:https://hbb.rivio.dev/senioren/2024/wedstrijd/35830
DTSTAMP:20260420T220407Z
SUMMARY:Mixed 2 - Mierlo 2
DESCRIPTION:Baan 1\, Wedstrijdnummer 1057\, Afdeling Hoofdklasse 
DTSTART:20250521T200000
DTEND:20250521T230000
LOCATION:City Resort Helmond
ATTACH;FMTTYPE=text/plain:https://hbb.rivio.dev/senioren/2024/wedstrijd/358
 30
END:VEVENT
BEGIN:VEVENT
UID:https://hbb.rivio.dev/senioren/2024/wedstrijd/35835
DTSTAMP:20260420T220407Z
SUMMARY:Ganzeveer 1 - Mixed 2
DESCRIPTION:Baan 2\, Wedstrijdnummer 1062\, Afdeling Hoofdklasse 
DTSTART:20250528T200000
DTEND:20250528T230000
LOCATION:City Resort Helmond
ATTACH;FMTTYPE=text/plain:https://hbb.rivio.dev/senioren/2024/wedstrijd/358
 35
END:VEVENT
BEGIN:VTIMEZONE
TZID:Europe/Amsterdam
BEGIN:STANDARD
DTSTART:20240101T000000
TZNAME:CET
TZOFFSETTO:+0100
TZOFFSETFROM:+0100
END:STANDARD
BEGIN:DAYLIGHT
DTSTART:20240331T030000
TZNAME:CEST
TZOFFSETTO:+0200
TZOFFSETFROM:+0100
END:DAYLIGHT
BEGIN:STANDARD
DTSTART:20241027T020000
TZNAME:CET
TZOFFSETTO:+0100
TZOFFSETFROM:+0200
END:STANDARD
BEGIN:DAYLIGHT
DTSTART:20250330T030000
TZNAME:CEST
TZOFFSETTO:+0200
TZOFFSETFROM:+0100
END:DAYLIGHT
BEGIN:STANDARD
DTSTART:20251026T020000
TZNAME:CET
TZOFFSETTO:+0100
TZOFFSETFROM:+0200
END:STANDARD
END:VTIMEZONE
END:VCALENDAR
