BEGIN:VCALENDAR
PRODID:-//eluceo/ical//2.0/EN
VERSION:2.0
CALSCALE:GREGORIAN
BEGIN:VEVENT
UID:https://hbb.rivio.dev/senioren/2024/wedstrijd/35488
DTSTAMP:20260420T120707Z
SUMMARY:Mixed 1 - Brabantia 1
DESCRIPTION:Baan 2\, Wedstrijdnummer 4\, Afdeling Topklasse 
DTSTART:20240926T200000
DTEND:20240926T230000
LOCATION:City Resort Helmond
ATTACH;FMTTYPE=text/plain:https://hbb.rivio.dev/senioren/2024/wedstrijd/354
 88
END:VEVENT
BEGIN:VEVENT
UID:https://hbb.rivio.dev/senioren/2024/wedstrijd/35505
DTSTAMP:20260420T120707Z
SUMMARY:Mierlo 1 - Mixed 1
DESCRIPTION:Baan 1\, Wedstrijdnummer 8\, Afdeling Topklasse 
DTSTART:20241003T200000
DTEND:20241003T230000
LOCATION:City Resort Helmond
ATTACH;FMTTYPE=text/plain:https://hbb.rivio.dev/senioren/2024/wedstrijd/355
 05
END:VEVENT
BEGIN:VEVENT
UID:https://hbb.rivio.dev/senioren/2024/wedstrijd/35544
DTSTAMP:20260420T120707Z
SUMMARY:Someren 1 - Mixed 1
DESCRIPTION:Baan 1\, Wedstrijdnummer 11\, Afdeling Topklasse 
DTSTART:20241017T200000
DTEND:20241017T230000
LOCATION:City Resort Helmond
ATTACH;FMTTYPE=text/plain:https://hbb.rivio.dev/senioren/2024/wedstrijd/355
 44
END:VEVENT
BEGIN:VEVENT
UID:https://hbb.rivio.dev/senioren/2024/wedstrijd/35563
DTSTAMP:20260420T120707Z
SUMMARY:Bakel 1 - Mixed 1
DESCRIPTION:Baan 1\, Wedstrijdnummer 14\, Afdeling Topklasse 
DTSTART:20241031T200000
DTEND:20241031T230000
LOCATION:City Resort Helmond
ATTACH;FMTTYPE=text/plain:https://hbb.rivio.dev/senioren/2024/wedstrijd/355
 63
END:VEVENT
BEGIN:VEVENT
UID:https://hbb.rivio.dev/senioren/2024/wedstrijd/35580
DTSTAMP:20260420T120707Z
SUMMARY:Phoenix 1 - Mixed 1
DESCRIPTION:Baan 1\, Wedstrijdnummer 17\, Afdeling Topklasse 
DTSTART:20241113T200000
DTEND:20241113T230000
LOCATION:City Resort Helmond
ATTACH;FMTTYPE=text/plain:https://hbb.rivio.dev/senioren/2024/wedstrijd/355
 80
END:VEVENT
BEGIN:VEVENT
UID:https://hbb.rivio.dev/senioren/2024/wedstrijd/35647
DTSTAMP:20260420T120707Z
SUMMARY:Mixed 1 - Con Brio 1
DESCRIPTION:Baan 1\, Wedstrijdnummer 22\, Afdeling Topklasse 
DTSTART:20241212T200000
DTEND:20241212T230000
LOCATION:City Resort Helmond
ATTACH;FMTTYPE=text/plain:https://hbb.rivio.dev/senioren/2024/wedstrijd/356
 47
END:VEVENT
BEGIN:VEVENT
UID:https://hbb.rivio.dev/senioren/2024/wedstrijd/35674
DTSTAMP:20260420T120707Z
SUMMARY:Mixed 1 - De Valken 1
DESCRIPTION:Baan 1\, Wedstrijdnummer 27\, Afdeling Topklasse 
DTSTART:20250109T200000
DTEND:20250109T230000
LOCATION:City Resort Helmond
ATTACH;FMTTYPE=text/plain:https://hbb.rivio.dev/senioren/2024/wedstrijd/356
 74
END:VEVENT
BEGIN:VEVENT
UID:https://hbb.rivio.dev/senioren/2024/wedstrijd/35695
DTSTAMP:20260420T120707Z
SUMMARY:Brabantia 1 - Mixed 1
DESCRIPTION:Baan 3\, Wedstrijdnummer 1004\, Afdeling Topklasse 
DTSTART:20250116T200000
DTEND:20250116T230000
LOCATION:City Resort Helmond
ATTACH;FMTTYPE=text/plain:https://hbb.rivio.dev/senioren/2024/wedstrijd/356
 95
END:VEVENT
BEGIN:VEVENT
UID:https://hbb.rivio.dev/senioren/2024/wedstrijd/35729
DTSTAMP:20260420T120707Z
SUMMARY:Mixed 1 - Mierlo 1
DESCRIPTION:Baan 1\, Wedstrijdnummer 1008\, Afdeling Topklasse 
DTSTART:20250130T200000
DTEND:20250130T230000
LOCATION:City Resort Helmond
ATTACH;FMTTYPE=text/plain:https://hbb.rivio.dev/senioren/2024/wedstrijd/357
 29
END:VEVENT
BEGIN:VEVENT
UID:https://hbb.rivio.dev/senioren/2024/wedstrijd/35767
DTSTAMP:20260420T120707Z
SUMMARY:Mixed 1 - Someren 1
DESCRIPTION:Baan 1\, Wedstrijdnummer 1011\, Afdeling Topklasse 
DTSTART:20250213T200000
DTEND:20250213T230000
LOCATION:City Resort Helmond
ATTACH;FMTTYPE=text/plain:https://hbb.rivio.dev/senioren/2024/wedstrijd/357
 67
END:VEVENT
BEGIN:VEVENT
UID:https://hbb.rivio.dev/senioren/2024/wedstrijd/35783
DTSTAMP:20260420T120707Z
SUMMARY:Mixed 1 - Bakel 1
DESCRIPTION:Baan 1\, Wedstrijdnummer 1014\, Afdeling Topklasse 
DTSTART:20250220T200000
DTEND:20250220T230000
LOCATION:City Resort Helmond
ATTACH;FMTTYPE=text/plain:https://hbb.rivio.dev/senioren/2024/wedstrijd/357
 83
END:VEVENT
BEGIN:VEVENT
UID:https://hbb.rivio.dev/senioren/2024/wedstrijd/35794
DTSTAMP:20260420T120707Z
SUMMARY:Mixed 1 - Phoenix 1
DESCRIPTION:Baan 2\, Wedstrijdnummer 1017\, Afdeling Topklasse 
DTSTART:20250319T200000
DTEND:20250319T230000
LOCATION:City Resort Helmond
ATTACH;FMTTYPE=text/plain:https://hbb.rivio.dev/senioren/2024/wedstrijd/357
 94
END:VEVENT
BEGIN:VEVENT
UID:https://hbb.rivio.dev/senioren/2024/wedstrijd/35815
DTSTAMP:20260420T120707Z
SUMMARY:Con Brio 1 - Mixed 1
DESCRIPTION:Baan 1\, Wedstrijdnummer 1022\, Afdeling Topklasse 
DTSTART:20250410T200000
DTEND:20250410T230000
LOCATION:City Resort Helmond
ATTACH;FMTTYPE=text/plain:https://hbb.rivio.dev/senioren/2024/wedstrijd/358
 15
END:VEVENT
BEGIN:VEVENT
UID:https://hbb.rivio.dev/senioren/2024/wedstrijd/35823
DTSTAMP:20260420T120707Z
SUMMARY:De Valken 1 - Mixed 1
DESCRIPTION:Baan 2\, Wedstrijdnummer 1027\, Afdeling Topklasse 
DTSTART:20250417T200000
DTEND:20250417T230000
LOCATION:City Resort Helmond
ATTACH;FMTTYPE=text/plain:https://hbb.rivio.dev/senioren/2024/wedstrijd/358
 23
END:VEVENT
BEGIN:VTIMEZONE
TZID:Europe/Amsterdam
BEGIN:STANDARD
DTSTART:20240101T000000
TZNAME:CET
TZOFFSETTO:+0100
TZOFFSETFROM:+0100
END:STANDARD
BEGIN:DAYLIGHT
DTSTART:20240331T030000
TZNAME:CEST
TZOFFSETTO:+0200
TZOFFSETFROM:+0100
END:DAYLIGHT
BEGIN:STANDARD
DTSTART:20241027T020000
TZNAME:CET
TZOFFSETTO:+0100
TZOFFSETFROM:+0200
END:STANDARD
BEGIN:DAYLIGHT
DTSTART:20250330T030000
TZNAME:CEST
TZOFFSETTO:+0200
TZOFFSETFROM:+0100
END:DAYLIGHT
BEGIN:STANDARD
DTSTART:20251026T020000
TZNAME:CET
TZOFFSETTO:+0100
TZOFFSETFROM:+0200
END:STANDARD
END:VTIMEZONE
END:VCALENDAR
