BEGIN:VCALENDAR
PRODID:-//eluceo/ical//2.0/EN
VERSION:2.0
CALSCALE:GREGORIAN
BEGIN:VEVENT
UID:https://hbb.rivio.dev/jeugd/2024/wedstrijd/34817
DTSTAMP:20260420T133429Z
SUMMARY:Mixed 6 - VBSC 1
DESCRIPTION:Baan 10\, Wedstrijdnummer 15\, Afdeling F-klasse 
DTSTART:20240908T093000
DTEND:20240908T111500
LOCATION:City Resort Helmond
ATTACH;FMTTYPE=text/plain:https://hbb.rivio.dev/jeugd/2024/wedstrijd/34817
END:VEVENT
BEGIN:VEVENT
UID:https://hbb.rivio.dev/jeugd/2024/wedstrijd/34849
DTSTAMP:20260420T133429Z
SUMMARY:VBSC 1 - Geldrop 3
DESCRIPTION:Baan 5\, Wedstrijdnummer 38\, Afdeling F-klasse 
DTSTART:20241006T093000
DTEND:20241006T111500
LOCATION:City Resort Helmond
ATTACH;FMTTYPE=text/plain:https://hbb.rivio.dev/jeugd/2024/wedstrijd/34849
END:VEVENT
BEGIN:VEVENT
UID:https://hbb.rivio.dev/jeugd/2024/wedstrijd/34872
DTSTAMP:20260420T133429Z
SUMMARY:Phoenix 3 - VBSC 1
DESCRIPTION:Baan 10\, Wedstrijdnummer 61\, Afdeling F-klasse 
DTSTART:20241013T093000
DTEND:20241013T111500
LOCATION:City Resort Helmond
ATTACH;FMTTYPE=text/plain:https://hbb.rivio.dev/jeugd/2024/wedstrijd/34872
END:VEVENT
BEGIN:VEVENT
UID:https://hbb.rivio.dev/jeugd/2024/wedstrijd/34898
DTSTAMP:20260420T133429Z
SUMMARY:VBSC 1 - Gemert 4
DESCRIPTION:Baan 14\, Wedstrijdnummer 87\, Afdeling F-klasse 
DTSTART:20241103T093000
DTEND:20241103T111500
LOCATION:City Resort Helmond
ATTACH;FMTTYPE=text/plain:https://hbb.rivio.dev/jeugd/2024/wedstrijd/34898
END:VEVENT
BEGIN:VEVENT
UID:https://hbb.rivio.dev/jeugd/2024/wedstrijd/34922
DTSTAMP:20260420T133429Z
SUMMARY:VBSC 1 - Ganzeveer 1
DESCRIPTION:Baan 3\, Wedstrijdnummer 111\, Afdeling F-klasse 
DTSTART:20241117T123000
DTEND:20241117T230000
LOCATION:City Resort Helmond
ATTACH;FMTTYPE=text/plain:https://hbb.rivio.dev/jeugd/2024/wedstrijd/34922
END:VEVENT
BEGIN:VEVENT
UID:https://hbb.rivio.dev/jeugd/2024/wedstrijd/34946
DTSTAMP:20260420T133429Z
SUMMARY:VBSC 1 - Mixed 6
DESCRIPTION:Baan 12\, Wedstrijdnummer 135\, Afdeling F-klasse 
DTSTART:20241124T123000
DTEND:20241124T230000
LOCATION:City Resort Helmond
ATTACH;FMTTYPE=text/plain:https://hbb.rivio.dev/jeugd/2024/wedstrijd/34946
END:VEVENT
BEGIN:VEVENT
UID:https://hbb.rivio.dev/jeugd/2024/wedstrijd/34957
DTSTAMP:20260420T133429Z
SUMMARY:Geldrop 3 - VBSC 1
DESCRIPTION:Baan 13\, Wedstrijdnummer 158\, Afdeling F-klasse 
DTSTART:20241201T093000
DTEND:20241201T111500
LOCATION:City Resort Helmond
ATTACH;FMTTYPE=text/plain:https://hbb.rivio.dev/jeugd/2024/wedstrijd/34957
END:VEVENT
BEGIN:VEVENT
UID:https://hbb.rivio.dev/jeugd/2024/wedstrijd/34994
DTSTAMP:20260420T133429Z
SUMMARY:VBSC 1 - Phoenix 3
DESCRIPTION:Baan 5\, Wedstrijdnummer 181\, Afdeling F-klasse 
DTSTART:20241215T123000
DTEND:20241215T230000
LOCATION:City Resort Helmond
ATTACH;FMTTYPE=text/plain:https://hbb.rivio.dev/jeugd/2024/wedstrijd/34994
END:VEVENT
BEGIN:VEVENT
UID:https://hbb.rivio.dev/jeugd/2024/wedstrijd/35018
DTSTAMP:20260420T133429Z
SUMMARY:Gemert 4 - VBSC 1
DESCRIPTION:Baan 14\, Wedstrijdnummer 207\, Afdeling F-klasse 
DTSTART:20250119T093000
DTEND:20250119T111500
LOCATION:City Resort Helmond
ATTACH;FMTTYPE=text/plain:https://hbb.rivio.dev/jeugd/2024/wedstrijd/35018
END:VEVENT
BEGIN:VEVENT
UID:https://hbb.rivio.dev/jeugd/2024/wedstrijd/35042
DTSTAMP:20260420T133430Z
SUMMARY:Ganzeveer 1 - VBSC 1
DESCRIPTION:Baan 3\, Wedstrijdnummer 231\, Afdeling F-klasse 
DTSTART:20250209T093000
DTEND:20250209T111500
LOCATION:City Resort Helmond
ATTACH;FMTTYPE=text/plain:https://hbb.rivio.dev/jeugd/2024/wedstrijd/35042
END:VEVENT
BEGIN:VEVENT
UID:https://hbb.rivio.dev/jeugd/2024/wedstrijd/35900
DTSTAMP:20260420T133430Z
SUMMARY:VBSC 1 - Ganzeveer 1
DESCRIPTION:Baan 13\, Wedstrijdnummer 266\, Afdeling F-klasse 
DTSTART:20250316T093000
DTEND:20250316T111500
LOCATION:City Resort Helmond
ATTACH;FMTTYPE=text/plain:https://hbb.rivio.dev/jeugd/2024/wedstrijd/35900
END:VEVENT
BEGIN:VEVENT
UID:https://hbb.rivio.dev/jeugd/2024/wedstrijd/35915
DTSTAMP:20260420T133430Z
SUMMARY:Phoenix 3 - VBSC 1
DESCRIPTION:Baan 3\, Wedstrijdnummer 282\, Afdeling F-klasse 
DTSTART:20250406T093000
DTEND:20250406T111500
LOCATION:City Resort Helmond
ATTACH;FMTTYPE=text/plain:https://hbb.rivio.dev/jeugd/2024/wedstrijd/35915
END:VEVENT
BEGIN:VTIMEZONE
TZID:Europe/Amsterdam
BEGIN:STANDARD
DTSTART:20240101T000000
TZNAME:CET
TZOFFSETTO:+0100
TZOFFSETFROM:+0100
END:STANDARD
BEGIN:DAYLIGHT
DTSTART:20240331T030000
TZNAME:CEST
TZOFFSETTO:+0200
TZOFFSETFROM:+0100
END:DAYLIGHT
BEGIN:STANDARD
DTSTART:20241027T020000
TZNAME:CET
TZOFFSETTO:+0100
TZOFFSETFROM:+0200
END:STANDARD
BEGIN:DAYLIGHT
DTSTART:20250330T030000
TZNAME:CEST
TZOFFSETTO:+0200
TZOFFSETFROM:+0100
END:DAYLIGHT
BEGIN:STANDARD
DTSTART:20251026T020000
TZNAME:CET
TZOFFSETTO:+0100
TZOFFSETFROM:+0200
END:STANDARD
END:VTIMEZONE
END:VCALENDAR
