BEGIN:VCALENDAR
PRODID:-//eluceo/ical//2.0/EN
VERSION:2.0
CALSCALE:GREGORIAN
BEGIN:VEVENT
UID:https://hbb.rivio.dev/jeugd/2024/wedstrijd/34834
DTSTAMP:20260420T151524Z
SUMMARY:Veldhoven 5 - VBSC 3
DESCRIPTION:Baan 1\, Wedstrijdnummer 119\, Afdeling I-klasse 
DTSTART:20240929T093000
DTEND:20240929T111500
LOCATION:City Resort Helmond
ATTACH;FMTTYPE=text/plain:https://hbb.rivio.dev/jeugd/2024/wedstrijd/34834
END:VEVENT
BEGIN:VEVENT
UID:https://hbb.rivio.dev/jeugd/2024/wedstrijd/34858
DTSTAMP:20260420T151524Z
SUMMARY:Mixed 10 - Veldhoven 5
DESCRIPTION:Baan 3\, Wedstrijdnummer 23\, Afdeling I-klasse 
DTSTART:20241006T123000
DTEND:20241006T230000
LOCATION:City Resort Helmond
ATTACH;FMTTYPE=text/plain:https://hbb.rivio.dev/jeugd/2024/wedstrijd/34858
END:VEVENT
BEGIN:VEVENT
UID:https://hbb.rivio.dev/jeugd/2024/wedstrijd/34883
DTSTAMP:20260420T151524Z
SUMMARY:Veldhoven 5 - Phoenix 4
DESCRIPTION:Baan 3\, Wedstrijdnummer 72\, Afdeling I-klasse 
DTSTART:20241013T093000
DTEND:20241013T111500
LOCATION:City Resort Helmond
ATTACH;FMTTYPE=text/plain:https://hbb.rivio.dev/jeugd/2024/wedstrijd/34883
END:VEVENT
BEGIN:VEVENT
UID:https://hbb.rivio.dev/jeugd/2024/wedstrijd/34899
DTSTAMP:20260420T151524Z
SUMMARY:VBSC 4 - Veldhoven 5
DESCRIPTION:Baan 15\, Wedstrijdnummer 96\, Afdeling I-klasse 
DTSTART:20241103T093000
DTEND:20241103T111500
LOCATION:City Resort Helmond
ATTACH;FMTTYPE=text/plain:https://hbb.rivio.dev/jeugd/2024/wedstrijd/34899
END:VEVENT
BEGIN:VEVENT
UID:https://hbb.rivio.dev/jeugd/2024/wedstrijd/34929
DTSTAMP:20260420T151524Z
SUMMARY:Veldhoven 5 - Mixed 9
DESCRIPTION:Baan 15\, Wedstrijdnummer 46\, Afdeling I-klasse 
DTSTART:20241117T123000
DTEND:20241117T230000
LOCATION:City Resort Helmond
ATTACH;FMTTYPE=text/plain:https://hbb.rivio.dev/jeugd/2024/wedstrijd/34929
END:VEVENT
BEGIN:VEVENT
UID:https://hbb.rivio.dev/jeugd/2024/wedstrijd/34967
DTSTAMP:20260420T151524Z
SUMMARY:Mixed 9 - Veldhoven 5
DESCRIPTION:Baan 13\, Wedstrijdnummer 166\, Afdeling I-klasse 
DTSTART:20241208T093000
DTEND:20241208T111500
LOCATION:City Resort Helmond
ATTACH;FMTTYPE=text/plain:https://hbb.rivio.dev/jeugd/2024/wedstrijd/34967
END:VEVENT
BEGIN:VEVENT
UID:https://hbb.rivio.dev/jeugd/2024/wedstrijd/34986
DTSTAMP:20260420T151524Z
SUMMARY:Veldhoven 5 - Mixed 10
DESCRIPTION:Baan 12\, Wedstrijdnummer 143\, Afdeling I-klasse 
DTSTART:20241215T093000
DTEND:20241215T111500
LOCATION:City Resort Helmond
ATTACH;FMTTYPE=text/plain:https://hbb.rivio.dev/jeugd/2024/wedstrijd/34986
END:VEVENT
BEGIN:VEVENT
UID:https://hbb.rivio.dev/jeugd/2024/wedstrijd/35003
DTSTAMP:20260420T151524Z
SUMMARY:Phoenix 4 - Veldhoven 5
DESCRIPTION:Baan 4\, Wedstrijdnummer 192\, Afdeling I-klasse 
DTSTART:20250112T093000
DTEND:20250112T111500
LOCATION:City Resort Helmond
ATTACH;FMTTYPE=text/plain:https://hbb.rivio.dev/jeugd/2024/wedstrijd/35003
END:VEVENT
BEGIN:VEVENT
UID:https://hbb.rivio.dev/jeugd/2024/wedstrijd/35026
DTSTAMP:20260420T151524Z
SUMMARY:VBSC 3 - Veldhoven 5
DESCRIPTION:Baan 12\, Wedstrijdnummer 239\, Afdeling I-klasse 
DTSTART:20250202T093000
DTEND:20250202T111500
LOCATION:City Resort Helmond
ATTACH;FMTTYPE=text/plain:https://hbb.rivio.dev/jeugd/2024/wedstrijd/35026
END:VEVENT
BEGIN:VEVENT
UID:https://hbb.rivio.dev/jeugd/2024/wedstrijd/35051
DTSTAMP:20260420T151524Z
SUMMARY:Veldhoven 5 - VBSC 4
DESCRIPTION:Baan 2\, Wedstrijdnummer 216\, Afdeling I-klasse 
DTSTART:20250209T123000
DTEND:20250209T230000
LOCATION:City Resort Helmond
ATTACH;FMTTYPE=text/plain:https://hbb.rivio.dev/jeugd/2024/wedstrijd/35051
END:VEVENT
BEGIN:VEVENT
UID:https://hbb.rivio.dev/jeugd/2024/wedstrijd/35888
DTSTAMP:20260420T151524Z
SUMMARY:Veldhoven 5 - VBSC 3
DESCRIPTION:Baan 12\, Wedstrijdnummer 255\, Afdeling I-klasse 
DTSTART:20250216T093000
DTEND:20250216T111500
LOCATION:City Resort Helmond
ATTACH;FMTTYPE=text/plain:https://hbb.rivio.dev/jeugd/2024/wedstrijd/35888
END:VEVENT
BEGIN:VEVENT
UID:https://hbb.rivio.dev/jeugd/2024/wedstrijd/35904
DTSTAMP:20260420T151524Z
SUMMARY:Mixed 9 - Veldhoven 5
DESCRIPTION:Baan 2\, Wedstrijdnummer 271\, Afdeling I-klasse 
DTSTART:20250330T093000
DTEND:20250330T111500
LOCATION:City Resort Helmond
ATTACH;FMTTYPE=text/plain:https://hbb.rivio.dev/jeugd/2024/wedstrijd/35904
END:VEVENT
BEGIN:VTIMEZONE
TZID:Europe/Amsterdam
BEGIN:STANDARD
DTSTART:20240101T000000
TZNAME:CET
TZOFFSETTO:+0100
TZOFFSETFROM:+0100
END:STANDARD
BEGIN:DAYLIGHT
DTSTART:20240331T030000
TZNAME:CEST
TZOFFSETTO:+0200
TZOFFSETFROM:+0100
END:DAYLIGHT
BEGIN:STANDARD
DTSTART:20241027T020000
TZNAME:CET
TZOFFSETTO:+0100
TZOFFSETFROM:+0200
END:STANDARD
BEGIN:DAYLIGHT
DTSTART:20250330T030000
TZNAME:CEST
TZOFFSETTO:+0200
TZOFFSETFROM:+0100
END:DAYLIGHT
BEGIN:STANDARD
DTSTART:20251026T020000
TZNAME:CET
TZOFFSETTO:+0100
TZOFFSETFROM:+0200
END:STANDARD
END:VTIMEZONE
END:VCALENDAR
