BEGIN:VCALENDAR
PRODID:-//eluceo/ical//2.0/EN
VERSION:2.0
CALSCALE:GREGORIAN
BEGIN:VEVENT
UID:https://hbb.rivio.dev/jeugd/2024/wedstrijd/34819
DTSTAMP:20260420T164535Z
SUMMARY:Phoenix 2 - Mixed 3
DESCRIPTION:Baan 12\, Wedstrijdnummer 33\, Afdeling D-klasse 
DTSTART:20240908T093000
DTEND:20240908T111500
LOCATION:City Resort Helmond
ATTACH;FMTTYPE=text/plain:https://hbb.rivio.dev/jeugd/2024/wedstrijd/34819
END:VEVENT
BEGIN:VEVENT
UID:https://hbb.rivio.dev/jeugd/2024/wedstrijd/34831
DTSTAMP:20260420T164535Z
SUMMARY:'t Veertje 1 - Phoenix 2
DESCRIPTION:Baan 13\, Wedstrijdnummer 57\, Afdeling D-klasse 
DTSTART:20240915T093000
DTEND:20240915T111500
LOCATION:City Resort Helmond
ATTACH;FMTTYPE=text/plain:https://hbb.rivio.dev/jeugd/2024/wedstrijd/34831
END:VEVENT
BEGIN:VEVENT
UID:https://hbb.rivio.dev/jeugd/2024/wedstrijd/34868
DTSTAMP:20260420T164535Z
SUMMARY:Mierlo 3 - Phoenix 2
DESCRIPTION:Baan 2\, Wedstrijdnummer 7\, Afdeling D-klasse 
DTSTART:20241013T093000
DTEND:20241013T111500
LOCATION:City Resort Helmond
ATTACH;FMTTYPE=text/plain:https://hbb.rivio.dev/jeugd/2024/wedstrijd/34868
END:VEVENT
BEGIN:VEVENT
UID:https://hbb.rivio.dev/jeugd/2024/wedstrijd/34891
DTSTAMP:20260420T164535Z
SUMMARY:Phoenix 2 - Mixed 4
DESCRIPTION:Baan 3\, Wedstrijdnummer 80\, Afdeling D-klasse 
DTSTART:20241103T093000
DTEND:20241103T111500
LOCATION:City Resort Helmond
ATTACH;FMTTYPE=text/plain:https://hbb.rivio.dev/jeugd/2024/wedstrijd/34891
END:VEVENT
BEGIN:VEVENT
UID:https://hbb.rivio.dev/jeugd/2024/wedstrijd/34916
DTSTAMP:20260420T164535Z
SUMMARY:Gemert 3 - Phoenix 2
DESCRIPTION:Baan 12\, Wedstrijdnummer 105\, Afdeling D-klasse 
DTSTART:20241117T093000
DTEND:20241117T111500
LOCATION:City Resort Helmond
ATTACH;FMTTYPE=text/plain:https://hbb.rivio.dev/jeugd/2024/wedstrijd/34916
END:VEVENT
BEGIN:VEVENT
UID:https://hbb.rivio.dev/jeugd/2024/wedstrijd/34943
DTSTAMP:20260420T164535Z
SUMMARY:Phoenix 2 - Mierlo 3
DESCRIPTION:Baan 4\, Wedstrijdnummer 127\, Afdeling D-klasse 
DTSTART:20241124T123000
DTEND:20241124T230000
LOCATION:City Resort Helmond
ATTACH;FMTTYPE=text/plain:https://hbb.rivio.dev/jeugd/2024/wedstrijd/34943
END:VEVENT
BEGIN:VEVENT
UID:https://hbb.rivio.dev/jeugd/2024/wedstrijd/34978
DTSTAMP:20260420T164535Z
SUMMARY:Phoenix 2 - 't Veertje 1
DESCRIPTION:Baan 14\, Wedstrijdnummer 177\, Afdeling D-klasse 
DTSTART:20241208T123000
DTEND:20241208T230000
LOCATION:City Resort Helmond
ATTACH;FMTTYPE=text/plain:https://hbb.rivio.dev/jeugd/2024/wedstrijd/34978
END:VEVENT
BEGIN:VEVENT
UID:https://hbb.rivio.dev/jeugd/2024/wedstrijd/34993
DTSTAMP:20260420T164535Z
SUMMARY:Mixed 3 - Phoenix 2
DESCRIPTION:Baan 4\, Wedstrijdnummer 153\, Afdeling D-klasse 
DTSTART:20241215T123000
DTEND:20241215T230000
LOCATION:City Resort Helmond
ATTACH;FMTTYPE=text/plain:https://hbb.rivio.dev/jeugd/2024/wedstrijd/34993
END:VEVENT
BEGIN:VEVENT
UID:https://hbb.rivio.dev/jeugd/2024/wedstrijd/35011
DTSTAMP:20260420T164535Z
SUMMARY:Mixed 4 - Phoenix 2
DESCRIPTION:Baan 2\, Wedstrijdnummer 200\, Afdeling D-klasse 
DTSTART:20250119T093000
DTEND:20250119T111500
LOCATION:City Resort Helmond
ATTACH;FMTTYPE=text/plain:https://hbb.rivio.dev/jeugd/2024/wedstrijd/35011
END:VEVENT
BEGIN:VEVENT
UID:https://hbb.rivio.dev/jeugd/2024/wedstrijd/35036
DTSTAMP:20260420T164535Z
SUMMARY:Phoenix 2 - Gemert 3
DESCRIPTION:Baan 12\, Wedstrijdnummer 225\, Afdeling D-klasse 
DTSTART:20250202T123000
DTEND:20250202T230000
LOCATION:City Resort Helmond
ATTACH;FMTTYPE=text/plain:https://hbb.rivio.dev/jeugd/2024/wedstrijd/35036
END:VEVENT
BEGIN:VEVENT
UID:https://hbb.rivio.dev/jeugd/2024/wedstrijd/35841
DTSTAMP:20260420T164535Z
SUMMARY:Mierlo 3 - Phoenix 2
DESCRIPTION:Baan 13\, Wedstrijdnummer 246\, Afdeling D-klasse 
DTSTART:20250209T123000
DTEND:20250209T230000
LOCATION:City Resort Helmond
ATTACH;FMTTYPE=text/plain:https://hbb.rivio.dev/jeugd/2024/wedstrijd/35841
END:VEVENT
BEGIN:VEVENT
UID:https://hbb.rivio.dev/jeugd/2024/wedstrijd/35911
DTSTAMP:20260420T164535Z
SUMMARY:Phoenix 2 - Mixed 4
DESCRIPTION:Baan 14\, Wedstrijdnummer 278\, Afdeling D-klasse 
DTSTART:20250330T093000
DTEND:20250330T111500
LOCATION:City Resort Helmond
ATTACH;FMTTYPE=text/plain:https://hbb.rivio.dev/jeugd/2024/wedstrijd/35911
END:VEVENT
BEGIN:VTIMEZONE
TZID:Europe/Amsterdam
BEGIN:STANDARD
DTSTART:20240101T000000
TZNAME:CET
TZOFFSETTO:+0100
TZOFFSETFROM:+0100
END:STANDARD
BEGIN:DAYLIGHT
DTSTART:20240331T030000
TZNAME:CEST
TZOFFSETTO:+0200
TZOFFSETFROM:+0100
END:DAYLIGHT
BEGIN:STANDARD
DTSTART:20241027T020000
TZNAME:CET
TZOFFSETTO:+0100
TZOFFSETFROM:+0200
END:STANDARD
BEGIN:DAYLIGHT
DTSTART:20250330T030000
TZNAME:CEST
TZOFFSETTO:+0200
TZOFFSETFROM:+0100
END:DAYLIGHT
BEGIN:STANDARD
DTSTART:20251026T020000
TZNAME:CET
TZOFFSETTO:+0100
TZOFFSETFROM:+0200
END:STANDARD
END:VTIMEZONE
END:VCALENDAR
