BEGIN:VCALENDAR
PRODID:-//eluceo/ical//2.0/EN
VERSION:2.0
CALSCALE:GREGORIAN
BEGIN:VEVENT
UID:https://hbb.rivio.dev/senioren/2024/wedstrijd/35474
DTSTAMP:20260420T090625Z
SUMMARY:Veldhoven 1 - Someren 3
DESCRIPTION:Baan 12\, Wedstrijdnummer 175\, Afdeling 3e klasse D
DTSTART:20240919T200000
DTEND:20240919T230000
LOCATION:City Resort Helmond
ATTACH;FMTTYPE=text/plain:https://hbb.rivio.dev/senioren/2024/wedstrijd/354
 74
END:VEVENT
BEGIN:VEVENT
UID:https://hbb.rivio.dev/senioren/2024/wedstrijd/35504
DTSTAMP:20260420T090625Z
SUMMARY:Mierlo 8 - Veldhoven 1
DESCRIPTION:Baan 15\, Wedstrijdnummer 181\, Afdeling 3e klasse K
DTSTART:20241002T200000
DTEND:20241002T230000
LOCATION:City Resort Helmond
ATTACH;FMTTYPE=text/plain:https://hbb.rivio.dev/senioren/2024/wedstrijd/355
 04
END:VEVENT
BEGIN:VEVENT
UID:https://hbb.rivio.dev/senioren/2024/wedstrijd/35543
DTSTAMP:20260420T090625Z
SUMMARY:Veldhoven 1 - Con Brio 3
DESCRIPTION:Baan 15\, Wedstrijdnummer 187\, Afdeling 3e klasse D
DTSTART:20241016T200000
DTEND:20241016T230000
LOCATION:City Resort Helmond
ATTACH;FMTTYPE=text/plain:https://hbb.rivio.dev/senioren/2024/wedstrijd/355
 43
END:VEVENT
BEGIN:VEVENT
UID:https://hbb.rivio.dev/senioren/2024/wedstrijd/35558
DTSTAMP:20260420T090625Z
SUMMARY:Ganzeveer 3 - Veldhoven 1
DESCRIPTION:Baan 11\, Wedstrijdnummer 193\, Afdeling 3e klasse D
DTSTART:20241030T200000
DTEND:20241030T230000
LOCATION:City Resort Helmond
ATTACH;FMTTYPE=text/plain:https://hbb.rivio.dev/senioren/2024/wedstrijd/355
 58
END:VEVENT
BEGIN:VEVENT
UID:https://hbb.rivio.dev/senioren/2024/wedstrijd/35576
DTSTAMP:20260420T090625Z
SUMMARY:Veldhoven 1 - Geldrop 3
DESCRIPTION:Baan 11\, Wedstrijdnummer 199\, Afdeling 3e klasse D
DTSTART:20241106T200000
DTEND:20241106T230000
LOCATION:City Resort Helmond
ATTACH;FMTTYPE=text/plain:https://hbb.rivio.dev/senioren/2024/wedstrijd/355
 76
END:VEVENT
BEGIN:VEVENT
UID:https://hbb.rivio.dev/senioren/2024/wedstrijd/35633
DTSTAMP:20260420T090625Z
SUMMARY:Veldhoven 1 - Mierlo 7
DESCRIPTION:Baan 12\, Wedstrijdnummer 211\, Afdeling 3e klasse D
DTSTART:20241204T200000
DTEND:20241204T230000
LOCATION:City Resort Helmond
ATTACH;FMTTYPE=text/plain:https://hbb.rivio.dev/senioren/2024/wedstrijd/356
 33
END:VEVENT
BEGIN:VEVENT
UID:https://hbb.rivio.dev/senioren/2024/wedstrijd/35690
DTSTAMP:20260420T090625Z
SUMMARY:Gemert 2 - Veldhoven 1
DESCRIPTION:Baan 13\, Wedstrijdnummer 217\, Afdeling 3e klasse K
DTSTART:20250115T200000
DTEND:20250115T230000
LOCATION:City Resort Helmond
ATTACH;FMTTYPE=text/plain:https://hbb.rivio.dev/senioren/2024/wedstrijd/356
 90
END:VEVENT
BEGIN:VEVENT
UID:https://hbb.rivio.dev/senioren/2024/wedstrijd/35706
DTSTAMP:20260420T090625Z
SUMMARY:Veldhoven 1 - Geldrop 2
DESCRIPTION:Baan 11\, Wedstrijdnummer 223\, Afdeling 3e klasse D
DTSTART:20250122T200000
DTEND:20250122T230000
LOCATION:City Resort Helmond
ATTACH;FMTTYPE=text/plain:https://hbb.rivio.dev/senioren/2024/wedstrijd/357
 06
END:VEVENT
BEGIN:VEVENT
UID:https://hbb.rivio.dev/senioren/2024/wedstrijd/35734
DTSTAMP:20260420T090625Z
SUMMARY:RBC 2 - Veldhoven 1
DESCRIPTION:Baan 11\, Wedstrijdnummer 229\, Afdeling 3e klasse K
DTSTART:20250130T200000
DTEND:20250130T230000
LOCATION:City Resort Helmond
ATTACH;FMTTYPE=text/plain:https://hbb.rivio.dev/senioren/2024/wedstrijd/357
 34
END:VEVENT
BEGIN:VEVENT
UID:https://hbb.rivio.dev/senioren/2024/wedstrijd/35774
DTSTAMP:20260420T090625Z
SUMMARY:Veldhoven 1 - Never Down 1
DESCRIPTION:Baan 13\, Wedstrijdnummer 235\, Afdeling 3e klasse D
DTSTART:20250213T200000
DTEND:20250213T230000
LOCATION:City Resort Helmond
ATTACH;FMTTYPE=text/plain:https://hbb.rivio.dev/senioren/2024/wedstrijd/357
 74
END:VEVENT
BEGIN:VEVENT
UID:https://hbb.rivio.dev/senioren/2024/wedstrijd/35924
DTSTAMP:20260420T090625Z
SUMMARY:Veldhoven 1 - Never Down 1
DESCRIPTION:Baan 15\, Wedstrijdnummer 2042\, Afdeling 3e klasse D
DTSTART:20250319T200000
DTEND:20250319T230000
LOCATION:City Resort Helmond
ATTACH;FMTTYPE=text/plain:https://hbb.rivio.dev/senioren/2024/wedstrijd/359
 24
END:VEVENT
BEGIN:VEVENT
UID:https://hbb.rivio.dev/senioren/2024/wedstrijd/35930
DTSTAMP:20260420T090625Z
SUMMARY:Con Brio 3 - Veldhoven 1
DESCRIPTION:Baan 12\, Wedstrijdnummer 2048\, Afdeling 3e klasse D
DTSTART:20250326T200000
DTEND:20250326T230000
LOCATION:City Resort Helmond
ATTACH;FMTTYPE=text/plain:https://hbb.rivio.dev/senioren/2024/wedstrijd/359
 30
END:VEVENT
BEGIN:VEVENT
UID:https://hbb.rivio.dev/senioren/2024/wedstrijd/35942
DTSTAMP:20260420T090625Z
SUMMARY:Veldhoven 1 - Ganzeveer 3
DESCRIPTION:Baan 12\, Wedstrijdnummer 2058\, Afdeling 3e klasse D
DTSTART:20250417T200000
DTEND:20250417T230000
LOCATION:City Resort Helmond
ATTACH;FMTTYPE=text/plain:https://hbb.rivio.dev/senioren/2024/wedstrijd/359
 42
END:VEVENT
BEGIN:VEVENT
UID:https://hbb.rivio.dev/senioren/2024/wedstrijd/35946
DTSTAMP:20260420T090625Z
SUMMARY:Veldhoven 1 - Geldrop 3
DESCRIPTION:Baan 5\, Wedstrijdnummer 2065\, Afdeling 3e klasse D
DTSTART:20250522T200000
DTEND:20250522T230000
LOCATION:City Resort Helmond
ATTACH;FMTTYPE=text/plain:https://hbb.rivio.dev/senioren/2024/wedstrijd/359
 46
END:VEVENT
BEGIN:VTIMEZONE
TZID:Europe/Amsterdam
BEGIN:STANDARD
DTSTART:20240101T000000
TZNAME:CET
TZOFFSETTO:+0100
TZOFFSETFROM:+0100
END:STANDARD
BEGIN:DAYLIGHT
DTSTART:20240331T030000
TZNAME:CEST
TZOFFSETTO:+0200
TZOFFSETFROM:+0100
END:DAYLIGHT
BEGIN:STANDARD
DTSTART:20241027T020000
TZNAME:CET
TZOFFSETTO:+0100
TZOFFSETFROM:+0200
END:STANDARD
BEGIN:DAYLIGHT
DTSTART:20250330T030000
TZNAME:CEST
TZOFFSETTO:+0200
TZOFFSETFROM:+0100
END:DAYLIGHT
BEGIN:STANDARD
DTSTART:20251026T020000
TZNAME:CET
TZOFFSETTO:+0100
TZOFFSETFROM:+0200
END:STANDARD
END:VTIMEZONE
END:VCALENDAR
