BEGIN:VCALENDAR
PRODID:-//eluceo/ical//2.0/EN
VERSION:2.0
CALSCALE:GREGORIAN
BEGIN:VEVENT
UID:https://hbb.rivio.dev/jeugd/2024/wedstrijd/34816
DTSTAMP:20260420T164955Z
SUMMARY:Phoenix 3 - Ganzeveer 1
DESCRIPTION:Baan 5\, Wedstrijdnummer 13\, Afdeling F-klasse 
DTSTART:20240908T093000
DTEND:20240908T111500
LOCATION:City Resort Helmond
ATTACH;FMTTYPE=text/plain:https://hbb.rivio.dev/jeugd/2024/wedstrijd/34816
END:VEVENT
BEGIN:VEVENT
UID:https://hbb.rivio.dev/jeugd/2024/wedstrijd/34850
DTSTAMP:20260420T164955Z
SUMMARY:Ganzeveer 1 - Mixed 6
DESCRIPTION:Baan 10\, Wedstrijdnummer 39\, Afdeling F-klasse 
DTSTART:20241006T093000
DTEND:20241006T111500
LOCATION:City Resort Helmond
ATTACH;FMTTYPE=text/plain:https://hbb.rivio.dev/jeugd/2024/wedstrijd/34850
END:VEVENT
BEGIN:VEVENT
UID:https://hbb.rivio.dev/jeugd/2024/wedstrijd/34874
DTSTAMP:20260420T164955Z
SUMMARY:Gemert 4 - Ganzeveer 1
DESCRIPTION:Baan 12\, Wedstrijdnummer 63\, Afdeling F-klasse 
DTSTART:20241013T093000
DTEND:20241013T111500
LOCATION:City Resort Helmond
ATTACH;FMTTYPE=text/plain:https://hbb.rivio.dev/jeugd/2024/wedstrijd/34874
END:VEVENT
BEGIN:VEVENT
UID:https://hbb.rivio.dev/jeugd/2024/wedstrijd/34897
DTSTAMP:20260420T164955Z
SUMMARY:Ganzeveer 1 - Geldrop 3
DESCRIPTION:Baan 13\, Wedstrijdnummer 86\, Afdeling F-klasse 
DTSTART:20241103T093000
DTEND:20241103T111500
LOCATION:City Resort Helmond
ATTACH;FMTTYPE=text/plain:https://hbb.rivio.dev/jeugd/2024/wedstrijd/34897
END:VEVENT
BEGIN:VEVENT
UID:https://hbb.rivio.dev/jeugd/2024/wedstrijd/34922
DTSTAMP:20260420T164955Z
SUMMARY:VBSC 1 - Ganzeveer 1
DESCRIPTION:Baan 3\, Wedstrijdnummer 111\, Afdeling F-klasse 
DTSTART:20241117T123000
DTEND:20241117T230000
LOCATION:City Resort Helmond
ATTACH;FMTTYPE=text/plain:https://hbb.rivio.dev/jeugd/2024/wedstrijd/34922
END:VEVENT
BEGIN:VEVENT
UID:https://hbb.rivio.dev/jeugd/2024/wedstrijd/34944
DTSTAMP:20260420T164955Z
SUMMARY:Ganzeveer 1 - Phoenix 3
DESCRIPTION:Baan 5\, Wedstrijdnummer 133\, Afdeling F-klasse 
DTSTART:20241124T123000
DTEND:20241124T230000
LOCATION:City Resort Helmond
ATTACH;FMTTYPE=text/plain:https://hbb.rivio.dev/jeugd/2024/wedstrijd/34944
END:VEVENT
BEGIN:VEVENT
UID:https://hbb.rivio.dev/jeugd/2024/wedstrijd/34979
DTSTAMP:20260420T164955Z
SUMMARY:Mixed 6 - Ganzeveer 1
DESCRIPTION:Baan 15\, Wedstrijdnummer 159\, Afdeling F-klasse 
DTSTART:20241208T123000
DTEND:20241208T230000
LOCATION:City Resort Helmond
ATTACH;FMTTYPE=text/plain:https://hbb.rivio.dev/jeugd/2024/wedstrijd/34979
END:VEVENT
BEGIN:VEVENT
UID:https://hbb.rivio.dev/jeugd/2024/wedstrijd/34996
DTSTAMP:20260420T164955Z
SUMMARY:Ganzeveer 1 - Gemert 4
DESCRIPTION:Baan 12\, Wedstrijdnummer 183\, Afdeling F-klasse 
DTSTART:20241215T123000
DTEND:20241215T230000
LOCATION:City Resort Helmond
ATTACH;FMTTYPE=text/plain:https://hbb.rivio.dev/jeugd/2024/wedstrijd/34996
END:VEVENT
BEGIN:VEVENT
UID:https://hbb.rivio.dev/jeugd/2024/wedstrijd/35017
DTSTAMP:20260420T164955Z
SUMMARY:Geldrop 3 - Ganzeveer 1
DESCRIPTION:Baan 13\, Wedstrijdnummer 206\, Afdeling F-klasse 
DTSTART:20250119T093000
DTEND:20250119T111500
LOCATION:City Resort Helmond
ATTACH;FMTTYPE=text/plain:https://hbb.rivio.dev/jeugd/2024/wedstrijd/35017
END:VEVENT
BEGIN:VEVENT
UID:https://hbb.rivio.dev/jeugd/2024/wedstrijd/35042
DTSTAMP:20260420T164955Z
SUMMARY:Ganzeveer 1 - VBSC 1
DESCRIPTION:Baan 3\, Wedstrijdnummer 231\, Afdeling F-klasse 
DTSTART:20250209T093000
DTEND:20250209T111500
LOCATION:City Resort Helmond
ATTACH;FMTTYPE=text/plain:https://hbb.rivio.dev/jeugd/2024/wedstrijd/35042
END:VEVENT
BEGIN:VEVENT
UID:https://hbb.rivio.dev/jeugd/2024/wedstrijd/35883
DTSTAMP:20260420T164955Z
SUMMARY:Ganzeveer 1 - Phoenix 3
DESCRIPTION:Baan 2\, Wedstrijdnummer 250\, Afdeling F-klasse 
DTSTART:20250216T093000
DTEND:20250216T111500
LOCATION:City Resort Helmond
ATTACH;FMTTYPE=text/plain:https://hbb.rivio.dev/jeugd/2024/wedstrijd/35883
END:VEVENT
BEGIN:VEVENT
UID:https://hbb.rivio.dev/jeugd/2024/wedstrijd/35900
DTSTAMP:20260420T164955Z
SUMMARY:VBSC 1 - Ganzeveer 1
DESCRIPTION:Baan 13\, Wedstrijdnummer 266\, Afdeling F-klasse 
DTSTART:20250316T093000
DTEND:20250316T111500
LOCATION:City Resort Helmond
ATTACH;FMTTYPE=text/plain:https://hbb.rivio.dev/jeugd/2024/wedstrijd/35900
END:VEVENT
BEGIN:VTIMEZONE
TZID:Europe/Amsterdam
BEGIN:STANDARD
DTSTART:20240101T000000
TZNAME:CET
TZOFFSETTO:+0100
TZOFFSETFROM:+0100
END:STANDARD
BEGIN:DAYLIGHT
DTSTART:20240331T030000
TZNAME:CEST
TZOFFSETTO:+0200
TZOFFSETFROM:+0100
END:DAYLIGHT
BEGIN:STANDARD
DTSTART:20241027T020000
TZNAME:CET
TZOFFSETTO:+0100
TZOFFSETFROM:+0200
END:STANDARD
BEGIN:DAYLIGHT
DTSTART:20250330T030000
TZNAME:CEST
TZOFFSETTO:+0200
TZOFFSETFROM:+0100
END:DAYLIGHT
BEGIN:STANDARD
DTSTART:20251026T020000
TZNAME:CET
TZOFFSETTO:+0100
TZOFFSETFROM:+0200
END:STANDARD
END:VTIMEZONE
END:VCALENDAR
