BEGIN:VCALENDAR
PRODID:-//eluceo/ical//2.0/EN
VERSION:2.0
CALSCALE:GREGORIAN
BEGIN:VEVENT
UID:https://hbb.rivio.dev/jeugd/2024/wedstrijd/34837
DTSTAMP:20260420T181951Z
SUMMARY:Veldhoven 2 - Mierlo 4
DESCRIPTION:Baan 4\, Wedstrijdnummer 84\, Afdeling E-klasse 
DTSTART:20240929T093000
DTEND:20240929T111500
LOCATION:City Resort Helmond
ATTACH;FMTTYPE=text/plain:https://hbb.rivio.dev/jeugd/2024/wedstrijd/34837
END:VEVENT
BEGIN:VEVENT
UID:https://hbb.rivio.dev/jeugd/2024/wedstrijd/34846
DTSTAMP:20260420T181951Z
SUMMARY:Veldhoven 2 - Mixed 5
DESCRIPTION:Baan 2\, Wedstrijdnummer 35\, Afdeling E-klasse 
DTSTART:20241006T093000
DTEND:20241006T111500
LOCATION:City Resort Helmond
ATTACH;FMTTYPE=text/plain:https://hbb.rivio.dev/jeugd/2024/wedstrijd/34846
END:VEVENT
BEGIN:VEVENT
UID:https://hbb.rivio.dev/jeugd/2024/wedstrijd/34869
DTSTAMP:20260420T181951Z
SUMMARY:Geldrop 1 - Veldhoven 2
DESCRIPTION:Baan 12\, Wedstrijdnummer 58\, Afdeling E-klasse 
DTSTART:20241013T123000
DTEND:20241013T230000
LOCATION:City Resort Helmond
ATTACH;FMTTYPE=text/plain:https://hbb.rivio.dev/jeugd/2024/wedstrijd/34869
END:VEVENT
BEGIN:VEVENT
UID:https://hbb.rivio.dev/jeugd/2024/wedstrijd/34895
DTSTAMP:20260420T181951Z
SUMMARY:Geldrop 2 - Veldhoven 2
DESCRIPTION:Baan 11\, Wedstrijdnummer 12\, Afdeling E-klasse 
DTSTART:20241103T093000
DTEND:20241103T111500
LOCATION:City Resort Helmond
ATTACH;FMTTYPE=text/plain:https://hbb.rivio.dev/jeugd/2024/wedstrijd/34895
END:VEVENT
BEGIN:VEVENT
UID:https://hbb.rivio.dev/jeugd/2024/wedstrijd/34919
DTSTAMP:20260420T181951Z
SUMMARY:Veldhoven 2 - Brabantia 2
DESCRIPTION:Baan 15\, Wedstrijdnummer 108\, Afdeling E-klasse 
DTSTART:20241117T093000
DTEND:20241117T111500
LOCATION:City Resort Helmond
ATTACH;FMTTYPE=text/plain:https://hbb.rivio.dev/jeugd/2024/wedstrijd/34919
END:VEVENT
BEGIN:VEVENT
UID:https://hbb.rivio.dev/jeugd/2024/wedstrijd/34942
DTSTAMP:20260420T181951Z
SUMMARY:Veldhoven 2 - Geldrop 2
DESCRIPTION:Baan 3\, Wedstrijdnummer 132\, Afdeling E-klasse 
DTSTART:20241124T123000
DTEND:20241124T230000
LOCATION:City Resort Helmond
ATTACH;FMTTYPE=text/plain:https://hbb.rivio.dev/jeugd/2024/wedstrijd/34942
END:VEVENT
BEGIN:VEVENT
UID:https://hbb.rivio.dev/jeugd/2024/wedstrijd/34954
DTSTAMP:20260420T181951Z
SUMMARY:Mixed 5 - Veldhoven 2
DESCRIPTION:Baan 5\, Wedstrijdnummer 155\, Afdeling E-klasse 
DTSTART:20241201T093000
DTEND:20241201T111500
LOCATION:City Resort Helmond
ATTACH;FMTTYPE=text/plain:https://hbb.rivio.dev/jeugd/2024/wedstrijd/34954
END:VEVENT
BEGIN:VEVENT
UID:https://hbb.rivio.dev/jeugd/2024/wedstrijd/34960
DTSTAMP:20260420T181951Z
SUMMARY:Veldhoven 2 - Geldrop 1
DESCRIPTION:Baan 1\, Wedstrijdnummer 178\, Afdeling E-klasse 
DTSTART:20241208T093000
DTEND:20241208T111500
LOCATION:City Resort Helmond
ATTACH;FMTTYPE=text/plain:https://hbb.rivio.dev/jeugd/2024/wedstrijd/34960
END:VEVENT
BEGIN:VEVENT
UID:https://hbb.rivio.dev/jeugd/2024/wedstrijd/35015
DTSTAMP:20260420T181951Z
SUMMARY:Mierlo 4 - Veldhoven 2
DESCRIPTION:Baan 10\, Wedstrijdnummer 204\, Afdeling E-klasse 
DTSTART:20250119T093000
DTEND:20250119T111500
LOCATION:City Resort Helmond
ATTACH;FMTTYPE=text/plain:https://hbb.rivio.dev/jeugd/2024/wedstrijd/35015
END:VEVENT
BEGIN:VEVENT
UID:https://hbb.rivio.dev/jeugd/2024/wedstrijd/35039
DTSTAMP:20260420T181951Z
SUMMARY:Brabantia 2 - Veldhoven 2
DESCRIPTION:Baan 15\, Wedstrijdnummer 228\, Afdeling E-klasse 
DTSTART:20250202T123000
DTEND:20250202T230000
LOCATION:City Resort Helmond
ATTACH;FMTTYPE=text/plain:https://hbb.rivio.dev/jeugd/2024/wedstrijd/35039
END:VEVENT
BEGIN:VEVENT
UID:https://hbb.rivio.dev/jeugd/2024/wedstrijd/35843
DTSTAMP:20260420T181951Z
SUMMARY:Veldhoven 2 - Mierlo 4
DESCRIPTION:Baan 15\, Wedstrijdnummer 248\, Afdeling E-klasse 
DTSTART:20250209T123000
DTEND:20250209T230000
LOCATION:City Resort Helmond
ATTACH;FMTTYPE=text/plain:https://hbb.rivio.dev/jeugd/2024/wedstrijd/35843
END:VEVENT
BEGIN:VEVENT
UID:https://hbb.rivio.dev/jeugd/2024/wedstrijd/35898
DTSTAMP:20260420T181951Z
SUMMARY:Brabantia 2 - Veldhoven 2
DESCRIPTION:Baan 11\, Wedstrijdnummer 264\, Afdeling E-klasse 
DTSTART:20250316T093000
DTEND:20250316T111500
LOCATION:City Resort Helmond
ATTACH;FMTTYPE=text/plain:https://hbb.rivio.dev/jeugd/2024/wedstrijd/35898
END:VEVENT
BEGIN:VTIMEZONE
TZID:Europe/Amsterdam
BEGIN:STANDARD
DTSTART:20240101T000000
TZNAME:CET
TZOFFSETTO:+0100
TZOFFSETFROM:+0100
END:STANDARD
BEGIN:DAYLIGHT
DTSTART:20240331T030000
TZNAME:CEST
TZOFFSETTO:+0200
TZOFFSETFROM:+0100
END:DAYLIGHT
BEGIN:STANDARD
DTSTART:20241027T020000
TZNAME:CET
TZOFFSETTO:+0100
TZOFFSETFROM:+0200
END:STANDARD
BEGIN:DAYLIGHT
DTSTART:20250330T030000
TZNAME:CEST
TZOFFSETTO:+0200
TZOFFSETFROM:+0100
END:DAYLIGHT
BEGIN:STANDARD
DTSTART:20251026T020000
TZNAME:CET
TZOFFSETTO:+0100
TZOFFSETFROM:+0200
END:STANDARD
END:VTIMEZONE
END:VCALENDAR
