BEGIN:VCALENDAR
PRODID:-//eluceo/ical//2.0/EN
VERSION:2.0
CALSCALE:GREGORIAN
BEGIN:VEVENT
UID:https://hbb.rivio.dev/jeugd/2024/wedstrijd/34820
DTSTAMP:20260420T133459Z
SUMMARY:Veldhoven 3 - Veldhoven 4
DESCRIPTION:Baan 13\, Wedstrijdnummer 18\, Afdeling G-klasse 
DTSTART:20240908T093000
DTEND:20240908T111500
LOCATION:City Resort Helmond
ATTACH;FMTTYPE=text/plain:https://hbb.rivio.dev/jeugd/2024/wedstrijd/34820
END:VEVENT
BEGIN:VEVENT
UID:https://hbb.rivio.dev/jeugd/2024/wedstrijd/34853
DTSTAMP:20260420T133459Z
SUMMARY:Mierlo 5 - Veldhoven 3
DESCRIPTION:Baan 13\, Wedstrijdnummer 42\, Afdeling G-klasse 
DTSTART:20241006T093000
DTEND:20241006T111500
LOCATION:City Resort Helmond
ATTACH;FMTTYPE=text/plain:https://hbb.rivio.dev/jeugd/2024/wedstrijd/34853
END:VEVENT
BEGIN:VEVENT
UID:https://hbb.rivio.dev/jeugd/2024/wedstrijd/34876
DTSTAMP:20260420T133459Z
SUMMARY:Bakel 2 - Veldhoven 3
DESCRIPTION:Baan 14\, Wedstrijdnummer 65\, Afdeling G-klasse 
DTSTART:20241013T093000
DTEND:20241013T111500
LOCATION:City Resort Helmond
ATTACH;FMTTYPE=text/plain:https://hbb.rivio.dev/jeugd/2024/wedstrijd/34876
END:VEVENT
BEGIN:VEVENT
UID:https://hbb.rivio.dev/jeugd/2024/wedstrijd/34907
DTSTAMP:20260420T133459Z
SUMMARY:Veldhoven 3 - Mixed 7
DESCRIPTION:Baan 13\, Wedstrijdnummer 88\, Afdeling G-klasse 
DTSTART:20241103T123000
DTEND:20241103T230000
LOCATION:City Resort Helmond
ATTACH;FMTTYPE=text/plain:https://hbb.rivio.dev/jeugd/2024/wedstrijd/34907
END:VEVENT
BEGIN:VEVENT
UID:https://hbb.rivio.dev/jeugd/2024/wedstrijd/34924
DTSTAMP:20260420T133500Z
SUMMARY:Geldrop 4 - Veldhoven 3
DESCRIPTION:Baan 5\, Wedstrijdnummer 113\, Afdeling G-klasse 
DTSTART:20241117T123000
DTEND:20241117T230000
LOCATION:City Resort Helmond
ATTACH;FMTTYPE=text/plain:https://hbb.rivio.dev/jeugd/2024/wedstrijd/34924
END:VEVENT
BEGIN:VEVENT
UID:https://hbb.rivio.dev/jeugd/2024/wedstrijd/34949
DTSTAMP:20260420T133500Z
SUMMARY:Veldhoven 4 - Veldhoven 3
DESCRIPTION:Baan 15\, Wedstrijdnummer 138\, Afdeling G-klasse 
DTSTART:20241124T123000
DTEND:20241124T230000
LOCATION:City Resort Helmond
ATTACH;FMTTYPE=text/plain:https://hbb.rivio.dev/jeugd/2024/wedstrijd/34949
END:VEVENT
BEGIN:VEVENT
UID:https://hbb.rivio.dev/jeugd/2024/wedstrijd/34963
DTSTAMP:20260420T133500Z
SUMMARY:Veldhoven 3 - Mierlo 5
DESCRIPTION:Baan 4\, Wedstrijdnummer 162\, Afdeling G-klasse 
DTSTART:20241208T093000
DTEND:20241208T111500
LOCATION:City Resort Helmond
ATTACH;FMTTYPE=text/plain:https://hbb.rivio.dev/jeugd/2024/wedstrijd/34963
END:VEVENT
BEGIN:VEVENT
UID:https://hbb.rivio.dev/jeugd/2024/wedstrijd/34998
DTSTAMP:20260420T133500Z
SUMMARY:Veldhoven 3 - Bakel 2
DESCRIPTION:Baan 14\, Wedstrijdnummer 185\, Afdeling G-klasse 
DTSTART:20241215T123000
DTEND:20241215T230000
LOCATION:City Resort Helmond
ATTACH;FMTTYPE=text/plain:https://hbb.rivio.dev/jeugd/2024/wedstrijd/34998
END:VEVENT
BEGIN:VEVENT
UID:https://hbb.rivio.dev/jeugd/2024/wedstrijd/35019
DTSTAMP:20260420T133500Z
SUMMARY:Mixed 7 - Veldhoven 3
DESCRIPTION:Baan 15\, Wedstrijdnummer 208\, Afdeling G-klasse 
DTSTART:20250119T093000
DTEND:20250119T111500
LOCATION:City Resort Helmond
ATTACH;FMTTYPE=text/plain:https://hbb.rivio.dev/jeugd/2024/wedstrijd/35019
END:VEVENT
BEGIN:VEVENT
UID:https://hbb.rivio.dev/jeugd/2024/wedstrijd/35044
DTSTAMP:20260420T133500Z
SUMMARY:Veldhoven 3 - Geldrop 4
DESCRIPTION:Baan 5\, Wedstrijdnummer 233\, Afdeling G-klasse 
DTSTART:20250209T093000
DTEND:20250209T111500
LOCATION:City Resort Helmond
ATTACH;FMTTYPE=text/plain:https://hbb.rivio.dev/jeugd/2024/wedstrijd/35044
END:VEVENT
BEGIN:VEVENT
UID:https://hbb.rivio.dev/jeugd/2024/wedstrijd/35884
DTSTAMP:20260420T133500Z
SUMMARY:Veldhoven 3 - Geldrop 4
DESCRIPTION:Baan 3\, Wedstrijdnummer 251\, Afdeling G-klasse 
DTSTART:20250216T093000
DTEND:20250216T111500
LOCATION:City Resort Helmond
ATTACH;FMTTYPE=text/plain:https://hbb.rivio.dev/jeugd/2024/wedstrijd/35884
END:VEVENT
BEGIN:VEVENT
UID:https://hbb.rivio.dev/jeugd/2024/wedstrijd/35916
DTSTAMP:20260420T133500Z
SUMMARY:Mixed 7 - Veldhoven 3
DESCRIPTION:Baan 4\, Wedstrijdnummer 283\, Afdeling G-klasse 
DTSTART:20250406T093000
DTEND:20250406T111500
LOCATION:City Resort Helmond
ATTACH;FMTTYPE=text/plain:https://hbb.rivio.dev/jeugd/2024/wedstrijd/35916
END:VEVENT
BEGIN:VTIMEZONE
TZID:Europe/Amsterdam
BEGIN:STANDARD
DTSTART:20240101T000000
TZNAME:CET
TZOFFSETTO:+0100
TZOFFSETFROM:+0100
END:STANDARD
BEGIN:DAYLIGHT
DTSTART:20240331T030000
TZNAME:CEST
TZOFFSETTO:+0200
TZOFFSETFROM:+0100
END:DAYLIGHT
BEGIN:STANDARD
DTSTART:20241027T020000
TZNAME:CET
TZOFFSETTO:+0100
TZOFFSETFROM:+0200
END:STANDARD
BEGIN:DAYLIGHT
DTSTART:20250330T030000
TZNAME:CEST
TZOFFSETTO:+0200
TZOFFSETFROM:+0100
END:DAYLIGHT
BEGIN:STANDARD
DTSTART:20251026T020000
TZNAME:CET
TZOFFSETTO:+0100
TZOFFSETFROM:+0200
END:STANDARD
END:VTIMEZONE
END:VCALENDAR
