BEGIN:VCALENDAR
PRODID:-//eluceo/ical//2.0/EN
VERSION:2.0
CALSCALE:GREGORIAN
BEGIN:VEVENT
UID:https://hbb.rivio.dev/jeugd/2024/wedstrijd/34826
DTSTAMP:20260420T103324Z
SUMMARY:RBC 1 - Gemert 2
DESCRIPTION:Baan 4\, Wedstrijdnummer 29\, Afdeling C-klasse 
DTSTART:20240915T093000
DTEND:20240915T111500
LOCATION:City Resort Helmond
ATTACH;FMTTYPE=text/plain:https://hbb.rivio.dev/jeugd/2024/wedstrijd/34826
END:VEVENT
BEGIN:VEVENT
UID:https://hbb.rivio.dev/jeugd/2024/wedstrijd/34841
DTSTAMP:20260420T103324Z
SUMMARY:Mierlo 2 - RBC 1
DESCRIPTION:Baan 12\, Wedstrijdnummer 6\, Afdeling C-klasse 
DTSTART:20240929T093000
DTEND:20240929T111500
LOCATION:City Resort Helmond
ATTACH;FMTTYPE=text/plain:https://hbb.rivio.dev/jeugd/2024/wedstrijd/34841
END:VEVENT
BEGIN:VEVENT
UID:https://hbb.rivio.dev/jeugd/2024/wedstrijd/34863
DTSTAMP:20260420T103324Z
SUMMARY:Phoenix 1 - RBC 1
DESCRIPTION:Baan 12\, Wedstrijdnummer 52\, Afdeling C-klasse 
DTSTART:20241006T123000
DTEND:20241006T230000
LOCATION:City Resort Helmond
ATTACH;FMTTYPE=text/plain:https://hbb.rivio.dev/jeugd/2024/wedstrijd/34863
END:VEVENT
BEGIN:VEVENT
UID:https://hbb.rivio.dev/jeugd/2024/wedstrijd/34889
DTSTAMP:20260420T103324Z
SUMMARY:RBC 1 - Veldhoven 1
DESCRIPTION:Baan 1\, Wedstrijdnummer 78\, Afdeling C-klasse 
DTSTART:20241103T093000
DTEND:20241103T111500
LOCATION:City Resort Helmond
ATTACH;FMTTYPE=text/plain:https://hbb.rivio.dev/jeugd/2024/wedstrijd/34889
END:VEVENT
BEGIN:VEVENT
UID:https://hbb.rivio.dev/jeugd/2024/wedstrijd/34913
DTSTAMP:20260420T103324Z
SUMMARY:RBC 1 - Mixed 2
DESCRIPTION:Baan 4\, Wedstrijdnummer 102\, Afdeling C-klasse 
DTSTART:20241117T093000
DTEND:20241117T111500
LOCATION:City Resort Helmond
ATTACH;FMTTYPE=text/plain:https://hbb.rivio.dev/jeugd/2024/wedstrijd/34913
END:VEVENT
BEGIN:VEVENT
UID:https://hbb.rivio.dev/jeugd/2024/wedstrijd/34937
DTSTAMP:20260420T103324Z
SUMMARY:RBC 1 - Mierlo 2
DESCRIPTION:Baan 13\, Wedstrijdnummer 126\, Afdeling C-klasse 
DTSTART:20241124T093000
DTEND:20241124T111500
LOCATION:City Resort Helmond
ATTACH;FMTTYPE=text/plain:https://hbb.rivio.dev/jeugd/2024/wedstrijd/34937
END:VEVENT
BEGIN:VEVENT
UID:https://hbb.rivio.dev/jeugd/2024/wedstrijd/34973
DTSTAMP:20260420T103324Z
SUMMARY:RBC 1 - Phoenix 1
DESCRIPTION:Baan 4\, Wedstrijdnummer 172\, Afdeling C-klasse 
DTSTART:20241208T123000
DTEND:20241208T230000
LOCATION:City Resort Helmond
ATTACH;FMTTYPE=text/plain:https://hbb.rivio.dev/jeugd/2024/wedstrijd/34973
END:VEVENT
BEGIN:VEVENT
UID:https://hbb.rivio.dev/jeugd/2024/wedstrijd/34990
DTSTAMP:20260420T103324Z
SUMMARY:Gemert 2 - RBC 1
DESCRIPTION:Baan 2\, Wedstrijdnummer 149\, Afdeling C-klasse 
DTSTART:20241215T093000
DTEND:20241215T111500
LOCATION:City Resort Helmond
ATTACH;FMTTYPE=text/plain:https://hbb.rivio.dev/jeugd/2024/wedstrijd/34990
END:VEVENT
BEGIN:VEVENT
UID:https://hbb.rivio.dev/jeugd/2024/wedstrijd/35009
DTSTAMP:20260420T103324Z
SUMMARY:Veldhoven 1 - RBC 1
DESCRIPTION:Baan 15\, Wedstrijdnummer 198\, Afdeling C-klasse 
DTSTART:20250112T093000
DTEND:20250112T111500
LOCATION:City Resort Helmond
ATTACH;FMTTYPE=text/plain:https://hbb.rivio.dev/jeugd/2024/wedstrijd/35009
END:VEVENT
BEGIN:VEVENT
UID:https://hbb.rivio.dev/jeugd/2024/wedstrijd/35033
DTSTAMP:20260420T103324Z
SUMMARY:Mixed 2 - RBC 1
DESCRIPTION:Baan 4\, Wedstrijdnummer 222\, Afdeling C-klasse 
DTSTART:20250202T123000
DTEND:20250202T230000
LOCATION:City Resort Helmond
ATTACH;FMTTYPE=text/plain:https://hbb.rivio.dev/jeugd/2024/wedstrijd/35033
END:VEVENT
BEGIN:VEVENT
UID:https://hbb.rivio.dev/jeugd/2024/wedstrijd/35845
DTSTAMP:20260420T103324Z
SUMMARY:Veldhoven 1 - RBC 1
DESCRIPTION:Baan 11\, Wedstrijdnummer 244\, Afdeling C-klasse 
DTSTART:20250209T123000
DTEND:20250209T230000
LOCATION:City Resort Helmond
ATTACH;FMTTYPE=text/plain:https://hbb.rivio.dev/jeugd/2024/wedstrijd/35845
END:VEVENT
BEGIN:VEVENT
UID:https://hbb.rivio.dev/jeugd/2024/wedstrijd/35909
DTSTAMP:20260420T103324Z
SUMMARY:RBC 1 - Phoenix 1
DESCRIPTION:Baan 12\, Wedstrijdnummer 276\, Afdeling C-klasse 
DTSTART:20250330T093000
DTEND:20250330T111500
LOCATION:City Resort Helmond
ATTACH;FMTTYPE=text/plain:https://hbb.rivio.dev/jeugd/2024/wedstrijd/35909
END:VEVENT
BEGIN:VTIMEZONE
TZID:Europe/Amsterdam
BEGIN:STANDARD
DTSTART:20240101T000000
TZNAME:CET
TZOFFSETTO:+0100
TZOFFSETFROM:+0100
END:STANDARD
BEGIN:DAYLIGHT
DTSTART:20240331T030000
TZNAME:CEST
TZOFFSETTO:+0200
TZOFFSETFROM:+0100
END:DAYLIGHT
BEGIN:STANDARD
DTSTART:20241027T020000
TZNAME:CET
TZOFFSETTO:+0100
TZOFFSETFROM:+0200
END:STANDARD
BEGIN:DAYLIGHT
DTSTART:20250330T030000
TZNAME:CEST
TZOFFSETTO:+0200
TZOFFSETFROM:+0100
END:DAYLIGHT
BEGIN:STANDARD
DTSTART:20251026T020000
TZNAME:CET
TZOFFSETTO:+0100
TZOFFSETFROM:+0200
END:STANDARD
END:VTIMEZONE
END:VCALENDAR
