BEGIN:VCALENDAR
PRODID:-//eluceo/ical//2.0/EN
VERSION:2.0
CALSCALE:GREGORIAN
BEGIN:VEVENT
UID:https://hbb.rivio.dev/senioren/2024/wedstrijd/35468
DTSTAMP:20260420T164846Z
SUMMARY:Bakel 2 - Bakel 3
DESCRIPTION:Baan 1\, Wedstrijdnummer 30\, Afdeling Hoofdklasse 
DTSTART:20240919T200000
DTEND:20240919T230000
LOCATION:City Resort Helmond
ATTACH;FMTTYPE=text/plain:https://hbb.rivio.dev/senioren/2024/wedstrijd/354
 68
END:VEVENT
BEGIN:VEVENT
UID:https://hbb.rivio.dev/senioren/2024/wedstrijd/35506
DTSTAMP:20260420T164846Z
SUMMARY:Bakel 3 - Mierlo 2
DESCRIPTION:Baan 2\, Wedstrijdnummer 33\, Afdeling Hoofdklasse 
DTSTART:20241003T200000
DTEND:20241003T230000
LOCATION:City Resort Helmond
ATTACH;FMTTYPE=text/plain:https://hbb.rivio.dev/senioren/2024/wedstrijd/355
 06
END:VEVENT
BEGIN:VEVENT
UID:https://hbb.rivio.dev/senioren/2024/wedstrijd/35547
DTSTAMP:20260420T164846Z
SUMMARY:De Valken 2 - Bakel 3
DESCRIPTION:Baan 4\, Wedstrijdnummer 39\, Afdeling Hoofdklasse 
DTSTART:20241017T200000
DTEND:20241017T230000
LOCATION:City Resort Helmond
ATTACH;FMTTYPE=text/plain:https://hbb.rivio.dev/senioren/2024/wedstrijd/355
 47
END:VEVENT
BEGIN:VEVENT
UID:https://hbb.rivio.dev/senioren/2024/wedstrijd/35590
DTSTAMP:20260420T164846Z
SUMMARY:Bakel 3 - Mierlo 3
DESCRIPTION:Baan 2\, Wedstrijdnummer 41\, Afdeling Hoofdklasse 
DTSTART:20241114T200000
DTEND:20241114T230000
LOCATION:City Resort Helmond
ATTACH;FMTTYPE=text/plain:https://hbb.rivio.dev/senioren/2024/wedstrijd/355
 90
END:VEVENT
BEGIN:VEVENT
UID:https://hbb.rivio.dev/senioren/2024/wedstrijd/35618
DTSTAMP:20260420T164846Z
SUMMARY:Bakel 3 - Mixed 2
DESCRIPTION:Baan 1\, Wedstrijdnummer 46\, Afdeling Hoofdklasse 
DTSTART:20241128T200000
DTEND:20241128T230000
LOCATION:City Resort Helmond
ATTACH;FMTTYPE=text/plain:https://hbb.rivio.dev/senioren/2024/wedstrijd/356
 18
END:VEVENT
BEGIN:VEVENT
UID:https://hbb.rivio.dev/senioren/2024/wedstrijd/35630
DTSTAMP:20260420T164846Z
SUMMARY:Geldrop 1 - Bakel 3
DESCRIPTION:Baan 4\, Wedstrijdnummer 52\, Afdeling Hoofdklasse 
DTSTART:20241204T200000
DTEND:20241204T230000
LOCATION:City Resort Helmond
ATTACH;FMTTYPE=text/plain:https://hbb.rivio.dev/senioren/2024/wedstrijd/356
 30
END:VEVENT
BEGIN:VEVENT
UID:https://hbb.rivio.dev/senioren/2024/wedstrijd/35651
DTSTAMP:20260420T164846Z
SUMMARY:Bakel 3 - Ganzeveer 1
DESCRIPTION:Baan 5\, Wedstrijdnummer 54\, Afdeling Hoofdklasse 
DTSTART:20241212T200000
DTEND:20241212T230000
LOCATION:City Resort Helmond
ATTACH;FMTTYPE=text/plain:https://hbb.rivio.dev/senioren/2024/wedstrijd/356
 51
END:VEVENT
BEGIN:VEVENT
UID:https://hbb.rivio.dev/senioren/2024/wedstrijd/35658
DTSTAMP:20260420T164846Z
SUMMARY:'t Veertje 1 - Bakel 3
DESCRIPTION:Baan 3\, Wedstrijdnummer 59\, Afdeling Hoofdklasse 
DTSTART:20241218T200000
DTEND:20241218T230000
LOCATION:City Resort Helmond
ATTACH;FMTTYPE=text/plain:https://hbb.rivio.dev/senioren/2024/wedstrijd/356
 58
END:VEVENT
BEGIN:VEVENT
UID:https://hbb.rivio.dev/senioren/2024/wedstrijd/35730
DTSTAMP:20260420T164846Z
SUMMARY:Bakel 3 - Bakel 2
DESCRIPTION:Baan 2\, Wedstrijdnummer 1030\, Afdeling Hoofdklasse 
DTSTART:20250130T200000
DTEND:20250130T230000
LOCATION:City Resort Helmond
ATTACH;FMTTYPE=text/plain:https://hbb.rivio.dev/senioren/2024/wedstrijd/357
 30
END:VEVENT
BEGIN:VEVENT
UID:https://hbb.rivio.dev/senioren/2024/wedstrijd/35768
DTSTAMP:20260420T164846Z
SUMMARY:Mierlo 2 - Bakel 3
DESCRIPTION:Baan 2\, Wedstrijdnummer 1033\, Afdeling Hoofdklasse 
DTSTART:20250213T200000
DTEND:20250213T230000
LOCATION:City Resort Helmond
ATTACH;FMTTYPE=text/plain:https://hbb.rivio.dev/senioren/2024/wedstrijd/357
 68
END:VEVENT
BEGIN:VEVENT
UID:https://hbb.rivio.dev/senioren/2024/wedstrijd/35790
DTSTAMP:20260420T164846Z
SUMMARY:Bakel 3 - De Valken 2
DESCRIPTION:Baan 2\, Wedstrijdnummer 1039\, Afdeling Hoofdklasse 
DTSTART:20250313T200000
DTEND:20250313T230000
LOCATION:City Resort Helmond
ATTACH;FMTTYPE=text/plain:https://hbb.rivio.dev/senioren/2024/wedstrijd/357
 90
END:VEVENT
BEGIN:VEVENT
UID:https://hbb.rivio.dev/senioren/2024/wedstrijd/35799
DTSTAMP:20260420T164846Z
SUMMARY:Mierlo 3 - Bakel 3
DESCRIPTION:Baan 3\, Wedstrijdnummer 1041\, Afdeling Hoofdklasse 
DTSTART:20250320T200000
DTEND:20250320T230000
LOCATION:City Resort Helmond
ATTACH;FMTTYPE=text/plain:https://hbb.rivio.dev/senioren/2024/wedstrijd/357
 99
END:VEVENT
BEGIN:VEVENT
UID:https://hbb.rivio.dev/senioren/2024/wedstrijd/35802
DTSTAMP:20260420T164846Z
SUMMARY:Mixed 2 - Bakel 3
DESCRIPTION:Baan 1\, Wedstrijdnummer 1046\, Afdeling Hoofdklasse 
DTSTART:20250327T200000
DTEND:20250327T230000
LOCATION:City Resort Helmond
ATTACH;FMTTYPE=text/plain:https://hbb.rivio.dev/senioren/2024/wedstrijd/358
 02
END:VEVENT
BEGIN:VEVENT
UID:https://hbb.rivio.dev/senioren/2024/wedstrijd/35817
DTSTAMP:20260420T164846Z
SUMMARY:Bakel 3 - Geldrop 1
DESCRIPTION:Baan 3\, Wedstrijdnummer 1052\, Afdeling Hoofdklasse 
DTSTART:20250410T200000
DTEND:20250410T230000
LOCATION:City Resort Helmond
ATTACH;FMTTYPE=text/plain:https://hbb.rivio.dev/senioren/2024/wedstrijd/358
 17
END:VEVENT
BEGIN:VEVENT
UID:https://hbb.rivio.dev/senioren/2024/wedstrijd/35819
DTSTAMP:20260420T164846Z
SUMMARY:Ganzeveer 1 - Bakel 3
DESCRIPTION:Baan 2\, Wedstrijdnummer 1054\, Afdeling Hoofdklasse 
DTSTART:20250416T200000
DTEND:20250416T230000
LOCATION:City Resort Helmond
ATTACH;FMTTYPE=text/plain:https://hbb.rivio.dev/senioren/2024/wedstrijd/358
 19
END:VEVENT
BEGIN:VTIMEZONE
TZID:Europe/Amsterdam
BEGIN:STANDARD
DTSTART:20240101T000000
TZNAME:CET
TZOFFSETTO:+0100
TZOFFSETFROM:+0100
END:STANDARD
BEGIN:DAYLIGHT
DTSTART:20240331T030000
TZNAME:CEST
TZOFFSETTO:+0200
TZOFFSETFROM:+0100
END:DAYLIGHT
BEGIN:STANDARD
DTSTART:20241027T020000
TZNAME:CET
TZOFFSETTO:+0100
TZOFFSETFROM:+0200
END:STANDARD
BEGIN:DAYLIGHT
DTSTART:20250330T030000
TZNAME:CEST
TZOFFSETTO:+0200
TZOFFSETFROM:+0100
END:DAYLIGHT
BEGIN:STANDARD
DTSTART:20251026T020000
TZNAME:CET
TZOFFSETTO:+0100
TZOFFSETFROM:+0200
END:STANDARD
END:VTIMEZONE
END:VCALENDAR
