BEGIN:VCALENDAR
PRODID:-//eluceo/ical//2.0/EN
VERSION:2.0
CALSCALE:GREGORIAN
BEGIN:VEVENT
UID:https://hbb.rivio.dev/senioren/2024/wedstrijd/35468
DTSTAMP:20260420T150354Z
SUMMARY:Bakel 2 - Bakel 3
DESCRIPTION:Baan 1\, Wedstrijdnummer 30\, Afdeling Hoofdklasse 
DTSTART:20240919T200000
DTEND:20240919T230000
LOCATION:City Resort Helmond
ATTACH;FMTTYPE=text/plain:https://hbb.rivio.dev/senioren/2024/wedstrijd/354
 68
END:VEVENT
BEGIN:VEVENT
UID:https://hbb.rivio.dev/senioren/2024/wedstrijd/35499
DTSTAMP:20260420T150354Z
SUMMARY:Geldrop 1 - Bakel 2
DESCRIPTION:Baan 4\, Wedstrijdnummer 36\, Afdeling Hoofdklasse 
DTSTART:20241002T200000
DTEND:20241002T230000
LOCATION:City Resort Helmond
ATTACH;FMTTYPE=text/plain:https://hbb.rivio.dev/senioren/2024/wedstrijd/354
 99
END:VEVENT
BEGIN:VEVENT
UID:https://hbb.rivio.dev/senioren/2024/wedstrijd/35546
DTSTAMP:20260420T150354Z
SUMMARY:Bakel 2 - Ganzeveer 1
DESCRIPTION:Baan 3\, Wedstrijdnummer 38\, Afdeling Hoofdklasse 
DTSTART:20241017T200000
DTEND:20241017T230000
LOCATION:City Resort Helmond
ATTACH;FMTTYPE=text/plain:https://hbb.rivio.dev/senioren/2024/wedstrijd/355
 46
END:VEVENT
BEGIN:VEVENT
UID:https://hbb.rivio.dev/senioren/2024/wedstrijd/35582
DTSTAMP:20260420T150354Z
SUMMARY:'t Veertje 1 - Bakel 2
DESCRIPTION:Baan 3\, Wedstrijdnummer 42\, Afdeling Hoofdklasse 
DTSTART:20241113T200000
DTEND:20241113T230000
LOCATION:City Resort Helmond
ATTACH;FMTTYPE=text/plain:https://hbb.rivio.dev/senioren/2024/wedstrijd/355
 82
END:VEVENT
BEGIN:VEVENT
UID:https://hbb.rivio.dev/senioren/2024/wedstrijd/35650
DTSTAMP:20260420T150354Z
SUMMARY:Mixed 2 - Bakel 2
DESCRIPTION:Baan 4\, Wedstrijdnummer 51\, Afdeling Hoofdklasse 
DTSTART:20241212T200000
DTEND:20241212T230000
LOCATION:City Resort Helmond
ATTACH;FMTTYPE=text/plain:https://hbb.rivio.dev/senioren/2024/wedstrijd/356
 50
END:VEVENT
BEGIN:VEVENT
UID:https://hbb.rivio.dev/senioren/2024/wedstrijd/35668
DTSTAMP:20260420T150354Z
SUMMARY:Mierlo 2 - Bakel 2
DESCRIPTION:Baan 3\, Wedstrijdnummer 53\, Afdeling Hoofdklasse 
DTSTART:20241219T200000
DTEND:20241219T230000
LOCATION:City Resort Helmond
ATTACH;FMTTYPE=text/plain:https://hbb.rivio.dev/senioren/2024/wedstrijd/356
 68
END:VEVENT
BEGIN:VEVENT
UID:https://hbb.rivio.dev/senioren/2024/wedstrijd/35675
DTSTAMP:20260420T150354Z
SUMMARY:Bakel 2 - De Valken 2
DESCRIPTION:Baan 2\, Wedstrijdnummer 58\, Afdeling Hoofdklasse 
DTSTART:20250109T200000
DTEND:20250109T230000
LOCATION:City Resort Helmond
ATTACH;FMTTYPE=text/plain:https://hbb.rivio.dev/senioren/2024/wedstrijd/356
 75
END:VEVENT
BEGIN:VEVENT
UID:https://hbb.rivio.dev/senioren/2024/wedstrijd/35712
DTSTAMP:20260420T150354Z
SUMMARY:Mierlo 3 - Bakel 2
DESCRIPTION:Baan 2\, Wedstrijdnummer 63\, Afdeling Hoofdklasse 
DTSTART:20250123T200000
DTEND:20250123T230000
LOCATION:City Resort Helmond
ATTACH;FMTTYPE=text/plain:https://hbb.rivio.dev/senioren/2024/wedstrijd/357
 12
END:VEVENT
BEGIN:VEVENT
UID:https://hbb.rivio.dev/senioren/2024/wedstrijd/35730
DTSTAMP:20260420T150354Z
SUMMARY:Bakel 3 - Bakel 2
DESCRIPTION:Baan 2\, Wedstrijdnummer 1030\, Afdeling Hoofdklasse 
DTSTART:20250130T200000
DTEND:20250130T230000
LOCATION:City Resort Helmond
ATTACH;FMTTYPE=text/plain:https://hbb.rivio.dev/senioren/2024/wedstrijd/357
 30
END:VEVENT
BEGIN:VEVENT
UID:https://hbb.rivio.dev/senioren/2024/wedstrijd/35769
DTSTAMP:20260420T150354Z
SUMMARY:Bakel 2 - Geldrop 1
DESCRIPTION:Baan 3\, Wedstrijdnummer 1036\, Afdeling Hoofdklasse 
DTSTART:20250213T200000
DTEND:20250213T230000
LOCATION:City Resort Helmond
ATTACH;FMTTYPE=text/plain:https://hbb.rivio.dev/senioren/2024/wedstrijd/357
 69
END:VEVENT
BEGIN:VEVENT
UID:https://hbb.rivio.dev/senioren/2024/wedstrijd/35779
DTSTAMP:20260420T150354Z
SUMMARY:Ganzeveer 1 - Bakel 2
DESCRIPTION:Baan 3\, Wedstrijdnummer 1038\, Afdeling Hoofdklasse 
DTSTART:20250219T200000
DTEND:20250219T230000
LOCATION:City Resort Helmond
ATTACH;FMTTYPE=text/plain:https://hbb.rivio.dev/senioren/2024/wedstrijd/357
 79
END:VEVENT
BEGIN:VEVENT
UID:https://hbb.rivio.dev/senioren/2024/wedstrijd/35800
DTSTAMP:20260420T150354Z
SUMMARY:Bakel 2 - 't Veertje 1
DESCRIPTION:Baan 4\, Wedstrijdnummer 1042\, Afdeling Hoofdklasse 
DTSTART:20250320T200000
DTEND:20250320T230000
LOCATION:City Resort Helmond
ATTACH;FMTTYPE=text/plain:https://hbb.rivio.dev/senioren/2024/wedstrijd/358
 00
END:VEVENT
BEGIN:VEVENT
UID:https://hbb.rivio.dev/senioren/2024/wedstrijd/35816
DTSTAMP:20260420T150354Z
SUMMARY:Bakel 2 - Mixed 2
DESCRIPTION:Baan 2\, Wedstrijdnummer 1051\, Afdeling Hoofdklasse 
DTSTART:20250410T200000
DTEND:20250410T230000
LOCATION:City Resort Helmond
ATTACH;FMTTYPE=text/plain:https://hbb.rivio.dev/senioren/2024/wedstrijd/358
 16
END:VEVENT
BEGIN:VEVENT
UID:https://hbb.rivio.dev/senioren/2024/wedstrijd/35825
DTSTAMP:20260420T150354Z
SUMMARY:Bakel 2 - Mierlo 2
DESCRIPTION:Baan 4\, Wedstrijdnummer 1053\, Afdeling Hoofdklasse 
DTSTART:20250417T200000
DTEND:20250417T230000
LOCATION:City Resort Helmond
ATTACH;FMTTYPE=text/plain:https://hbb.rivio.dev/senioren/2024/wedstrijd/358
 25
END:VEVENT
BEGIN:VEVENT
UID:https://hbb.rivio.dev/senioren/2024/wedstrijd/35827
DTSTAMP:20260420T150355Z
SUMMARY:De Valken 2 - Bakel 2
DESCRIPTION:Baan 1\, Wedstrijdnummer 1058\, Afdeling Hoofdklasse 
DTSTART:20250515T200000
DTEND:20250515T230000
LOCATION:City Resort Helmond
ATTACH;FMTTYPE=text/plain:https://hbb.rivio.dev/senioren/2024/wedstrijd/358
 27
END:VEVENT
BEGIN:VEVENT
UID:https://hbb.rivio.dev/senioren/2024/wedstrijd/35836
DTSTAMP:20260420T150355Z
SUMMARY:Bakel 2 - Mierlo 3
DESCRIPTION:Baan 3\, Wedstrijdnummer 1063\, Afdeling Hoofdklasse 
DTSTART:20250528T200000
DTEND:20250528T230000
LOCATION:City Resort Helmond
ATTACH;FMTTYPE=text/plain:https://hbb.rivio.dev/senioren/2024/wedstrijd/358
 36
END:VEVENT
BEGIN:VTIMEZONE
TZID:Europe/Amsterdam
BEGIN:STANDARD
DTSTART:20240101T000000
TZNAME:CET
TZOFFSETTO:+0100
TZOFFSETFROM:+0100
END:STANDARD
BEGIN:DAYLIGHT
DTSTART:20240331T030000
TZNAME:CEST
TZOFFSETTO:+0200
TZOFFSETFROM:+0100
END:DAYLIGHT
BEGIN:STANDARD
DTSTART:20241027T020000
TZNAME:CET
TZOFFSETTO:+0100
TZOFFSETFROM:+0200
END:STANDARD
BEGIN:DAYLIGHT
DTSTART:20250330T030000
TZNAME:CEST
TZOFFSETTO:+0200
TZOFFSETFROM:+0100
END:DAYLIGHT
BEGIN:STANDARD
DTSTART:20251026T020000
TZNAME:CET
TZOFFSETTO:+0100
TZOFFSETFROM:+0200
END:STANDARD
END:VTIMEZONE
END:VCALENDAR
