BEGIN:VCALENDAR
PRODID:-//eluceo/ical//2.0/EN
VERSION:2.0
CALSCALE:GREGORIAN
BEGIN:VEVENT
UID:https://hbb.rivio.dev/senioren/2024/wedstrijd/35487
DTSTAMP:20260420T190248Z
SUMMARY:Mierlo 1 - Bakel 1
DESCRIPTION:Baan 1\, Wedstrijdnummer 3\, Afdeling Topklasse 
DTSTART:20240926T200000
DTEND:20240926T230000
LOCATION:City Resort Helmond
ATTACH;FMTTYPE=text/plain:https://hbb.rivio.dev/senioren/2024/wedstrijd/354
 87
END:VEVENT
BEGIN:VEVENT
UID:https://hbb.rivio.dev/senioren/2024/wedstrijd/35525
DTSTAMP:20260420T190248Z
SUMMARY:Someren 1 - Bakel 1
DESCRIPTION:Baan 1\, Wedstrijdnummer 6\, Afdeling Topklasse 
DTSTART:20241010T200000
DTEND:20241010T230000
LOCATION:City Resort Helmond
ATTACH;FMTTYPE=text/plain:https://hbb.rivio.dev/senioren/2024/wedstrijd/355
 25
END:VEVENT
BEGIN:VEVENT
UID:https://hbb.rivio.dev/senioren/2024/wedstrijd/35534
DTSTAMP:20260420T190248Z
SUMMARY:Phoenix 1 - Bakel 1
DESCRIPTION:Baan 1\, Wedstrijdnummer 9\, Afdeling Topklasse 
DTSTART:20241016T200000
DTEND:20241016T230000
LOCATION:City Resort Helmond
ATTACH;FMTTYPE=text/plain:https://hbb.rivio.dev/senioren/2024/wedstrijd/355
 34
END:VEVENT
BEGIN:VEVENT
UID:https://hbb.rivio.dev/senioren/2024/wedstrijd/35563
DTSTAMP:20260420T190248Z
SUMMARY:Bakel 1 - Mixed 1
DESCRIPTION:Baan 1\, Wedstrijdnummer 14\, Afdeling Topklasse 
DTSTART:20241031T200000
DTEND:20241031T230000
LOCATION:City Resort Helmond
ATTACH;FMTTYPE=text/plain:https://hbb.rivio.dev/senioren/2024/wedstrijd/355
 63
END:VEVENT
BEGIN:VEVENT
UID:https://hbb.rivio.dev/senioren/2024/wedstrijd/35599
DTSTAMP:20260420T190248Z
SUMMARY:Bakel 1 - Con Brio 1
DESCRIPTION:Baan 1\, Wedstrijdnummer 19\, Afdeling Topklasse 
DTSTART:20241121T200000
DTEND:20241121T230000
LOCATION:City Resort Helmond
ATTACH;FMTTYPE=text/plain:https://hbb.rivio.dev/senioren/2024/wedstrijd/355
 99
END:VEVENT
BEGIN:VEVENT
UID:https://hbb.rivio.dev/senioren/2024/wedstrijd/35649
DTSTAMP:20260420T190248Z
SUMMARY:Bakel 1 - De Valken 1
DESCRIPTION:Baan 3\, Wedstrijdnummer 24\, Afdeling Topklasse 
DTSTART:20241212T200000
DTEND:20241212T230000
LOCATION:City Resort Helmond
ATTACH;FMTTYPE=text/plain:https://hbb.rivio.dev/senioren/2024/wedstrijd/356
 49
END:VEVENT
BEGIN:VEVENT
UID:https://hbb.rivio.dev/senioren/2024/wedstrijd/35666
DTSTAMP:20260420T190248Z
SUMMARY:Brabantia 1 - Bakel 1
DESCRIPTION:Baan 1\, Wedstrijdnummer 28\, Afdeling Topklasse 
DTSTART:20241219T200000
DTEND:20241219T230000
LOCATION:City Resort Helmond
ATTACH;FMTTYPE=text/plain:https://hbb.rivio.dev/senioren/2024/wedstrijd/356
 66
END:VEVENT
BEGIN:VEVENT
UID:https://hbb.rivio.dev/senioren/2024/wedstrijd/35694
DTSTAMP:20260420T190248Z
SUMMARY:Bakel 1 - Mierlo 1
DESCRIPTION:Baan 2\, Wedstrijdnummer 1003\, Afdeling Topklasse 
DTSTART:20250116T200000
DTEND:20250116T230000
LOCATION:City Resort Helmond
ATTACH;FMTTYPE=text/plain:https://hbb.rivio.dev/senioren/2024/wedstrijd/356
 94
END:VEVENT
BEGIN:VEVENT
UID:https://hbb.rivio.dev/senioren/2024/wedstrijd/35711
DTSTAMP:20260420T190248Z
SUMMARY:Bakel 1 - Someren 1
DESCRIPTION:Baan 1\, Wedstrijdnummer 1006\, Afdeling Topklasse 
DTSTART:20250123T200000
DTEND:20250123T230000
LOCATION:City Resort Helmond
ATTACH;FMTTYPE=text/plain:https://hbb.rivio.dev/senioren/2024/wedstrijd/357
 11
END:VEVENT
BEGIN:VEVENT
UID:https://hbb.rivio.dev/senioren/2024/wedstrijd/35750
DTSTAMP:20260420T190248Z
SUMMARY:Bakel 1 - Phoenix 1
DESCRIPTION:Baan 2\, Wedstrijdnummer 1009\, Afdeling Topklasse 
DTSTART:20250206T200000
DTEND:20250206T230000
LOCATION:City Resort Helmond
ATTACH;FMTTYPE=text/plain:https://hbb.rivio.dev/senioren/2024/wedstrijd/357
 50
END:VEVENT
BEGIN:VEVENT
UID:https://hbb.rivio.dev/senioren/2024/wedstrijd/35783
DTSTAMP:20260420T190248Z
SUMMARY:Mixed 1 - Bakel 1
DESCRIPTION:Baan 1\, Wedstrijdnummer 1014\, Afdeling Topklasse 
DTSTART:20250220T200000
DTEND:20250220T230000
LOCATION:City Resort Helmond
ATTACH;FMTTYPE=text/plain:https://hbb.rivio.dev/senioren/2024/wedstrijd/357
 83
END:VEVENT
BEGIN:VEVENT
UID:https://hbb.rivio.dev/senioren/2024/wedstrijd/35797
DTSTAMP:20260420T190248Z
SUMMARY:Con Brio 1 - Bakel 1
DESCRIPTION:Baan 1\, Wedstrijdnummer 1019\, Afdeling Topklasse 
DTSTART:20250320T200000
DTEND:20250320T230000
LOCATION:City Resort Helmond
ATTACH;FMTTYPE=text/plain:https://hbb.rivio.dev/senioren/2024/wedstrijd/357
 97
END:VEVENT
BEGIN:VEVENT
UID:https://hbb.rivio.dev/senioren/2024/wedstrijd/35807
DTSTAMP:20260420T190248Z
SUMMARY:De Valken 1 - Bakel 1
DESCRIPTION:Baan 2\, Wedstrijdnummer 1024\, Afdeling Topklasse 
DTSTART:20250403T200000
DTEND:20250403T230000
LOCATION:City Resort Helmond
ATTACH;FMTTYPE=text/plain:https://hbb.rivio.dev/senioren/2024/wedstrijd/358
 07
END:VEVENT
BEGIN:VEVENT
UID:https://hbb.rivio.dev/senioren/2024/wedstrijd/35824
DTSTAMP:20260420T190248Z
SUMMARY:Bakel 1 - Brabantia 1
DESCRIPTION:Baan 3\, Wedstrijdnummer 1028\, Afdeling Topklasse 
DTSTART:20250417T200000
DTEND:20250417T230000
LOCATION:City Resort Helmond
ATTACH;FMTTYPE=text/plain:https://hbb.rivio.dev/senioren/2024/wedstrijd/358
 24
END:VEVENT
BEGIN:VTIMEZONE
TZID:Europe/Amsterdam
BEGIN:STANDARD
DTSTART:20240101T000000
TZNAME:CET
TZOFFSETTO:+0100
TZOFFSETFROM:+0100
END:STANDARD
BEGIN:DAYLIGHT
DTSTART:20240331T030000
TZNAME:CEST
TZOFFSETTO:+0200
TZOFFSETFROM:+0100
END:DAYLIGHT
BEGIN:STANDARD
DTSTART:20241027T020000
TZNAME:CET
TZOFFSETTO:+0100
TZOFFSETFROM:+0200
END:STANDARD
BEGIN:DAYLIGHT
DTSTART:20250330T030000
TZNAME:CEST
TZOFFSETTO:+0200
TZOFFSETFROM:+0100
END:DAYLIGHT
BEGIN:STANDARD
DTSTART:20251026T020000
TZNAME:CET
TZOFFSETTO:+0100
TZOFFSETFROM:+0200
END:STANDARD
END:VTIMEZONE
END:VCALENDAR
