BEGIN:VCALENDAR
PRODID:-//eluceo/ical//2.0/EN
VERSION:2.0
CALSCALE:GREGORIAN
BEGIN:VEVENT
UID:https://hbb.rivio.dev/jeugd/2024/wedstrijd/34822
DTSTAMP:20260420T164523Z
SUMMARY:Mixed 9 - Mixed 10
DESCRIPTION:Baan 15\, Wedstrijdnummer 118\, Afdeling I-klasse 
DTSTART:20240908T093000
DTEND:20240908T111500
LOCATION:City Resort Helmond
ATTACH;FMTTYPE=text/plain:https://hbb.rivio.dev/jeugd/2024/wedstrijd/34822
END:VEVENT
BEGIN:VEVENT
UID:https://hbb.rivio.dev/jeugd/2024/wedstrijd/34858
DTSTAMP:20260420T164523Z
SUMMARY:Mixed 10 - Veldhoven 5
DESCRIPTION:Baan 3\, Wedstrijdnummer 23\, Afdeling I-klasse 
DTSTART:20241006T123000
DTEND:20241006T230000
LOCATION:City Resort Helmond
ATTACH;FMTTYPE=text/plain:https://hbb.rivio.dev/jeugd/2024/wedstrijd/34858
END:VEVENT
BEGIN:VEVENT
UID:https://hbb.rivio.dev/jeugd/2024/wedstrijd/34882
DTSTAMP:20260420T164523Z
SUMMARY:Mixed 10 - VBSC 3
DESCRIPTION:Baan 5\, Wedstrijdnummer 71\, Afdeling I-klasse 
DTSTART:20241013T123000
DTEND:20241013T230000
LOCATION:City Resort Helmond
ATTACH;FMTTYPE=text/plain:https://hbb.rivio.dev/jeugd/2024/wedstrijd/34882
END:VEVENT
BEGIN:VEVENT
UID:https://hbb.rivio.dev/jeugd/2024/wedstrijd/34906
DTSTAMP:20260420T164523Z
SUMMARY:Phoenix 4 - Mixed 10
DESCRIPTION:Baan 12\, Wedstrijdnummer 95\, Afdeling I-klasse 
DTSTART:20241103T123000
DTEND:20241103T230000
LOCATION:City Resort Helmond
ATTACH;FMTTYPE=text/plain:https://hbb.rivio.dev/jeugd/2024/wedstrijd/34906
END:VEVENT
BEGIN:VEVENT
UID:https://hbb.rivio.dev/jeugd/2024/wedstrijd/34930
DTSTAMP:20260420T164523Z
SUMMARY:VBSC 4 - Mixed 10
DESCRIPTION:Baan 1\, Wedstrijdnummer 47\, Afdeling I-klasse 
DTSTART:20241124T093000
DTEND:20241124T111500
LOCATION:City Resort Helmond
ATTACH;FMTTYPE=text/plain:https://hbb.rivio.dev/jeugd/2024/wedstrijd/34930
END:VEVENT
BEGIN:VEVENT
UID:https://hbb.rivio.dev/jeugd/2024/wedstrijd/34968
DTSTAMP:20260420T164523Z
SUMMARY:Mixed 10 - VBSC 4
DESCRIPTION:Baan 14\, Wedstrijdnummer 167\, Afdeling I-klasse 
DTSTART:20241208T093000
DTEND:20241208T111500
LOCATION:City Resort Helmond
ATTACH;FMTTYPE=text/plain:https://hbb.rivio.dev/jeugd/2024/wedstrijd/34968
END:VEVENT
BEGIN:VEVENT
UID:https://hbb.rivio.dev/jeugd/2024/wedstrijd/34986
DTSTAMP:20260420T164523Z
SUMMARY:Veldhoven 5 - Mixed 10
DESCRIPTION:Baan 12\, Wedstrijdnummer 143\, Afdeling I-klasse 
DTSTART:20241215T093000
DTEND:20241215T111500
LOCATION:City Resort Helmond
ATTACH;FMTTYPE=text/plain:https://hbb.rivio.dev/jeugd/2024/wedstrijd/34986
END:VEVENT
BEGIN:VEVENT
UID:https://hbb.rivio.dev/jeugd/2024/wedstrijd/35002
DTSTAMP:20260420T164523Z
SUMMARY:VBSC 3 - Mixed 10
DESCRIPTION:Baan 3\, Wedstrijdnummer 191\, Afdeling I-klasse 
DTSTART:20250112T093000
DTEND:20250112T111500
LOCATION:City Resort Helmond
ATTACH;FMTTYPE=text/plain:https://hbb.rivio.dev/jeugd/2024/wedstrijd/35002
END:VEVENT
BEGIN:VEVENT
UID:https://hbb.rivio.dev/jeugd/2024/wedstrijd/35025
DTSTAMP:20260420T164523Z
SUMMARY:Mixed 10 - Mixed 9
DESCRIPTION:Baan 11\, Wedstrijdnummer 238\, Afdeling I-klasse 
DTSTART:20250202T093000
DTEND:20250202T111500
LOCATION:City Resort Helmond
ATTACH;FMTTYPE=text/plain:https://hbb.rivio.dev/jeugd/2024/wedstrijd/35025
END:VEVENT
BEGIN:VEVENT
UID:https://hbb.rivio.dev/jeugd/2024/wedstrijd/35050
DTSTAMP:20260420T164523Z
SUMMARY:Mixed 10 - Phoenix 4
DESCRIPTION:Baan 1\, Wedstrijdnummer 215\, Afdeling I-klasse 
DTSTART:20250209T123000
DTEND:20250209T230000
LOCATION:City Resort Helmond
ATTACH;FMTTYPE=text/plain:https://hbb.rivio.dev/jeugd/2024/wedstrijd/35050
END:VEVENT
BEGIN:VEVENT
UID:https://hbb.rivio.dev/jeugd/2024/wedstrijd/35889
DTSTAMP:20260420T164523Z
SUMMARY:Mixed 10 - Phoenix 4
DESCRIPTION:Baan 13\, Wedstrijdnummer 256\, Afdeling I-klasse 
DTSTART:20250216T093000
DTEND:20250216T111500
LOCATION:City Resort Helmond
ATTACH;FMTTYPE=text/plain:https://hbb.rivio.dev/jeugd/2024/wedstrijd/35889
END:VEVENT
BEGIN:VEVENT
UID:https://hbb.rivio.dev/jeugd/2024/wedstrijd/35905
DTSTAMP:20260420T164523Z
SUMMARY:VBSC 4 - Mixed 10
DESCRIPTION:Baan 3\, Wedstrijdnummer 272\, Afdeling I-klasse 
DTSTART:20250330T093000
DTEND:20250330T111500
LOCATION:City Resort Helmond
ATTACH;FMTTYPE=text/plain:https://hbb.rivio.dev/jeugd/2024/wedstrijd/35905
END:VEVENT
BEGIN:VTIMEZONE
TZID:Europe/Amsterdam
BEGIN:STANDARD
DTSTART:20240101T000000
TZNAME:CET
TZOFFSETTO:+0100
TZOFFSETFROM:+0100
END:STANDARD
BEGIN:DAYLIGHT
DTSTART:20240331T030000
TZNAME:CEST
TZOFFSETTO:+0200
TZOFFSETFROM:+0100
END:DAYLIGHT
BEGIN:STANDARD
DTSTART:20241027T020000
TZNAME:CET
TZOFFSETTO:+0100
TZOFFSETFROM:+0200
END:STANDARD
BEGIN:DAYLIGHT
DTSTART:20250330T030000
TZNAME:CEST
TZOFFSETTO:+0200
TZOFFSETFROM:+0100
END:DAYLIGHT
BEGIN:STANDARD
DTSTART:20251026T020000
TZNAME:CET
TZOFFSETTO:+0100
TZOFFSETFROM:+0200
END:STANDARD
END:VTIMEZONE
END:VCALENDAR
