BEGIN:VCALENDAR
PRODID:-//eluceo/ical//2.0/EN
VERSION:2.0
CALSCALE:GREGORIAN
BEGIN:VEVENT
UID:https://hbb.rivio.dev/jeugd/2024/wedstrijd/34821
DTSTAMP:20260420T090127Z
SUMMARY:Mixed 8 - VBSC 2
DESCRIPTION:Baan 14\, Wedstrijdnummer 21\, Afdeling H-klasse 
DTSTART:20240908T093000
DTEND:20240908T111500
LOCATION:City Resort Helmond
ATTACH;FMTTYPE=text/plain:https://hbb.rivio.dev/jeugd/2024/wedstrijd/34821
END:VEVENT
BEGIN:VEVENT
UID:https://hbb.rivio.dev/jeugd/2024/wedstrijd/34856
DTSTAMP:20260420T090127Z
SUMMARY:Geldrop 5 - Mixed 8
DESCRIPTION:Baan 1\, Wedstrijdnummer 45\, Afdeling H-klasse 
DTSTART:20241006T123000
DTEND:20241006T230000
LOCATION:City Resort Helmond
ATTACH;FMTTYPE=text/plain:https://hbb.rivio.dev/jeugd/2024/wedstrijd/34856
END:VEVENT
BEGIN:VEVENT
UID:https://hbb.rivio.dev/jeugd/2024/wedstrijd/34879
DTSTAMP:20260420T090127Z
SUMMARY:Mierlo 6 - Mixed 8
DESCRIPTION:Baan 2\, Wedstrijdnummer 68\, Afdeling H-klasse 
DTSTART:20241013T123000
DTEND:20241013T230000
LOCATION:City Resort Helmond
ATTACH;FMTTYPE=text/plain:https://hbb.rivio.dev/jeugd/2024/wedstrijd/34879
END:VEVENT
BEGIN:VEVENT
UID:https://hbb.rivio.dev/jeugd/2024/wedstrijd/34902
DTSTAMP:20260420T090127Z
SUMMARY:Mixed 8 - Brabantia 3
DESCRIPTION:Baan 3\, Wedstrijdnummer 91\, Afdeling H-klasse 
DTSTART:20241103T123000
DTEND:20241103T230000
LOCATION:City Resort Helmond
ATTACH;FMTTYPE=text/plain:https://hbb.rivio.dev/jeugd/2024/wedstrijd/34902
END:VEVENT
BEGIN:VEVENT
UID:https://hbb.rivio.dev/jeugd/2024/wedstrijd/34927
DTSTAMP:20260420T090127Z
SUMMARY:Gemert 5 - Mixed 8
DESCRIPTION:Baan 13\, Wedstrijdnummer 116\, Afdeling H-klasse 
DTSTART:20241117T123000
DTEND:20241117T230000
LOCATION:City Resort Helmond
ATTACH;FMTTYPE=text/plain:https://hbb.rivio.dev/jeugd/2024/wedstrijd/34927
END:VEVENT
BEGIN:VEVENT
UID:https://hbb.rivio.dev/jeugd/2024/wedstrijd/34934
DTSTAMP:20260420T090127Z
SUMMARY:VBSC 2 - Mixed 8
DESCRIPTION:Baan 5\, Wedstrijdnummer 141\, Afdeling H-klasse 
DTSTART:20241124T093000
DTEND:20241124T111500
LOCATION:City Resort Helmond
ATTACH;FMTTYPE=text/plain:https://hbb.rivio.dev/jeugd/2024/wedstrijd/34934
END:VEVENT
BEGIN:VEVENT
UID:https://hbb.rivio.dev/jeugd/2024/wedstrijd/34966
DTSTAMP:20260420T090127Z
SUMMARY:Mixed 8 - Geldrop 5
DESCRIPTION:Baan 12\, Wedstrijdnummer 165\, Afdeling H-klasse 
DTSTART:20241208T093000
DTEND:20241208T111500
LOCATION:City Resort Helmond
ATTACH;FMTTYPE=text/plain:https://hbb.rivio.dev/jeugd/2024/wedstrijd/34966
END:VEVENT
BEGIN:VEVENT
UID:https://hbb.rivio.dev/jeugd/2024/wedstrijd/34989
DTSTAMP:20260420T090127Z
SUMMARY:Mixed 8 - Mierlo 6
DESCRIPTION:Baan 15\, Wedstrijdnummer 188\, Afdeling H-klasse 
DTSTART:20241215T093000
DTEND:20241215T111500
LOCATION:City Resort Helmond
ATTACH;FMTTYPE=text/plain:https://hbb.rivio.dev/jeugd/2024/wedstrijd/34989
END:VEVENT
BEGIN:VEVENT
UID:https://hbb.rivio.dev/jeugd/2024/wedstrijd/35022
DTSTAMP:20260420T090127Z
SUMMARY:Brabantia 3 - Mixed 8
DESCRIPTION:Baan 3\, Wedstrijdnummer 211\, Afdeling H-klasse 
DTSTART:20250207T093000
DTEND:20250207T111500
LOCATION:City Resort Helmond
ATTACH;FMTTYPE=text/plain:https://hbb.rivio.dev/jeugd/2024/wedstrijd/35022
END:VEVENT
BEGIN:VEVENT
UID:https://hbb.rivio.dev/jeugd/2024/wedstrijd/35047
DTSTAMP:20260420T090127Z
SUMMARY:Mixed 8 - Gemert 5
DESCRIPTION:Baan 13\, Wedstrijdnummer 236\, Afdeling H-klasse 
DTSTART:20250209T093000
DTEND:20250209T111500
LOCATION:City Resort Helmond
ATTACH;FMTTYPE=text/plain:https://hbb.rivio.dev/jeugd/2024/wedstrijd/35047
END:VEVENT
BEGIN:VEVENT
UID:https://hbb.rivio.dev/jeugd/2024/wedstrijd/35887
DTSTAMP:20260420T090127Z
SUMMARY:VBSC 2 - Mixed 8
DESCRIPTION:Baan 11\, Wedstrijdnummer 254\, Afdeling H-klasse 
DTSTART:20250216T093000
DTEND:20250216T111500
LOCATION:City Resort Helmond
ATTACH;FMTTYPE=text/plain:https://hbb.rivio.dev/jeugd/2024/wedstrijd/35887
END:VEVENT
BEGIN:VEVENT
UID:https://hbb.rivio.dev/jeugd/2024/wedstrijd/35919
DTSTAMP:20260420T090127Z
SUMMARY:Mixed 8 - Mierlo 6
DESCRIPTION:Baan 12\, Wedstrijdnummer 286\, Afdeling H-klasse 
DTSTART:20250406T093000
DTEND:20250406T111500
LOCATION:City Resort Helmond
ATTACH;FMTTYPE=text/plain:https://hbb.rivio.dev/jeugd/2024/wedstrijd/35919
END:VEVENT
BEGIN:VTIMEZONE
TZID:Europe/Amsterdam
BEGIN:STANDARD
DTSTART:20240101T000000
TZNAME:CET
TZOFFSETTO:+0100
TZOFFSETFROM:+0100
END:STANDARD
BEGIN:DAYLIGHT
DTSTART:20240331T030000
TZNAME:CEST
TZOFFSETTO:+0200
TZOFFSETFROM:+0100
END:DAYLIGHT
BEGIN:STANDARD
DTSTART:20241027T020000
TZNAME:CET
TZOFFSETTO:+0100
TZOFFSETFROM:+0200
END:STANDARD
BEGIN:DAYLIGHT
DTSTART:20250330T030000
TZNAME:CEST
TZOFFSETTO:+0200
TZOFFSETFROM:+0100
END:DAYLIGHT
BEGIN:STANDARD
DTSTART:20251026T020000
TZNAME:CET
TZOFFSETTO:+0100
TZOFFSETFROM:+0200
END:STANDARD
END:VTIMEZONE
END:VCALENDAR
