BEGIN:VCALENDAR
PRODID:-//eluceo/ical//2.0/EN
VERSION:2.0
CALSCALE:GREGORIAN
BEGIN:VEVENT
UID:https://hbb.rivio.dev/jeugd/2024/wedstrijd/34839
DTSTAMP:20260420T150711Z
SUMMARY:Brabantia 2 - Mixed 5
DESCRIPTION:Baan 10\, Wedstrijdnummer 83\, Afdeling E-klasse 
DTSTART:20240929T093000
DTEND:20240929T111500
LOCATION:City Resort Helmond
ATTACH;FMTTYPE=text/plain:https://hbb.rivio.dev/jeugd/2024/wedstrijd/34839
END:VEVENT
BEGIN:VEVENT
UID:https://hbb.rivio.dev/jeugd/2024/wedstrijd/34846
DTSTAMP:20260420T150711Z
SUMMARY:Veldhoven 2 - Mixed 5
DESCRIPTION:Baan 2\, Wedstrijdnummer 35\, Afdeling E-klasse 
DTSTART:20241006T093000
DTEND:20241006T111500
LOCATION:City Resort Helmond
ATTACH;FMTTYPE=text/plain:https://hbb.rivio.dev/jeugd/2024/wedstrijd/34846
END:VEVENT
BEGIN:VEVENT
UID:https://hbb.rivio.dev/jeugd/2024/wedstrijd/34870
DTSTAMP:20260420T150711Z
SUMMARY:Mixed 5 - Geldrop 2
DESCRIPTION:Baan 15\, Wedstrijdnummer 59\, Afdeling E-klasse 
DTSTART:20241013T123000
DTEND:20241013T230000
LOCATION:City Resort Helmond
ATTACH;FMTTYPE=text/plain:https://hbb.rivio.dev/jeugd/2024/wedstrijd/34870
END:VEVENT
BEGIN:VEVENT
UID:https://hbb.rivio.dev/jeugd/2024/wedstrijd/34909
DTSTAMP:20260420T150711Z
SUMMARY:Mixed 5 - Mierlo 4
DESCRIPTION:Baan 15\, Wedstrijdnummer 11\, Afdeling E-klasse 
DTSTART:20241103T123000
DTEND:20241103T230000
LOCATION:City Resort Helmond
ATTACH;FMTTYPE=text/plain:https://hbb.rivio.dev/jeugd/2024/wedstrijd/34909
END:VEVENT
BEGIN:VEVENT
UID:https://hbb.rivio.dev/jeugd/2024/wedstrijd/34917
DTSTAMP:20260420T150711Z
SUMMARY:Geldrop 1 - Mixed 5
DESCRIPTION:Baan 13\, Wedstrijdnummer 106\, Afdeling E-klasse 
DTSTART:20241117T093000
DTEND:20241117T111500
LOCATION:City Resort Helmond
ATTACH;FMTTYPE=text/plain:https://hbb.rivio.dev/jeugd/2024/wedstrijd/34917
END:VEVENT
BEGIN:VEVENT
UID:https://hbb.rivio.dev/jeugd/2024/wedstrijd/34938
DTSTAMP:20260420T150711Z
SUMMARY:Mierlo 4 - Mixed 5
DESCRIPTION:Baan 14\, Wedstrijdnummer 131\, Afdeling E-klasse 
DTSTART:20241124T093000
DTEND:20241124T111500
LOCATION:City Resort Helmond
ATTACH;FMTTYPE=text/plain:https://hbb.rivio.dev/jeugd/2024/wedstrijd/34938
END:VEVENT
BEGIN:VEVENT
UID:https://hbb.rivio.dev/jeugd/2024/wedstrijd/34954
DTSTAMP:20260420T150711Z
SUMMARY:Mixed 5 - Veldhoven 2
DESCRIPTION:Baan 5\, Wedstrijdnummer 155\, Afdeling E-klasse 
DTSTART:20241201T093000
DTEND:20241201T111500
LOCATION:City Resort Helmond
ATTACH;FMTTYPE=text/plain:https://hbb.rivio.dev/jeugd/2024/wedstrijd/34954
END:VEVENT
BEGIN:VEVENT
UID:https://hbb.rivio.dev/jeugd/2024/wedstrijd/34980
DTSTAMP:20260420T150711Z
SUMMARY:Geldrop 2 - Mixed 5
DESCRIPTION:Baan 1\, Wedstrijdnummer 179\, Afdeling E-klasse 
DTSTART:20241215T093000
DTEND:20241215T111500
LOCATION:City Resort Helmond
ATTACH;FMTTYPE=text/plain:https://hbb.rivio.dev/jeugd/2024/wedstrijd/34980
END:VEVENT
BEGIN:VEVENT
UID:https://hbb.rivio.dev/jeugd/2024/wedstrijd/35014
DTSTAMP:20260420T150711Z
SUMMARY:Mixed 5 - Brabantia 2
DESCRIPTION:Baan 5\, Wedstrijdnummer 203\, Afdeling E-klasse 
DTSTART:20250119T093000
DTEND:20250119T111500
LOCATION:City Resort Helmond
ATTACH;FMTTYPE=text/plain:https://hbb.rivio.dev/jeugd/2024/wedstrijd/35014
END:VEVENT
BEGIN:VEVENT
UID:https://hbb.rivio.dev/jeugd/2024/wedstrijd/35037
DTSTAMP:20260420T150711Z
SUMMARY:Mixed 5 - Geldrop 1
DESCRIPTION:Baan 13\, Wedstrijdnummer 226\, Afdeling E-klasse 
DTSTART:20250202T123000
DTEND:20250202T230000
LOCATION:City Resort Helmond
ATTACH;FMTTYPE=text/plain:https://hbb.rivio.dev/jeugd/2024/wedstrijd/35037
END:VEVENT
BEGIN:VEVENT
UID:https://hbb.rivio.dev/jeugd/2024/wedstrijd/35896
DTSTAMP:20260420T150711Z
SUMMARY:Mixed 5 - Geldrop 1
DESCRIPTION:Baan 5\, Wedstrijdnummer 263\, Afdeling E-klasse 
DTSTART:20250316T093000
DTEND:20250316T111500
LOCATION:City Resort Helmond
ATTACH;FMTTYPE=text/plain:https://hbb.rivio.dev/jeugd/2024/wedstrijd/35896
END:VEVENT
BEGIN:VEVENT
UID:https://hbb.rivio.dev/jeugd/2024/wedstrijd/35912
DTSTAMP:20260420T150711Z
SUMMARY:Geldrop 2 - Mixed 5
DESCRIPTION:Baan 15\, Wedstrijdnummer 279\, Afdeling E-klasse 
DTSTART:20250330T093000
DTEND:20250330T111500
LOCATION:City Resort Helmond
ATTACH;FMTTYPE=text/plain:https://hbb.rivio.dev/jeugd/2024/wedstrijd/35912
END:VEVENT
BEGIN:VTIMEZONE
TZID:Europe/Amsterdam
BEGIN:STANDARD
DTSTART:20240101T000000
TZNAME:CET
TZOFFSETTO:+0100
TZOFFSETFROM:+0100
END:STANDARD
BEGIN:DAYLIGHT
DTSTART:20240331T030000
TZNAME:CEST
TZOFFSETTO:+0200
TZOFFSETFROM:+0100
END:DAYLIGHT
BEGIN:STANDARD
DTSTART:20241027T020000
TZNAME:CET
TZOFFSETTO:+0100
TZOFFSETFROM:+0200
END:STANDARD
BEGIN:DAYLIGHT
DTSTART:20250330T030000
TZNAME:CEST
TZOFFSETTO:+0200
TZOFFSETFROM:+0100
END:DAYLIGHT
BEGIN:STANDARD
DTSTART:20251026T020000
TZNAME:CET
TZOFFSETTO:+0100
TZOFFSETFROM:+0200
END:STANDARD
END:VTIMEZONE
END:VCALENDAR
