BEGIN:VCALENDAR
PRODID:-//eluceo/ical//2.0/EN
VERSION:2.0
CALSCALE:GREGORIAN
BEGIN:VEVENT
UID:https://hbb.rivio.dev/senioren/2024/wedstrijd/35494
DTSTAMP:20260420T164234Z
SUMMARY:Mixed 5 - BC '85 1
DESCRIPTION:Baan 14\, Wedstrijdnummer 248\, Afdeling 4e klasse K
DTSTART:20240926T200000
DTEND:20240926T230000
LOCATION:City Resort Helmond
ATTACH;FMTTYPE=text/plain:https://hbb.rivio.dev/senioren/2024/wedstrijd/354
 94
END:VEVENT
BEGIN:VEVENT
UID:https://hbb.rivio.dev/senioren/2024/wedstrijd/35523
DTSTAMP:20260420T164234Z
SUMMARY:BC '85 1 - Phoenix 4
DESCRIPTION:Baan 14\, Wedstrijdnummer 249\, Afdeling 4e klasse D
DTSTART:20241009T200000
DTEND:20241009T230000
LOCATION:City Resort Helmond
ATTACH;FMTTYPE=text/plain:https://hbb.rivio.dev/senioren/2024/wedstrijd/355
 23
END:VEVENT
BEGIN:VEVENT
UID:https://hbb.rivio.dev/senioren/2024/wedstrijd/35570
DTSTAMP:20260420T164234Z
SUMMARY:De Valken 5 - BC '85 1
DESCRIPTION:Baan 14\, Wedstrijdnummer 256\, Afdeling 4e klasse K
DTSTART:20241031T200000
DTEND:20241031T230000
LOCATION:City Resort Helmond
ATTACH;FMTTYPE=text/plain:https://hbb.rivio.dev/senioren/2024/wedstrijd/355
 70
END:VEVENT
BEGIN:VEVENT
UID:https://hbb.rivio.dev/senioren/2024/wedstrijd/35597
DTSTAMP:20260420T164234Z
SUMMARY:BC '85 1 - Someren 4
DESCRIPTION:Baan 14\, Wedstrijdnummer 262\, Afdeling 4e klasse D
DTSTART:20241114T200000
DTEND:20241114T230000
LOCATION:City Resort Helmond
ATTACH;FMTTYPE=text/plain:https://hbb.rivio.dev/senioren/2024/wedstrijd/355
 97
END:VEVENT
BEGIN:VEVENT
UID:https://hbb.rivio.dev/senioren/2024/wedstrijd/35606
DTSTAMP:20260420T164234Z
SUMMARY:Heiakker 1 - BC '85 1
DESCRIPTION:Baan 13\, Wedstrijdnummer 267\, Afdeling 4e klasse D
DTSTART:20241121T200000
DTEND:20241121T230000
LOCATION:City Resort Helmond
ATTACH;FMTTYPE=text/plain:https://hbb.rivio.dev/senioren/2024/wedstrijd/356
 06
END:VEVENT
BEGIN:VEVENT
UID:https://hbb.rivio.dev/senioren/2024/wedstrijd/35625
DTSTAMP:20260420T164234Z
SUMMARY:BC '85 1 - Gemert 3
DESCRIPTION:Baan 14\, Wedstrijdnummer 275\, Afdeling 4e klasse D
DTSTART:20241128T200000
DTEND:20241128T230000
LOCATION:City Resort Helmond
ATTACH;FMTTYPE=text/plain:https://hbb.rivio.dev/senioren/2024/wedstrijd/356
 25
END:VEVENT
BEGIN:VEVENT
UID:https://hbb.rivio.dev/senioren/2024/wedstrijd/35646
DTSTAMP:20260420T164234Z
SUMMARY:Gemert 4 - BC '85 1
DESCRIPTION:Baan 15\, Wedstrijdnummer 280\, Afdeling 4e klasse K
DTSTART:20241211T200000
DTEND:20241211T230000
LOCATION:City Resort Helmond
ATTACH;FMTTYPE=text/plain:https://hbb.rivio.dev/senioren/2024/wedstrijd/356
 46
END:VEVENT
BEGIN:VEVENT
UID:https://hbb.rivio.dev/senioren/2024/wedstrijd/35692
DTSTAMP:20260420T164234Z
SUMMARY:BC '85 1 - Ganzeveer 4
DESCRIPTION:Baan 15\, Wedstrijdnummer 287\, Afdeling 4e klasse D
DTSTART:20250115T200000
DTEND:20250115T230000
LOCATION:City Resort Helmond
ATTACH;FMTTYPE=text/plain:https://hbb.rivio.dev/senioren/2024/wedstrijd/356
 92
END:VEVENT
BEGIN:VEVENT
UID:https://hbb.rivio.dev/senioren/2024/wedstrijd/35719
DTSTAMP:20260420T164234Z
SUMMARY:Someren 5 - BC '85 1
DESCRIPTION:Baan 14\, Wedstrijdnummer 295\, Afdeling 4e klasse D
DTSTART:20250123T200000
DTEND:20250123T230000
LOCATION:City Resort Helmond
ATTACH;FMTTYPE=text/plain:https://hbb.rivio.dev/senioren/2024/wedstrijd/357
 19
END:VEVENT
BEGIN:VEVENT
UID:https://hbb.rivio.dev/senioren/2024/wedstrijd/35737
DTSTAMP:20260420T164234Z
SUMMARY:BC '85 1 - Mierlo 9
DESCRIPTION:Baan 14\, Wedstrijdnummer 300\, Afdeling 4e klasse D
DTSTART:20250130T200000
DTEND:20250130T230000
LOCATION:City Resort Helmond
ATTACH;FMTTYPE=text/plain:https://hbb.rivio.dev/senioren/2024/wedstrijd/357
 37
END:VEVENT
BEGIN:VEVENT
UID:https://hbb.rivio.dev/senioren/2024/wedstrijd/35760
DTSTAMP:20260420T164234Z
SUMMARY:Heeze 2 - BC '85 1
DESCRIPTION:Baan 3\, Wedstrijdnummer 305\, Afdeling 4e klasse K
DTSTART:20250212T200000
DTEND:20250212T230000
LOCATION:City Resort Helmond
ATTACH;FMTTYPE=text/plain:https://hbb.rivio.dev/senioren/2024/wedstrijd/357
 60
END:VEVENT
BEGIN:VEVENT
UID:https://hbb.rivio.dev/senioren/2024/wedstrijd/35954
DTSTAMP:20260420T164234Z
SUMMARY:BC '85 1 - Phoenix 4
DESCRIPTION:Baan 15\, Wedstrijdnummer 2072\, Afdeling 4e klasse D
DTSTART:20250326T200000
DTEND:20250326T230000
LOCATION:City Resort Helmond
ATTACH;FMTTYPE=text/plain:https://hbb.rivio.dev/senioren/2024/wedstrijd/359
 54
END:VEVENT
BEGIN:VEVENT
UID:https://hbb.rivio.dev/senioren/2024/wedstrijd/35961
DTSTAMP:20260420T164234Z
SUMMARY:BC '85 1 - Mierlo 9
DESCRIPTION:Baan 15\, Wedstrijdnummer 2098\, Afdeling 4e klasse D
DTSTART:20250403T200000
DTEND:20250403T230000
LOCATION:City Resort Helmond
ATTACH;FMTTYPE=text/plain:https://hbb.rivio.dev/senioren/2024/wedstrijd/359
 61
END:VEVENT
BEGIN:VEVENT
UID:https://hbb.rivio.dev/senioren/2024/wedstrijd/35963
DTSTAMP:20260420T164234Z
SUMMARY:Heiakker 1 - BC '85 1
DESCRIPTION:Baan 15\, Wedstrijdnummer 2078\, Afdeling 4e klasse D
DTSTART:20250409T200000
DTEND:20250409T230000
LOCATION:City Resort Helmond
ATTACH;FMTTYPE=text/plain:https://hbb.rivio.dev/senioren/2024/wedstrijd/359
 63
END:VEVENT
BEGIN:VEVENT
UID:https://hbb.rivio.dev/senioren/2024/wedstrijd/35973
DTSTAMP:20260420T164234Z
SUMMARY:Ganzeveer 4 - BC '85 1
DESCRIPTION:Baan 12\, Wedstrijdnummer 2089\, Afdeling 4e klasse D
DTSTART:20250521T200000
DTEND:20250521T230000
LOCATION:City Resort Helmond
ATTACH;FMTTYPE=text/plain:https://hbb.rivio.dev/senioren/2024/wedstrijd/359
 73
END:VEVENT
BEGIN:VEVENT
UID:https://hbb.rivio.dev/senioren/2024/wedstrijd/35979
DTSTAMP:20260420T164234Z
SUMMARY:Someren 5 - BC '85 1
DESCRIPTION:Baan 13\, Wedstrijdnummer 2094\, Afdeling 4e klasse D
DTSTART:20250528T200000
DTEND:20250528T230000
LOCATION:City Resort Helmond
ATTACH;FMTTYPE=text/plain:https://hbb.rivio.dev/senioren/2024/wedstrijd/359
 79
END:VEVENT
BEGIN:VTIMEZONE
TZID:Europe/Amsterdam
BEGIN:STANDARD
DTSTART:20240101T000000
TZNAME:CET
TZOFFSETTO:+0100
TZOFFSETFROM:+0100
END:STANDARD
BEGIN:DAYLIGHT
DTSTART:20240331T030000
TZNAME:CEST
TZOFFSETTO:+0200
TZOFFSETFROM:+0100
END:DAYLIGHT
BEGIN:STANDARD
DTSTART:20241027T020000
TZNAME:CET
TZOFFSETTO:+0100
TZOFFSETFROM:+0200
END:STANDARD
BEGIN:DAYLIGHT
DTSTART:20250330T030000
TZNAME:CEST
TZOFFSETTO:+0200
TZOFFSETFROM:+0100
END:DAYLIGHT
BEGIN:STANDARD
DTSTART:20251026T020000
TZNAME:CET
TZOFFSETTO:+0100
TZOFFSETFROM:+0200
END:STANDARD
END:VTIMEZONE
END:VCALENDAR
