BEGIN:VCALENDAR
PRODID:-//eluceo/ical//2.0/EN
VERSION:2.0
CALSCALE:GREGORIAN
BEGIN:VEVENT
UID:https://hbb.rivio.dev/jeugd/2024/wedstrijd/34851
DTSTAMP:20260420T164822Z
SUMMARY:Geldrop 4 - Mixed 7
DESCRIPTION:Baan 11\, Wedstrijdnummer 40\, Afdeling G-klasse 
DTSTART:20241006T093000
DTEND:20241006T111500
LOCATION:City Resort Helmond
ATTACH;FMTTYPE=text/plain:https://hbb.rivio.dev/jeugd/2024/wedstrijd/34851
END:VEVENT
BEGIN:VEVENT
UID:https://hbb.rivio.dev/jeugd/2024/wedstrijd/34877
DTSTAMP:20260420T164822Z
SUMMARY:Geldrop 4 - Mierlo 5
DESCRIPTION:Baan 15\, Wedstrijdnummer 66\, Afdeling G-klasse 
DTSTART:20241013T093000
DTEND:20241013T111500
LOCATION:City Resort Helmond
ATTACH;FMTTYPE=text/plain:https://hbb.rivio.dev/jeugd/2024/wedstrijd/34877
END:VEVENT
BEGIN:VEVENT
UID:https://hbb.rivio.dev/jeugd/2024/wedstrijd/34901
DTSTAMP:20260420T164822Z
SUMMARY:Veldhoven 4 - Geldrop 4
DESCRIPTION:Baan 2\, Wedstrijdnummer 90\, Afdeling G-klasse 
DTSTART:20241103T123000
DTEND:20241103T230000
LOCATION:City Resort Helmond
ATTACH;FMTTYPE=text/plain:https://hbb.rivio.dev/jeugd/2024/wedstrijd/34901
END:VEVENT
BEGIN:VEVENT
UID:https://hbb.rivio.dev/jeugd/2024/wedstrijd/34924
DTSTAMP:20260420T164822Z
SUMMARY:Geldrop 4 - Veldhoven 3
DESCRIPTION:Baan 5\, Wedstrijdnummer 113\, Afdeling G-klasse 
DTSTART:20241117T123000
DTEND:20241117T230000
LOCATION:City Resort Helmond
ATTACH;FMTTYPE=text/plain:https://hbb.rivio.dev/jeugd/2024/wedstrijd/34924
END:VEVENT
BEGIN:VEVENT
UID:https://hbb.rivio.dev/jeugd/2024/wedstrijd/34948
DTSTAMP:20260420T164822Z
SUMMARY:Geldrop 4 - Bakel 2
DESCRIPTION:Baan 14\, Wedstrijdnummer 137\, Afdeling G-klasse 
DTSTART:20241124T123000
DTEND:20241124T230000
LOCATION:City Resort Helmond
ATTACH;FMTTYPE=text/plain:https://hbb.rivio.dev/jeugd/2024/wedstrijd/34948
END:VEVENT
BEGIN:VEVENT
UID:https://hbb.rivio.dev/jeugd/2024/wedstrijd/34999
DTSTAMP:20260420T164822Z
SUMMARY:Mierlo 5 - Geldrop 4
DESCRIPTION:Baan 15\, Wedstrijdnummer 186\, Afdeling G-klasse 
DTSTART:20241215T123000
DTEND:20241215T230000
LOCATION:City Resort Helmond
ATTACH;FMTTYPE=text/plain:https://hbb.rivio.dev/jeugd/2024/wedstrijd/34999
END:VEVENT
BEGIN:VEVENT
UID:https://hbb.rivio.dev/jeugd/2024/wedstrijd/34961
DTSTAMP:20260420T164822Z
SUMMARY:Mixed 7 - Geldrop 4
DESCRIPTION:Baan 2\, Wedstrijdnummer 160\, Afdeling G-klasse 
DTSTART:20241220T093000
DTEND:20241220T111500
LOCATION:City Resort Helmond
ATTACH;FMTTYPE=text/plain:https://hbb.rivio.dev/jeugd/2024/wedstrijd/34961
END:VEVENT
BEGIN:VEVENT
UID:https://hbb.rivio.dev/jeugd/2024/wedstrijd/34843
DTSTAMP:20260420T164822Z
SUMMARY:Bakel 2 - Geldrop 4
DESCRIPTION:Baan 10\, Wedstrijdnummer 17\, Afdeling G-klasse 
DTSTART:20250112T093000
DTEND:20250112T111500
LOCATION:City Resort Helmond
ATTACH;FMTTYPE=text/plain:https://hbb.rivio.dev/jeugd/2024/wedstrijd/34843
END:VEVENT
BEGIN:VEVENT
UID:https://hbb.rivio.dev/jeugd/2024/wedstrijd/35021
DTSTAMP:20260420T164822Z
SUMMARY:Geldrop 4 - Veldhoven 4
DESCRIPTION:Baan 2\, Wedstrijdnummer 210\, Afdeling G-klasse 
DTSTART:20250202T093000
DTEND:20250202T111500
LOCATION:City Resort Helmond
ATTACH;FMTTYPE=text/plain:https://hbb.rivio.dev/jeugd/2024/wedstrijd/35021
END:VEVENT
BEGIN:VEVENT
UID:https://hbb.rivio.dev/jeugd/2024/wedstrijd/35044
DTSTAMP:20260420T164822Z
SUMMARY:Veldhoven 3 - Geldrop 4
DESCRIPTION:Baan 5\, Wedstrijdnummer 233\, Afdeling G-klasse 
DTSTART:20250209T093000
DTEND:20250209T111500
LOCATION:City Resort Helmond
ATTACH;FMTTYPE=text/plain:https://hbb.rivio.dev/jeugd/2024/wedstrijd/35044
END:VEVENT
BEGIN:VEVENT
UID:https://hbb.rivio.dev/jeugd/2024/wedstrijd/35884
DTSTAMP:20260420T164822Z
SUMMARY:Veldhoven 3 - Geldrop 4
DESCRIPTION:Baan 3\, Wedstrijdnummer 251\, Afdeling G-klasse 
DTSTART:20250216T093000
DTEND:20250216T111500
LOCATION:City Resort Helmond
ATTACH;FMTTYPE=text/plain:https://hbb.rivio.dev/jeugd/2024/wedstrijd/35884
END:VEVENT
BEGIN:VEVENT
UID:https://hbb.rivio.dev/jeugd/2024/wedstrijd/35901
DTSTAMP:20260420T164822Z
SUMMARY:Geldrop 4 - Mixed 7
DESCRIPTION:Baan 14\, Wedstrijdnummer 267\, Afdeling G-klasse 
DTSTART:20250316T093000
DTEND:20250316T111500
LOCATION:City Resort Helmond
ATTACH;FMTTYPE=text/plain:https://hbb.rivio.dev/jeugd/2024/wedstrijd/35901
END:VEVENT
BEGIN:VTIMEZONE
TZID:Europe/Amsterdam
BEGIN:STANDARD
DTSTART:20240101T000000
TZNAME:CET
TZOFFSETTO:+0100
TZOFFSETFROM:+0100
END:STANDARD
BEGIN:DAYLIGHT
DTSTART:20240331T030000
TZNAME:CEST
TZOFFSETTO:+0200
TZOFFSETFROM:+0100
END:DAYLIGHT
BEGIN:STANDARD
DTSTART:20241027T020000
TZNAME:CET
TZOFFSETTO:+0100
TZOFFSETFROM:+0200
END:STANDARD
BEGIN:DAYLIGHT
DTSTART:20250330T030000
TZNAME:CEST
TZOFFSETTO:+0200
TZOFFSETFROM:+0100
END:DAYLIGHT
BEGIN:STANDARD
DTSTART:20251026T020000
TZNAME:CET
TZOFFSETTO:+0100
TZOFFSETFROM:+0200
END:STANDARD
END:VTIMEZONE
END:VCALENDAR
