BEGIN:VCALENDAR
PRODID:-//eluceo/ical//2.0/EN
VERSION:2.0
CALSCALE:GREGORIAN
BEGIN:VEVENT
UID:https://hbb.rivio.dev/senioren/2024/wedstrijd/35472
DTSTAMP:20260420T164736Z
SUMMARY:RBC 2 - Gemert 2
DESCRIPTION:Baan 5\, Wedstrijdnummer 172\, Afdeling 3e klasse K
DTSTART:20240919T200000
DTEND:20240919T230000
LOCATION:City Resort Helmond
ATTACH;FMTTYPE=text/plain:https://hbb.rivio.dev/senioren/2024/wedstrijd/354
 72
END:VEVENT
BEGIN:VEVENT
UID:https://hbb.rivio.dev/senioren/2024/wedstrijd/35492
DTSTAMP:20260420T164736Z
SUMMARY:Gemert 2 - Someren 3
DESCRIPTION:Baan 11\, Wedstrijdnummer 179\, Afdeling 3e klasse K
DTSTART:20240926T200000
DTEND:20240926T230000
LOCATION:City Resort Helmond
ATTACH;FMTTYPE=text/plain:https://hbb.rivio.dev/senioren/2024/wedstrijd/354
 92
END:VEVENT
BEGIN:VEVENT
UID:https://hbb.rivio.dev/senioren/2024/wedstrijd/35520
DTSTAMP:20260420T164736Z
SUMMARY:Geldrop 2 - Gemert 2
DESCRIPTION:Baan 11\, Wedstrijdnummer 184\, Afdeling 3e klasse K
DTSTART:20241009T200000
DTEND:20241009T230000
LOCATION:City Resort Helmond
ATTACH;FMTTYPE=text/plain:https://hbb.rivio.dev/senioren/2024/wedstrijd/355
 20
END:VEVENT
BEGIN:VEVENT
UID:https://hbb.rivio.dev/senioren/2024/wedstrijd/35559
DTSTAMP:20260420T164736Z
SUMMARY:Gemert 2 - Geldrop 3
DESCRIPTION:Baan 12\, Wedstrijdnummer 191\, Afdeling 3e klasse K
DTSTART:20241030T200000
DTEND:20241030T230000
LOCATION:City Resort Helmond
ATTACH;FMTTYPE=text/plain:https://hbb.rivio.dev/senioren/2024/wedstrijd/355
 59
END:VEVENT
BEGIN:VEVENT
UID:https://hbb.rivio.dev/senioren/2024/wedstrijd/35575
DTSTAMP:20260420T164736Z
SUMMARY:Mierlo 7 - Gemert 2
DESCRIPTION:Baan 5\, Wedstrijdnummer 198\, Afdeling 3e klasse K
DTSTART:20241106T200000
DTEND:20241106T230000
LOCATION:City Resort Helmond
ATTACH;FMTTYPE=text/plain:https://hbb.rivio.dev/senioren/2024/wedstrijd/355
 75
END:VEVENT
BEGIN:VEVENT
UID:https://hbb.rivio.dev/senioren/2024/wedstrijd/35614
DTSTAMP:20260420T164736Z
SUMMARY:Gemert 2 - Con Brio 3
DESCRIPTION:Baan 12\, Wedstrijdnummer 203\, Afdeling 3e klasse K
DTSTART:20241127T200000
DTEND:20241127T230000
LOCATION:City Resort Helmond
ATTACH;FMTTYPE=text/plain:https://hbb.rivio.dev/senioren/2024/wedstrijd/356
 14
END:VEVENT
BEGIN:VEVENT
UID:https://hbb.rivio.dev/senioren/2024/wedstrijd/35644
DTSTAMP:20260420T164736Z
SUMMARY:Gemert 2 - Mierlo 8
DESCRIPTION:Baan 13\, Wedstrijdnummer 210\, Afdeling 3e klasse K
DTSTART:20241211T200000
DTEND:20241211T230000
LOCATION:City Resort Helmond
ATTACH;FMTTYPE=text/plain:https://hbb.rivio.dev/senioren/2024/wedstrijd/356
 44
END:VEVENT
BEGIN:VEVENT
UID:https://hbb.rivio.dev/senioren/2024/wedstrijd/35690
DTSTAMP:20260420T164736Z
SUMMARY:Gemert 2 - Veldhoven 1
DESCRIPTION:Baan 13\, Wedstrijdnummer 217\, Afdeling 3e klasse K
DTSTART:20250115T200000
DTEND:20250115T230000
LOCATION:City Resort Helmond
ATTACH;FMTTYPE=text/plain:https://hbb.rivio.dev/senioren/2024/wedstrijd/356
 90
END:VEVENT
BEGIN:VEVENT
UID:https://hbb.rivio.dev/senioren/2024/wedstrijd/35702
DTSTAMP:20260420T164736Z
SUMMARY:Never Down 1 - Gemert 2
DESCRIPTION:Baan 2\, Wedstrijdnummer 222\, Afdeling 3e klasse D
DTSTART:20250122T200000
DTEND:20250122T230000
LOCATION:City Resort Helmond
ATTACH;FMTTYPE=text/plain:https://hbb.rivio.dev/senioren/2024/wedstrijd/357
 02
END:VEVENT
BEGIN:VEVENT
UID:https://hbb.rivio.dev/senioren/2024/wedstrijd/35762
DTSTAMP:20260420T164736Z
SUMMARY:Gemert 2 - Ganzeveer 3
DESCRIPTION:Baan 11\, Wedstrijdnummer 232\, Afdeling 3e klasse K
DTSTART:20250212T200000
DTEND:20250212T230000
LOCATION:City Resort Helmond
ATTACH;FMTTYPE=text/plain:https://hbb.rivio.dev/senioren/2024/wedstrijd/357
 62
END:VEVENT
BEGIN:VEVENT
UID:https://hbb.rivio.dev/senioren/2024/wedstrijd/35925
DTSTAMP:20260420T164736Z
SUMMARY:Gemert 2 - Mierlo 8
DESCRIPTION:Baan 13\, Wedstrijdnummer 2039\, Afdeling 3e klasse K
DTSTART:20250320T200000
DTEND:20250320T230000
LOCATION:City Resort Helmond
ATTACH;FMTTYPE=text/plain:https://hbb.rivio.dev/senioren/2024/wedstrijd/359
 25
END:VEVENT
BEGIN:VEVENT
UID:https://hbb.rivio.dev/senioren/2024/wedstrijd/35931
DTSTAMP:20260420T164736Z
SUMMARY:Geldrop 2 - Gemert 2
DESCRIPTION:Baan 5\, Wedstrijdnummer 2045\, Afdeling 3e klasse K
DTSTART:20250327T200000
DTEND:20250327T230000
LOCATION:City Resort Helmond
ATTACH;FMTTYPE=text/plain:https://hbb.rivio.dev/senioren/2024/wedstrijd/359
 31
END:VEVENT
BEGIN:VEVENT
UID:https://hbb.rivio.dev/senioren/2024/wedstrijd/35934
DTSTAMP:20260420T164736Z
SUMMARY:Someren 3 - Gemert 2
DESCRIPTION:Baan 11\, Wedstrijdnummer 2050\, Afdeling 3e klasse K
DTSTART:20250409T200000
DTEND:20250409T230000
LOCATION:City Resort Helmond
ATTACH;FMTTYPE=text/plain:https://hbb.rivio.dev/senioren/2024/wedstrijd/359
 34
END:VEVENT
BEGIN:VEVENT
UID:https://hbb.rivio.dev/senioren/2024/wedstrijd/35951
DTSTAMP:20260420T164736Z
SUMMARY:Gemert 2 - Mierlo 7
DESCRIPTION:Baan 5\, Wedstrijdnummer 2055\, Afdeling 3e klasse K
DTSTART:20250416T200000
DTEND:20250416T230000
LOCATION:City Resort Helmond
ATTACH;FMTTYPE=text/plain:https://hbb.rivio.dev/senioren/2024/wedstrijd/359
 51
END:VEVENT
BEGIN:VEVENT
UID:https://hbb.rivio.dev/senioren/2024/wedstrijd/35950
DTSTAMP:20260420T164736Z
SUMMARY:Gemert 2 - RBC 2
DESCRIPTION:Baan 14\, Wedstrijdnummer 2062\, Afdeling 3e klasse K
DTSTART:20250522T200000
DTEND:20250522T230000
LOCATION:City Resort Helmond
ATTACH;FMTTYPE=text/plain:https://hbb.rivio.dev/senioren/2024/wedstrijd/359
 50
END:VEVENT
BEGIN:VTIMEZONE
TZID:Europe/Amsterdam
BEGIN:STANDARD
DTSTART:20240101T000000
TZNAME:CET
TZOFFSETTO:+0100
TZOFFSETFROM:+0100
END:STANDARD
BEGIN:DAYLIGHT
DTSTART:20240331T030000
TZNAME:CEST
TZOFFSETTO:+0200
TZOFFSETFROM:+0100
END:DAYLIGHT
BEGIN:STANDARD
DTSTART:20241027T020000
TZNAME:CET
TZOFFSETTO:+0100
TZOFFSETFROM:+0200
END:STANDARD
BEGIN:DAYLIGHT
DTSTART:20250330T030000
TZNAME:CEST
TZOFFSETTO:+0200
TZOFFSETFROM:+0100
END:DAYLIGHT
BEGIN:STANDARD
DTSTART:20251026T020000
TZNAME:CET
TZOFFSETTO:+0100
TZOFFSETFROM:+0200
END:STANDARD
END:VTIMEZONE
END:VCALENDAR
