BEGIN:VCALENDAR
PRODID:-//eluceo/ical//2.0/EN
VERSION:2.0
CALSCALE:GREGORIAN
BEGIN:VEVENT
UID:https://hbb.rivio.dev/senioren/2024/wedstrijd/35462
DTSTAMP:20260420T182011Z
SUMMARY:Gemert 1 - Con Brio 2
DESCRIPTION:Baan 5\, Wedstrijdnummer 96\, Afdeling 2e klasse K
DTSTART:20240918T200000
DTEND:20240918T230000
LOCATION:City Resort Helmond
ATTACH;FMTTYPE=text/plain:https://hbb.rivio.dev/senioren/2024/wedstrijd/354
 62
END:VEVENT
BEGIN:VEVENT
UID:https://hbb.rivio.dev/senioren/2024/wedstrijd/35489
DTSTAMP:20260420T182011Z
SUMMARY:Bakel 4 - Gemert 1
DESCRIPTION:Baan 3\, Wedstrijdnummer 103\, Afdeling 2e klasse K
DTSTART:20240926T200000
DTEND:20240926T230000
LOCATION:City Resort Helmond
ATTACH;FMTTYPE=text/plain:https://hbb.rivio.dev/senioren/2024/wedstrijd/354
 89
END:VEVENT
BEGIN:VEVENT
UID:https://hbb.rivio.dev/senioren/2024/wedstrijd/35502
DTSTAMP:20260420T182011Z
SUMMARY:Gemert 1 - Mixed 4
DESCRIPTION:Baan 13\, Wedstrijdnummer 108\, Afdeling 2e klasse K
DTSTART:20241002T200000
DTEND:20241002T230000
LOCATION:City Resort Helmond
ATTACH;FMTTYPE=text/plain:https://hbb.rivio.dev/senioren/2024/wedstrijd/355
 02
END:VEVENT
BEGIN:VEVENT
UID:https://hbb.rivio.dev/senioren/2024/wedstrijd/35517
DTSTAMP:20260420T182011Z
SUMMARY:Mierlo 6 - Gemert 1
DESCRIPTION:Baan 3\, Wedstrijdnummer 116\, Afdeling 2e klasse D
DTSTART:20241009T200000
DTEND:20241009T230000
LOCATION:City Resort Helmond
ATTACH;FMTTYPE=text/plain:https://hbb.rivio.dev/senioren/2024/wedstrijd/355
 17
END:VEVENT
BEGIN:VEVENT
UID:https://hbb.rivio.dev/senioren/2024/wedstrijd/35541
DTSTAMP:20260420T182011Z
SUMMARY:Gemert 1 - Mierlo 5
DESCRIPTION:Baan 13\, Wedstrijdnummer 121\, Afdeling 2e klasse K
DTSTART:20241016T200000
DTEND:20241016T230000
LOCATION:City Resort Helmond
ATTACH;FMTTYPE=text/plain:https://hbb.rivio.dev/senioren/2024/wedstrijd/355
 41
END:VEVENT
BEGIN:VEVENT
UID:https://hbb.rivio.dev/senioren/2024/wedstrijd/35556
DTSTAMP:20260420T182011Z
SUMMARY:Mixed 3 - Gemert 1
DESCRIPTION:Baan 4\, Wedstrijdnummer 128\, Afdeling 2e klasse K
DTSTART:20241030T200000
DTEND:20241030T230000
LOCATION:City Resort Helmond
ATTACH;FMTTYPE=text/plain:https://hbb.rivio.dev/senioren/2024/wedstrijd/355
 56
END:VEVENT
BEGIN:VEVENT
UID:https://hbb.rivio.dev/senioren/2024/wedstrijd/35588
DTSTAMP:20260420T182011Z
SUMMARY:Gemert 1 - Heeze 1
DESCRIPTION:Baan 15\, Wedstrijdnummer 134\, Afdeling 2e klasse K
DTSTART:20241113T200000
DTEND:20241113T230000
LOCATION:City Resort Helmond
ATTACH;FMTTYPE=text/plain:https://hbb.rivio.dev/senioren/2024/wedstrijd/355
 88
END:VEVENT
BEGIN:VEVENT
UID:https://hbb.rivio.dev/senioren/2024/wedstrijd/35612
DTSTAMP:20260420T182011Z
SUMMARY:De Valken 4 - Gemert 1
DESCRIPTION:Baan 5\, Wedstrijdnummer 137\, Afdeling 2e klasse D
DTSTART:20241127T200000
DTEND:20241127T230000
LOCATION:City Resort Helmond
ATTACH;FMTTYPE=text/plain:https://hbb.rivio.dev/senioren/2024/wedstrijd/356
 12
END:VEVENT
BEGIN:VEVENT
UID:https://hbb.rivio.dev/senioren/2024/wedstrijd/35642
DTSTAMP:20260420T182011Z
SUMMARY:Ganzeveer 2 - Gemert 1
DESCRIPTION:Baan 11\, Wedstrijdnummer 144\, Afdeling 2e klasse D
DTSTART:20241211T200000
DTEND:20241211T230000
LOCATION:City Resort Helmond
ATTACH;FMTTYPE=text/plain:https://hbb.rivio.dev/senioren/2024/wedstrijd/356
 42
END:VEVENT
BEGIN:VEVENT
UID:https://hbb.rivio.dev/senioren/2024/wedstrijd/35699
DTSTAMP:20260420T182011Z
SUMMARY:Hanevoet 1 - Gemert 1
DESCRIPTION:Baan 13\, Wedstrijdnummer 156\, Afdeling 2e klasse D
DTSTART:20250116T200000
DTEND:20250116T230000
LOCATION:City Resort Helmond
ATTACH;FMTTYPE=text/plain:https://hbb.rivio.dev/senioren/2024/wedstrijd/356
 99
END:VEVENT
BEGIN:VEVENT
UID:https://hbb.rivio.dev/senioren/2024/wedstrijd/35725
DTSTAMP:20260420T182011Z
SUMMARY:Gemert 1 - ASML 2
DESCRIPTION:Baan 12\, Wedstrijdnummer 162\, Afdeling 2e klasse K
DTSTART:20250129T200000
DTEND:20250129T230000
LOCATION:City Resort Helmond
ATTACH;FMTTYPE=text/plain:https://hbb.rivio.dev/senioren/2024/wedstrijd/357
 25
END:VEVENT
BEGIN:VEVENT
UID:https://hbb.rivio.dev/senioren/2024/wedstrijd/35743
DTSTAMP:20260420T182011Z
SUMMARY:Phoenix 3 - Gemert 1
DESCRIPTION:Baan 5\, Wedstrijdnummer 167\, Afdeling 2e klasse D
DTSTART:20250205T200000
DTEND:20250205T230000
LOCATION:City Resort Helmond
ATTACH;FMTTYPE=text/plain:https://hbb.rivio.dev/senioren/2024/wedstrijd/357
 43
END:VEVENT
BEGIN:VEVENT
UID:https://hbb.rivio.dev/senioren/2024/wedstrijd/35848
DTSTAMP:20260420T182011Z
SUMMARY:Gemert 1 - Mixed 4
DESCRIPTION:Baan 13\, Wedstrijdnummer 2002\, Afdeling 2e klasse K
DTSTART:20250219T200000
DTEND:20250219T230000
LOCATION:City Resort Helmond
ATTACH;FMTTYPE=text/plain:https://hbb.rivio.dev/senioren/2024/wedstrijd/358
 48
END:VEVENT
BEGIN:VEVENT
UID:https://hbb.rivio.dev/senioren/2024/wedstrijd/35854
DTSTAMP:20260420T182011Z
SUMMARY:Gemert 1 - ASML 2
DESCRIPTION:Baan 5\, Wedstrijdnummer 2009\, Afdeling 2e klasse K
DTSTART:20250313T200000
DTEND:20250313T230000
LOCATION:City Resort Helmond
ATTACH;FMTTYPE=text/plain:https://hbb.rivio.dev/senioren/2024/wedstrijd/358
 54
END:VEVENT
BEGIN:VEVENT
UID:https://hbb.rivio.dev/senioren/2024/wedstrijd/35863
DTSTAMP:20260420T182011Z
SUMMARY:Bakel 4 - Gemert 1
DESCRIPTION:Baan 12\, Wedstrijdnummer 2015\, Afdeling 2e klasse K
DTSTART:20250320T200000
DTEND:20250320T230000
LOCATION:City Resort Helmond
ATTACH;FMTTYPE=text/plain:https://hbb.rivio.dev/senioren/2024/wedstrijd/358
 63
END:VEVENT
BEGIN:VEVENT
UID:https://hbb.rivio.dev/senioren/2024/wedstrijd/35865
DTSTAMP:20260420T182011Z
SUMMARY:Mixed 3 - Gemert 1
DESCRIPTION:Baan 3\, Wedstrijdnummer 2020\, Afdeling 2e klasse K
DTSTART:20250326T200000
DTEND:20250326T230000
LOCATION:City Resort Helmond
ATTACH;FMTTYPE=text/plain:https://hbb.rivio.dev/senioren/2024/wedstrijd/358
 65
END:VEVENT
BEGIN:VEVENT
UID:https://hbb.rivio.dev/senioren/2024/wedstrijd/35874
DTSTAMP:20260420T182011Z
SUMMARY:Heeze 1 - Gemert 1
DESCRIPTION:Baan 12\, Wedstrijdnummer 2025\, Afdeling 2e klasse K
DTSTART:20250403T200000
DTEND:20250403T230000
LOCATION:City Resort Helmond
ATTACH;FMTTYPE=text/plain:https://hbb.rivio.dev/senioren/2024/wedstrijd/358
 74
END:VEVENT
BEGIN:VTIMEZONE
TZID:Europe/Amsterdam
BEGIN:STANDARD
DTSTART:20240101T000000
TZNAME:CET
TZOFFSETTO:+0100
TZOFFSETFROM:+0100
END:STANDARD
BEGIN:DAYLIGHT
DTSTART:20240331T030000
TZNAME:CEST
TZOFFSETTO:+0200
TZOFFSETFROM:+0100
END:DAYLIGHT
BEGIN:STANDARD
DTSTART:20241027T020000
TZNAME:CET
TZOFFSETTO:+0100
TZOFFSETFROM:+0200
END:STANDARD
BEGIN:DAYLIGHT
DTSTART:20250330T030000
TZNAME:CEST
TZOFFSETTO:+0200
TZOFFSETFROM:+0100
END:DAYLIGHT
BEGIN:STANDARD
DTSTART:20251026T020000
TZNAME:CET
TZOFFSETTO:+0100
TZOFFSETFROM:+0200
END:STANDARD
END:VTIMEZONE
END:VCALENDAR
