BEGIN:VCALENDAR
PRODID:-//eluceo/ical//2.0/EN
VERSION:2.0
CALSCALE:GREGORIAN
BEGIN:VEVENT
UID:https://hbb.rivio.dev/senioren/2024/wedstrijd/35475
DTSTAMP:20260420T151609Z
SUMMARY:Someren 5 - Someren 4
DESCRIPTION:Baan 14\, Wedstrijdnummer 241\, Afdeling 4e klasse D
DTSTART:20240919T200000
DTEND:20240919T230000
LOCATION:City Resort Helmond
ATTACH;FMTTYPE=text/plain:https://hbb.rivio.dev/senioren/2024/wedstrijd/354
 75
END:VEVENT
BEGIN:VEVENT
UID:https://hbb.rivio.dev/senioren/2024/wedstrijd/35493
DTSTAMP:20260420T151609Z
SUMMARY:Heiakker 1 - Someren 5
DESCRIPTION:Baan 12\, Wedstrijdnummer 243\, Afdeling 4e klasse D
DTSTART:20240926T200000
DTEND:20240926T230000
LOCATION:City Resort Helmond
ATTACH;FMTTYPE=text/plain:https://hbb.rivio.dev/senioren/2024/wedstrijd/354
 93
END:VEVENT
BEGIN:VEVENT
UID:https://hbb.rivio.dev/senioren/2024/wedstrijd/35533
DTSTAMP:20260420T151609Z
SUMMARY:Someren 5 - Gemert 3
DESCRIPTION:Baan 15\, Wedstrijdnummer 253\, Afdeling 4e klasse D
DTSTART:20241010T200000
DTEND:20241010T230000
LOCATION:City Resort Helmond
ATTACH;FMTTYPE=text/plain:https://hbb.rivio.dev/senioren/2024/wedstrijd/355
 33
END:VEVENT
BEGIN:VEVENT
UID:https://hbb.rivio.dev/senioren/2024/wedstrijd/35571
DTSTAMP:20260420T151609Z
SUMMARY:Gemert 4 - Someren 5
DESCRIPTION:Baan 15\, Wedstrijdnummer 257\, Afdeling 4e klasse K
DTSTART:20241031T200000
DTEND:20241031T230000
LOCATION:City Resort Helmond
ATTACH;FMTTYPE=text/plain:https://hbb.rivio.dev/senioren/2024/wedstrijd/355
 71
END:VEVENT
BEGIN:VEVENT
UID:https://hbb.rivio.dev/senioren/2024/wedstrijd/35598
DTSTAMP:20260420T151609Z
SUMMARY:Someren 5 - Ganzeveer 4
DESCRIPTION:Baan 15\, Wedstrijdnummer 266\, Afdeling 4e klasse D
DTSTART:20241114T200000
DTEND:20241114T230000
LOCATION:City Resort Helmond
ATTACH;FMTTYPE=text/plain:https://hbb.rivio.dev/senioren/2024/wedstrijd/355
 98
END:VEVENT
BEGIN:VEVENT
UID:https://hbb.rivio.dev/senioren/2024/wedstrijd/35655
DTSTAMP:20260420T151609Z
SUMMARY:Mierlo 9 - Someren 5
DESCRIPTION:Baan 15\, Wedstrijdnummer 278\, Afdeling 4e klasse D
DTSTART:20241212T200000
DTEND:20241212T230000
LOCATION:City Resort Helmond
ATTACH;FMTTYPE=text/plain:https://hbb.rivio.dev/senioren/2024/wedstrijd/356
 55
END:VEVENT
BEGIN:VEVENT
UID:https://hbb.rivio.dev/senioren/2024/wedstrijd/35673
DTSTAMP:20260420T151609Z
SUMMARY:Someren 5 - Heeze 2
DESCRIPTION:Baan 15\, Wedstrijdnummer 284\, Afdeling 4e klasse D
DTSTART:20241219T200000
DTEND:20241219T230000
LOCATION:City Resort Helmond
ATTACH;FMTTYPE=text/plain:https://hbb.rivio.dev/senioren/2024/wedstrijd/356
 73
END:VEVENT
BEGIN:VEVENT
UID:https://hbb.rivio.dev/senioren/2024/wedstrijd/35719
DTSTAMP:20260420T151609Z
SUMMARY:Someren 5 - BC '85 1
DESCRIPTION:Baan 14\, Wedstrijdnummer 295\, Afdeling 4e klasse D
DTSTART:20250123T200000
DTEND:20250123T230000
LOCATION:City Resort Helmond
ATTACH;FMTTYPE=text/plain:https://hbb.rivio.dev/senioren/2024/wedstrijd/357
 19
END:VEVENT
BEGIN:VEVENT
UID:https://hbb.rivio.dev/senioren/2024/wedstrijd/35755
DTSTAMP:20260420T151609Z
SUMMARY:Mixed 5 - Someren 5
DESCRIPTION:Baan 13\, Wedstrijdnummer 302\, Afdeling 4e klasse K
DTSTART:20250206T200000
DTEND:20250206T230000
LOCATION:City Resort Helmond
ATTACH;FMTTYPE=text/plain:https://hbb.rivio.dev/senioren/2024/wedstrijd/357
 55
END:VEVENT
BEGIN:VEVENT
UID:https://hbb.rivio.dev/senioren/2024/wedstrijd/35776
DTSTAMP:20260420T151609Z
SUMMARY:Someren 5 - Phoenix 4
DESCRIPTION:Baan 15\, Wedstrijdnummer 307\, Afdeling 4e klasse D
DTSTART:20250213T200000
DTEND:20250213T230000
LOCATION:City Resort Helmond
ATTACH;FMTTYPE=text/plain:https://hbb.rivio.dev/senioren/2024/wedstrijd/357
 76
END:VEVENT
BEGIN:VEVENT
UID:https://hbb.rivio.dev/senioren/2024/wedstrijd/35791
DTSTAMP:20260420T151609Z
SUMMARY:De Valken 5 - Someren 5
DESCRIPTION:Baan 14\, Wedstrijdnummer 310\, Afdeling 4e klasse K
DTSTART:20250313T200000
DTEND:20250313T230000
LOCATION:City Resort Helmond
ATTACH;FMTTYPE=text/plain:https://hbb.rivio.dev/senioren/2024/wedstrijd/357
 91
END:VEVENT
BEGIN:VEVENT
UID:https://hbb.rivio.dev/senioren/2024/wedstrijd/35960
DTSTAMP:20260420T151609Z
SUMMARY:Heiakker 1 - Someren 5
DESCRIPTION:Baan 14\, Wedstrijdnummer 2097\, Afdeling 4e klasse D
DTSTART:20250403T200000
DTEND:20250403T230000
LOCATION:City Resort Helmond
ATTACH;FMTTYPE=text/plain:https://hbb.rivio.dev/senioren/2024/wedstrijd/359
 60
END:VEVENT
BEGIN:VEVENT
UID:https://hbb.rivio.dev/senioren/2024/wedstrijd/35966
DTSTAMP:20260420T151609Z
SUMMARY:Someren 5 - Mierlo 9
DESCRIPTION:Baan 13\, Wedstrijdnummer 2100\, Afdeling 4e klasse D
DTSTART:20250416T200000
DTEND:20250416T230000
LOCATION:City Resort Helmond
ATTACH;FMTTYPE=text/plain:https://hbb.rivio.dev/senioren/2024/wedstrijd/359
 66
END:VEVENT
BEGIN:VEVENT
UID:https://hbb.rivio.dev/senioren/2024/wedstrijd/35969
DTSTAMP:20260420T151609Z
SUMMARY:Someren 5 - Ganzeveer 4
DESCRIPTION:Baan 13\, Wedstrijdnummer 2082\, Afdeling 4e klasse D
DTSTART:20250515T200000
DTEND:20250515T230000
LOCATION:City Resort Helmond
ATTACH;FMTTYPE=text/plain:https://hbb.rivio.dev/senioren/2024/wedstrijd/359
 69
END:VEVENT
BEGIN:VEVENT
UID:https://hbb.rivio.dev/senioren/2024/wedstrijd/35971
DTSTAMP:20260420T151609Z
SUMMARY:Phoenix 4 - Someren 5
DESCRIPTION:Baan 5\, Wedstrijdnummer 2088\, Afdeling 4e klasse D
DTSTART:20250521T200000
DTEND:20250521T230000
LOCATION:City Resort Helmond
ATTACH;FMTTYPE=text/plain:https://hbb.rivio.dev/senioren/2024/wedstrijd/359
 71
END:VEVENT
BEGIN:VEVENT
UID:https://hbb.rivio.dev/senioren/2024/wedstrijd/35979
DTSTAMP:20260420T151609Z
SUMMARY:Someren 5 - BC '85 1
DESCRIPTION:Baan 13\, Wedstrijdnummer 2094\, Afdeling 4e klasse D
DTSTART:20250528T200000
DTEND:20250528T230000
LOCATION:City Resort Helmond
ATTACH;FMTTYPE=text/plain:https://hbb.rivio.dev/senioren/2024/wedstrijd/359
 79
END:VEVENT
BEGIN:VTIMEZONE
TZID:Europe/Amsterdam
BEGIN:STANDARD
DTSTART:20240101T000000
TZNAME:CET
TZOFFSETTO:+0100
TZOFFSETFROM:+0100
END:STANDARD
BEGIN:DAYLIGHT
DTSTART:20240331T030000
TZNAME:CEST
TZOFFSETTO:+0200
TZOFFSETFROM:+0100
END:DAYLIGHT
BEGIN:STANDARD
DTSTART:20241027T020000
TZNAME:CET
TZOFFSETTO:+0100
TZOFFSETFROM:+0200
END:STANDARD
BEGIN:DAYLIGHT
DTSTART:20250330T030000
TZNAME:CEST
TZOFFSETTO:+0200
TZOFFSETFROM:+0100
END:DAYLIGHT
BEGIN:STANDARD
DTSTART:20251026T020000
TZNAME:CET
TZOFFSETTO:+0100
TZOFFSETFROM:+0200
END:STANDARD
END:VTIMEZONE
END:VCALENDAR
