BEGIN:VCALENDAR
PRODID:-//eluceo/ical//2.0/EN
VERSION:2.0
CALSCALE:GREGORIAN
BEGIN:VEVENT
UID:https://hbb.rivio.dev/senioren/2024/wedstrijd/35475
DTSTAMP:20260420T133449Z
SUMMARY:Someren 5 - Someren 4
DESCRIPTION:Baan 14\, Wedstrijdnummer 241\, Afdeling 4e klasse D
DTSTART:20240919T200000
DTEND:20240919T230000
LOCATION:City Resort Helmond
ATTACH;FMTTYPE=text/plain:https://hbb.rivio.dev/senioren/2024/wedstrijd/354
 75
END:VEVENT
BEGIN:VEVENT
UID:https://hbb.rivio.dev/senioren/2024/wedstrijd/35495
DTSTAMP:20260420T133449Z
SUMMARY:Someren 4 - Mierlo 9
DESCRIPTION:Baan 15\, Wedstrijdnummer 247\, Afdeling 4e klasse K
DTSTART:20240926T200000
DTEND:20240926T230000
LOCATION:City Resort Helmond
ATTACH;FMTTYPE=text/plain:https://hbb.rivio.dev/senioren/2024/wedstrijd/354
 95
END:VEVENT
BEGIN:VEVENT
UID:https://hbb.rivio.dev/senioren/2024/wedstrijd/35532
DTSTAMP:20260420T133449Z
SUMMARY:Heeze 2 - Someren 4
DESCRIPTION:Baan 13\, Wedstrijdnummer 250\, Afdeling 4e klasse K
DTSTART:20241010T200000
DTEND:20241010T230000
LOCATION:City Resort Helmond
ATTACH;FMTTYPE=text/plain:https://hbb.rivio.dev/senioren/2024/wedstrijd/355
 32
END:VEVENT
BEGIN:VEVENT
UID:https://hbb.rivio.dev/senioren/2024/wedstrijd/35597
DTSTAMP:20260420T133450Z
SUMMARY:BC '85 1 - Someren 4
DESCRIPTION:Baan 14\, Wedstrijdnummer 262\, Afdeling 4e klasse D
DTSTART:20241114T200000
DTEND:20241114T230000
LOCATION:City Resort Helmond
ATTACH;FMTTYPE=text/plain:https://hbb.rivio.dev/senioren/2024/wedstrijd/355
 97
END:VEVENT
BEGIN:VEVENT
UID:https://hbb.rivio.dev/senioren/2024/wedstrijd/35607
DTSTAMP:20260420T133450Z
SUMMARY:Someren 4 - Mixed 5
DESCRIPTION:Baan 15\, Wedstrijdnummer 271\, Afdeling 4e klasse K
DTSTART:20241121T200000
DTEND:20241121T230000
LOCATION:City Resort Helmond
ATTACH;FMTTYPE=text/plain:https://hbb.rivio.dev/senioren/2024/wedstrijd/356
 07
END:VEVENT
BEGIN:VEVENT
UID:https://hbb.rivio.dev/senioren/2024/wedstrijd/35636
DTSTAMP:20260420T133450Z
SUMMARY:Phoenix 4 - Someren 4
DESCRIPTION:Baan 15\, Wedstrijdnummer 274\, Afdeling 4e klasse D
DTSTART:20241204T200000
DTEND:20241204T230000
LOCATION:City Resort Helmond
ATTACH;FMTTYPE=text/plain:https://hbb.rivio.dev/senioren/2024/wedstrijd/356
 36
END:VEVENT
BEGIN:VEVENT
UID:https://hbb.rivio.dev/senioren/2024/wedstrijd/35672
DTSTAMP:20260420T133450Z
SUMMARY:Someren 4 - De Valken 5
DESCRIPTION:Baan 14\, Wedstrijdnummer 283\, Afdeling 4e klasse K
DTSTART:20241219T200000
DTEND:20241219T230000
LOCATION:City Resort Helmond
ATTACH;FMTTYPE=text/plain:https://hbb.rivio.dev/senioren/2024/wedstrijd/356
 72
END:VEVENT
BEGIN:VEVENT
UID:https://hbb.rivio.dev/senioren/2024/wedstrijd/35700
DTSTAMP:20260420T133450Z
SUMMARY:Heiakker 1 - Someren 4
DESCRIPTION:Baan 14\, Wedstrijdnummer 291\, Afdeling 4e klasse D
DTSTART:20250116T200000
DTEND:20250116T230000
LOCATION:City Resort Helmond
ATTACH;FMTTYPE=text/plain:https://hbb.rivio.dev/senioren/2024/wedstrijd/357
 00
END:VEVENT
BEGIN:VEVENT
UID:https://hbb.rivio.dev/senioren/2024/wedstrijd/35738
DTSTAMP:20260420T133450Z
SUMMARY:Someren 4 - Gemert 3
DESCRIPTION:Baan 15\, Wedstrijdnummer 301\, Afdeling 4e klasse K
DTSTART:20250130T200000
DTEND:20250130T230000
LOCATION:City Resort Helmond
ATTACH;FMTTYPE=text/plain:https://hbb.rivio.dev/senioren/2024/wedstrijd/357
 38
END:VEVENT
BEGIN:VEVENT
UID:https://hbb.rivio.dev/senioren/2024/wedstrijd/35756
DTSTAMP:20260420T133450Z
SUMMARY:Gemert 4 - Someren 4
DESCRIPTION:Baan 14\, Wedstrijdnummer 303\, Afdeling 4e klasse K
DTSTART:20250206T200000
DTEND:20250206T230000
LOCATION:City Resort Helmond
ATTACH;FMTTYPE=text/plain:https://hbb.rivio.dev/senioren/2024/wedstrijd/357
 56
END:VEVENT
BEGIN:VEVENT
UID:https://hbb.rivio.dev/senioren/2024/wedstrijd/35792
DTSTAMP:20260420T133450Z
SUMMARY:Someren 4 - Ganzeveer 4
DESCRIPTION:Baan 15\, Wedstrijdnummer 313\, Afdeling 4e klasse K
DTSTART:20250313T200000
DTEND:20250313T230000
LOCATION:City Resort Helmond
ATTACH;FMTTYPE=text/plain:https://hbb.rivio.dev/senioren/2024/wedstrijd/357
 92
END:VEVENT
BEGIN:VEVENT
UID:https://hbb.rivio.dev/senioren/2024/wedstrijd/35952
DTSTAMP:20260420T133450Z
SUMMARY:Someren 4 - Mixed 5
DESCRIPTION:Baan 13\, Wedstrijdnummer 2067\, Afdeling 4e klasse K
DTSTART:20250326T200000
DTEND:20250326T230000
LOCATION:City Resort Helmond
ATTACH;FMTTYPE=text/plain:https://hbb.rivio.dev/senioren/2024/wedstrijd/359
 52
END:VEVENT
BEGIN:VEVENT
UID:https://hbb.rivio.dev/senioren/2024/wedstrijd/35957
DTSTAMP:20260420T133450Z
SUMMARY:Gemert 4 - Someren 4
DESCRIPTION:Baan 12\, Wedstrijdnummer 2073\, Afdeling 4e klasse K
DTSTART:20250402T200000
DTEND:20250402T230000
LOCATION:City Resort Helmond
ATTACH;FMTTYPE=text/plain:https://hbb.rivio.dev/senioren/2024/wedstrijd/359
 57
END:VEVENT
BEGIN:VEVENT
UID:https://hbb.rivio.dev/senioren/2024/wedstrijd/35964
DTSTAMP:20260420T133450Z
SUMMARY:Someren 4 - Heeze 2
DESCRIPTION:Baan 14\, Wedstrijdnummer 2079\, Afdeling 4e klasse K
DTSTART:20250410T200000
DTEND:20250410T230000
LOCATION:City Resort Helmond
ATTACH;FMTTYPE=text/plain:https://hbb.rivio.dev/senioren/2024/wedstrijd/359
 64
END:VEVENT
BEGIN:VEVENT
UID:https://hbb.rivio.dev/senioren/2024/wedstrijd/35972
DTSTAMP:20260420T133450Z
SUMMARY:De Valken 5 - Someren 4
DESCRIPTION:Baan 11\, Wedstrijdnummer 2085\, Afdeling 4e klasse K
DTSTART:20250521T200000
DTEND:20250521T230000
LOCATION:City Resort Helmond
ATTACH;FMTTYPE=text/plain:https://hbb.rivio.dev/senioren/2024/wedstrijd/359
 72
END:VEVENT
BEGIN:VEVENT
UID:https://hbb.rivio.dev/senioren/2024/wedstrijd/35976
DTSTAMP:20260420T133450Z
SUMMARY:Someren 4 - Gemert 3
DESCRIPTION:Baan 5\, Wedstrijdnummer 2091\, Afdeling 4e klasse K
DTSTART:20250528T200000
DTEND:20250528T230000
LOCATION:City Resort Helmond
ATTACH;FMTTYPE=text/plain:https://hbb.rivio.dev/senioren/2024/wedstrijd/359
 76
END:VEVENT
BEGIN:VTIMEZONE
TZID:Europe/Amsterdam
BEGIN:STANDARD
DTSTART:20240101T000000
TZNAME:CET
TZOFFSETTO:+0100
TZOFFSETFROM:+0100
END:STANDARD
BEGIN:DAYLIGHT
DTSTART:20240331T030000
TZNAME:CEST
TZOFFSETTO:+0200
TZOFFSETFROM:+0100
END:DAYLIGHT
BEGIN:STANDARD
DTSTART:20241027T020000
TZNAME:CET
TZOFFSETTO:+0100
TZOFFSETFROM:+0200
END:STANDARD
BEGIN:DAYLIGHT
DTSTART:20250330T030000
TZNAME:CEST
TZOFFSETTO:+0200
TZOFFSETFROM:+0100
END:DAYLIGHT
BEGIN:STANDARD
DTSTART:20251026T020000
TZNAME:CET
TZOFFSETTO:+0100
TZOFFSETFROM:+0200
END:STANDARD
END:VTIMEZONE
END:VCALENDAR
