BEGIN:VCALENDAR
PRODID:-//eluceo/ical//2.0/EN
VERSION:2.0
CALSCALE:GREGORIAN
BEGIN:VEVENT
UID:https://hbb.rivio.dev/senioren/2024/wedstrijd/35458
DTSTAMP:20260420T220310Z
SUMMARY:Mierlo 9 - De Valken 5
DESCRIPTION:Baan 1\, Wedstrijdnummer 240\, Afdeling 4e klasse D
DTSTART:20240918T200000
DTEND:20240918T230000
LOCATION:City Resort Helmond
ATTACH;FMTTYPE=text/plain:https://hbb.rivio.dev/senioren/2024/wedstrijd/354
 58
END:VEVENT
BEGIN:VEVENT
UID:https://hbb.rivio.dev/senioren/2024/wedstrijd/35495
DTSTAMP:20260420T220310Z
SUMMARY:Someren 4 - Mierlo 9
DESCRIPTION:Baan 15\, Wedstrijdnummer 247\, Afdeling 4e klasse K
DTSTART:20240926T200000
DTEND:20240926T230000
LOCATION:City Resort Helmond
ATTACH;FMTTYPE=text/plain:https://hbb.rivio.dev/senioren/2024/wedstrijd/354
 95
END:VEVENT
BEGIN:VEVENT
UID:https://hbb.rivio.dev/senioren/2024/wedstrijd/35514
DTSTAMP:20260420T220310Z
SUMMARY:Mierlo 9 - Heiakker 1
DESCRIPTION:Baan 15\, Wedstrijdnummer 252\, Afdeling 4e klasse D
DTSTART:20241003T200000
DTEND:20241003T230000
LOCATION:City Resort Helmond
ATTACH;FMTTYPE=text/plain:https://hbb.rivio.dev/senioren/2024/wedstrijd/355
 14
END:VEVENT
BEGIN:VEVENT
UID:https://hbb.rivio.dev/senioren/2024/wedstrijd/35561
DTSTAMP:20260420T220310Z
SUMMARY:Gemert 3 - Mierlo 9
DESCRIPTION:Baan 14\, Wedstrijdnummer 260\, Afdeling 4e klasse K
DTSTART:20241030T200000
DTEND:20241030T230000
LOCATION:City Resort Helmond
ATTACH;FMTTYPE=text/plain:https://hbb.rivio.dev/senioren/2024/wedstrijd/355
 61
END:VEVENT
BEGIN:VEVENT
UID:https://hbb.rivio.dev/senioren/2024/wedstrijd/35579
DTSTAMP:20260420T220310Z
SUMMARY:Mierlo 9 - Gemert 4
DESCRIPTION:Baan 15\, Wedstrijdnummer 265\, Afdeling 4e klasse D
DTSTART:20241106T200000
DTEND:20241106T230000
LOCATION:City Resort Helmond
ATTACH;FMTTYPE=text/plain:https://hbb.rivio.dev/senioren/2024/wedstrijd/355
 79
END:VEVENT
BEGIN:VEVENT
UID:https://hbb.rivio.dev/senioren/2024/wedstrijd/35617
DTSTAMP:20260420T220310Z
SUMMARY:Ganzeveer 4 - Mierlo 9
DESCRIPTION:Baan 15\, Wedstrijdnummer 272\, Afdeling 4e klasse D
DTSTART:20241127T200000
DTEND:20241127T230000
LOCATION:City Resort Helmond
ATTACH;FMTTYPE=text/plain:https://hbb.rivio.dev/senioren/2024/wedstrijd/356
 17
END:VEVENT
BEGIN:VEVENT
UID:https://hbb.rivio.dev/senioren/2024/wedstrijd/35655
DTSTAMP:20260420T220310Z
SUMMARY:Mierlo 9 - Someren 5
DESCRIPTION:Baan 15\, Wedstrijdnummer 278\, Afdeling 4e klasse D
DTSTART:20241212T200000
DTEND:20241212T230000
LOCATION:City Resort Helmond
ATTACH;FMTTYPE=text/plain:https://hbb.rivio.dev/senioren/2024/wedstrijd/356
 55
END:VEVENT
BEGIN:VEVENT
UID:https://hbb.rivio.dev/senioren/2024/wedstrijd/35682
DTSTAMP:20260420T220310Z
SUMMARY:Heeze 2 - Mierlo 9
DESCRIPTION:Baan 14\, Wedstrijdnummer 288\, Afdeling 4e klasse K
DTSTART:20250109T200000
DTEND:20250109T230000
LOCATION:City Resort Helmond
ATTACH;FMTTYPE=text/plain:https://hbb.rivio.dev/senioren/2024/wedstrijd/356
 82
END:VEVENT
BEGIN:VEVENT
UID:https://hbb.rivio.dev/senioren/2024/wedstrijd/35737
DTSTAMP:20260420T220310Z
SUMMARY:BC '85 1 - Mierlo 9
DESCRIPTION:Baan 14\, Wedstrijdnummer 300\, Afdeling 4e klasse D
DTSTART:20250130T200000
DTEND:20250130T230000
LOCATION:City Resort Helmond
ATTACH;FMTTYPE=text/plain:https://hbb.rivio.dev/senioren/2024/wedstrijd/357
 37
END:VEVENT
BEGIN:VEVENT
UID:https://hbb.rivio.dev/senioren/2024/wedstrijd/35765
DTSTAMP:20260420T220310Z
SUMMARY:Mierlo 9 - Mixed 5
DESCRIPTION:Baan 14\, Wedstrijdnummer 306\, Afdeling 4e klasse D
DTSTART:20250212T200000
DTEND:20250212T230000
LOCATION:City Resort Helmond
ATTACH;FMTTYPE=text/plain:https://hbb.rivio.dev/senioren/2024/wedstrijd/357
 65
END:VEVENT
BEGIN:VEVENT
UID:https://hbb.rivio.dev/senioren/2024/wedstrijd/35781
DTSTAMP:20260420T220310Z
SUMMARY:Phoenix 4 - Mierlo 9
DESCRIPTION:Baan 14\, Wedstrijdnummer 311\, Afdeling 4e klasse D
DTSTART:20250219T200000
DTEND:20250219T230000
LOCATION:City Resort Helmond
ATTACH;FMTTYPE=text/plain:https://hbb.rivio.dev/senioren/2024/wedstrijd/357
 81
END:VEVENT
BEGIN:VEVENT
UID:https://hbb.rivio.dev/senioren/2024/wedstrijd/35961
DTSTAMP:20260420T220310Z
SUMMARY:BC '85 1 - Mierlo 9
DESCRIPTION:Baan 15\, Wedstrijdnummer 2098\, Afdeling 4e klasse D
DTSTART:20250403T200000
DTEND:20250403T230000
LOCATION:City Resort Helmond
ATTACH;FMTTYPE=text/plain:https://hbb.rivio.dev/senioren/2024/wedstrijd/359
 61
END:VEVENT
BEGIN:VEVENT
UID:https://hbb.rivio.dev/senioren/2024/wedstrijd/35962
DTSTAMP:20260420T220310Z
SUMMARY:Mierlo 9 - Phoenix 4
DESCRIPTION:Baan 14\, Wedstrijdnummer 2077\, Afdeling 4e klasse D
DTSTART:20250409T200000
DTEND:20250409T230000
LOCATION:City Resort Helmond
ATTACH;FMTTYPE=text/plain:https://hbb.rivio.dev/senioren/2024/wedstrijd/359
 62
END:VEVENT
BEGIN:VEVENT
UID:https://hbb.rivio.dev/senioren/2024/wedstrijd/35966
DTSTAMP:20260420T220310Z
SUMMARY:Someren 5 - Mierlo 9
DESCRIPTION:Baan 13\, Wedstrijdnummer 2100\, Afdeling 4e klasse D
DTSTART:20250416T200000
DTEND:20250416T230000
LOCATION:City Resort Helmond
ATTACH;FMTTYPE=text/plain:https://hbb.rivio.dev/senioren/2024/wedstrijd/359
 66
END:VEVENT
BEGIN:VEVENT
UID:https://hbb.rivio.dev/senioren/2024/wedstrijd/35970
DTSTAMP:20260420T220310Z
SUMMARY:Mierlo 9 - Heiakker 1
DESCRIPTION:Baan 15\, Wedstrijdnummer 2084\, Afdeling 4e klasse D
DTSTART:20250515T200000
DTEND:20250515T230000
LOCATION:City Resort Helmond
ATTACH;FMTTYPE=text/plain:https://hbb.rivio.dev/senioren/2024/wedstrijd/359
 70
END:VEVENT
BEGIN:VEVENT
UID:https://hbb.rivio.dev/senioren/2024/wedstrijd/35981
DTSTAMP:20260420T220310Z
SUMMARY:Ganzeveer 4 - Mierlo 9
DESCRIPTION:Baan 15\, Wedstrijdnummer 2096\, Afdeling 4e klasse D
DTSTART:20250528T200000
DTEND:20250528T230000
LOCATION:City Resort Helmond
ATTACH;FMTTYPE=text/plain:https://hbb.rivio.dev/senioren/2024/wedstrijd/359
 81
END:VEVENT
BEGIN:VTIMEZONE
TZID:Europe/Amsterdam
BEGIN:STANDARD
DTSTART:20240101T000000
TZNAME:CET
TZOFFSETTO:+0100
TZOFFSETFROM:+0100
END:STANDARD
BEGIN:DAYLIGHT
DTSTART:20240331T030000
TZNAME:CEST
TZOFFSETTO:+0200
TZOFFSETFROM:+0100
END:DAYLIGHT
BEGIN:STANDARD
DTSTART:20241027T020000
TZNAME:CET
TZOFFSETTO:+0100
TZOFFSETFROM:+0200
END:STANDARD
BEGIN:DAYLIGHT
DTSTART:20250330T030000
TZNAME:CEST
TZOFFSETTO:+0200
TZOFFSETFROM:+0100
END:DAYLIGHT
BEGIN:STANDARD
DTSTART:20251026T020000
TZNAME:CET
TZOFFSETTO:+0100
TZOFFSETFROM:+0200
END:STANDARD
END:VTIMEZONE
END:VCALENDAR
