BEGIN:VCALENDAR
PRODID:-//eluceo/ical//2.0/EN
VERSION:2.0
CALSCALE:GREGORIAN
BEGIN:VEVENT
UID:https://hbb.rivio.dev/senioren/2024/wedstrijd/35501
DTSTAMP:20260420T190316Z
SUMMARY:Phoenix 2 - Mierlo 4
DESCRIPTION:Baan 11\, Wedstrijdnummer 66\, Afdeling 1e klasse 
DTSTART:20241002T200000
DTEND:20241002T230000
LOCATION:City Resort Helmond
ATTACH;FMTTYPE=text/plain:https://hbb.rivio.dev/senioren/2024/wedstrijd/355
 01
END:VEVENT
BEGIN:VEVENT
UID:https://hbb.rivio.dev/senioren/2024/wedstrijd/35527
DTSTAMP:20260420T190316Z
SUMMARY:Mierlo 4 - Smashing Bruang 1
DESCRIPTION:Baan 3\, Wedstrijdnummer 69\, Afdeling 1e klasse 
DTSTART:20241010T200000
DTEND:20241010T230000
LOCATION:City Resort Helmond
ATTACH;FMTTYPE=text/plain:https://hbb.rivio.dev/senioren/2024/wedstrijd/355
 27
END:VEVENT
BEGIN:VEVENT
UID:https://hbb.rivio.dev/senioren/2024/wedstrijd/35548
DTSTAMP:20260420T190316Z
SUMMARY:Mierlo 4 - Someren 2
DESCRIPTION:Baan 5\, Wedstrijdnummer 74\, Afdeling 1e klasse 
DTSTART:20241017T200000
DTEND:20241017T230000
LOCATION:City Resort Helmond
ATTACH;FMTTYPE=text/plain:https://hbb.rivio.dev/senioren/2024/wedstrijd/355
 48
END:VEVENT
BEGIN:VEVENT
UID:https://hbb.rivio.dev/senioren/2024/wedstrijd/35620
DTSTAMP:20260420T190316Z
SUMMARY:Mierlo 4 - RBC 1
DESCRIPTION:Baan 3\, Wedstrijdnummer 84\, Afdeling 1e klasse 
DTSTART:20241128T200000
DTEND:20241128T230000
LOCATION:City Resort Helmond
ATTACH;FMTTYPE=text/plain:https://hbb.rivio.dev/senioren/2024/wedstrijd/356
 20
END:VEVENT
BEGIN:VEVENT
UID:https://hbb.rivio.dev/senioren/2024/wedstrijd/35638
DTSTAMP:20260420T190316Z
SUMMARY:De Valken 3 - Mierlo 4
DESCRIPTION:Baan 2\, Wedstrijdnummer 88\, Afdeling 1e klasse 
DTSTART:20241211T200000
DTEND:20241211T230000
LOCATION:City Resort Helmond
ATTACH;FMTTYPE=text/plain:https://hbb.rivio.dev/senioren/2024/wedstrijd/356
 38
END:VEVENT
BEGIN:VEVENT
UID:https://hbb.rivio.dev/senioren/2024/wedstrijd/35696
DTSTAMP:20260420T190316Z
SUMMARY:Eindhoven 1 - Mierlo 4
DESCRIPTION:Baan 5\, Wedstrijdnummer 91\, Afdeling 1e klasse 
DTSTART:20250116T200000
DTEND:20250116T230000
LOCATION:City Resort Helmond
ATTACH;FMTTYPE=text/plain:https://hbb.rivio.dev/senioren/2024/wedstrijd/356
 96
END:VEVENT
BEGIN:VEVENT
UID:https://hbb.rivio.dev/senioren/2024/wedstrijd/35705
DTSTAMP:20260420T190316Z
SUMMARY:Mierlo 4 - Phoenix 2
DESCRIPTION:Baan 5\, Wedstrijdnummer 1066\, Afdeling 1e klasse 
DTSTART:20250122T200000
DTEND:20250122T230000
LOCATION:City Resort Helmond
ATTACH;FMTTYPE=text/plain:https://hbb.rivio.dev/senioren/2024/wedstrijd/357
 05
END:VEVENT
BEGIN:VEVENT
UID:https://hbb.rivio.dev/senioren/2024/wedstrijd/35731
DTSTAMP:20260420T190316Z
SUMMARY:Smashing Bruang 1 - Mierlo 4
DESCRIPTION:Baan 3\, Wedstrijdnummer 1069\, Afdeling 1e klasse 
DTSTART:20250130T200000
DTEND:20250130T230000
LOCATION:City Resort Helmond
ATTACH;FMTTYPE=text/plain:https://hbb.rivio.dev/senioren/2024/wedstrijd/357
 31
END:VEVENT
BEGIN:VEVENT
UID:https://hbb.rivio.dev/senioren/2024/wedstrijd/35772
DTSTAMP:20260420T190316Z
SUMMARY:Someren 2 - Mierlo 4
DESCRIPTION:Baan 11\, Wedstrijdnummer 1074\, Afdeling 1e klasse 
DTSTART:20250213T200000
DTEND:20250213T230000
LOCATION:City Resort Helmond
ATTACH;FMTTYPE=text/plain:https://hbb.rivio.dev/senioren/2024/wedstrijd/357
 72
END:VEVENT
BEGIN:VEVENT
UID:https://hbb.rivio.dev/senioren/2024/wedstrijd/35809
DTSTAMP:20260420T190316Z
SUMMARY:RBC 1 - Mierlo 4
DESCRIPTION:Baan 5\, Wedstrijdnummer 1084\, Afdeling 1e klasse 
DTSTART:20250403T200000
DTEND:20250403T230000
LOCATION:City Resort Helmond
ATTACH;FMTTYPE=text/plain:https://hbb.rivio.dev/senioren/2024/wedstrijd/358
 09
END:VEVENT
BEGIN:VEVENT
UID:https://hbb.rivio.dev/senioren/2024/wedstrijd/35814
DTSTAMP:20260420T190316Z
SUMMARY:Mierlo 4 - De Valken 3
DESCRIPTION:Baan 5\, Wedstrijdnummer 1088\, Afdeling 1e klasse 
DTSTART:20250409T200000
DTEND:20250409T230000
LOCATION:City Resort Helmond
ATTACH;FMTTYPE=text/plain:https://hbb.rivio.dev/senioren/2024/wedstrijd/358
 14
END:VEVENT
BEGIN:VEVENT
UID:https://hbb.rivio.dev/senioren/2024/wedstrijd/35829
DTSTAMP:20260420T190316Z
SUMMARY:Mierlo 4 - Eindhoven 1
DESCRIPTION:Baan 4\, Wedstrijdnummer 1091\, Afdeling 1e klasse 
DTSTART:20250515T200000
DTEND:20250515T230000
LOCATION:City Resort Helmond
ATTACH;FMTTYPE=text/plain:https://hbb.rivio.dev/senioren/2024/wedstrijd/358
 29
END:VEVENT
BEGIN:VTIMEZONE
TZID:Europe/Amsterdam
BEGIN:STANDARD
DTSTART:20240101T000000
TZNAME:CET
TZOFFSETTO:+0100
TZOFFSETFROM:+0100
END:STANDARD
BEGIN:DAYLIGHT
DTSTART:20240331T030000
TZNAME:CEST
TZOFFSETTO:+0200
TZOFFSETFROM:+0100
END:DAYLIGHT
BEGIN:STANDARD
DTSTART:20241027T020000
TZNAME:CET
TZOFFSETTO:+0100
TZOFFSETFROM:+0200
END:STANDARD
BEGIN:DAYLIGHT
DTSTART:20250330T030000
TZNAME:CEST
TZOFFSETTO:+0200
TZOFFSETFROM:+0100
END:DAYLIGHT
BEGIN:STANDARD
DTSTART:20251026T020000
TZNAME:CET
TZOFFSETTO:+0100
TZOFFSETFROM:+0200
END:STANDARD
END:VTIMEZONE
END:VCALENDAR
