BEGIN:VCALENDAR
PRODID:-//eluceo/ical//2.0/EN
VERSION:2.0
CALSCALE:GREGORIAN
BEGIN:VEVENT
UID:https://hbb.rivio.dev/jeugd/2024/wedstrijd/34825
DTSTAMP:20260420T090218Z
SUMMARY:Mierlo 6 - Gemert 5
DESCRIPTION:Baan 3\, Wedstrijdnummer 20\, Afdeling H-klasse 
DTSTART:20240915T093000
DTEND:20240915T111500
LOCATION:City Resort Helmond
ATTACH;FMTTYPE=text/plain:https://hbb.rivio.dev/jeugd/2024/wedstrijd/34825
END:VEVENT
BEGIN:VEVENT
UID:https://hbb.rivio.dev/jeugd/2024/wedstrijd/34854
DTSTAMP:20260420T090218Z
SUMMARY:Gemert 5 - Brabantia 3
DESCRIPTION:Baan 14\, Wedstrijdnummer 43\, Afdeling H-klasse 
DTSTART:20241006T093000
DTEND:20241006T111500
LOCATION:City Resort Helmond
ATTACH;FMTTYPE=text/plain:https://hbb.rivio.dev/jeugd/2024/wedstrijd/34854
END:VEVENT
BEGIN:VEVENT
UID:https://hbb.rivio.dev/jeugd/2024/wedstrijd/34880
DTSTAMP:20260420T090218Z
SUMMARY:Gemert 5 - Geldrop 5
DESCRIPTION:Baan 3\, Wedstrijdnummer 69\, Afdeling H-klasse 
DTSTART:20241013T123000
DTEND:20241013T230000
LOCATION:City Resort Helmond
ATTACH;FMTTYPE=text/plain:https://hbb.rivio.dev/jeugd/2024/wedstrijd/34880
END:VEVENT
BEGIN:VEVENT
UID:https://hbb.rivio.dev/jeugd/2024/wedstrijd/34904
DTSTAMP:20260420T090218Z
SUMMARY:VBSC 2 - Gemert 5
DESCRIPTION:Baan 5\, Wedstrijdnummer 93\, Afdeling H-klasse 
DTSTART:20241103T123000
DTEND:20241103T230000
LOCATION:City Resort Helmond
ATTACH;FMTTYPE=text/plain:https://hbb.rivio.dev/jeugd/2024/wedstrijd/34904
END:VEVENT
BEGIN:VEVENT
UID:https://hbb.rivio.dev/jeugd/2024/wedstrijd/34927
DTSTAMP:20260420T090218Z
SUMMARY:Gemert 5 - Mixed 8
DESCRIPTION:Baan 13\, Wedstrijdnummer 116\, Afdeling H-klasse 
DTSTART:20241117T123000
DTEND:20241117T230000
LOCATION:City Resort Helmond
ATTACH;FMTTYPE=text/plain:https://hbb.rivio.dev/jeugd/2024/wedstrijd/34927
END:VEVENT
BEGIN:VEVENT
UID:https://hbb.rivio.dev/jeugd/2024/wedstrijd/34933
DTSTAMP:20260420T090218Z
SUMMARY:Gemert 5 - Mierlo 6
DESCRIPTION:Baan 4\, Wedstrijdnummer 140\, Afdeling H-klasse 
DTSTART:20241124T093000
DTEND:20241124T111500
LOCATION:City Resort Helmond
ATTACH;FMTTYPE=text/plain:https://hbb.rivio.dev/jeugd/2024/wedstrijd/34933
END:VEVENT
BEGIN:VEVENT
UID:https://hbb.rivio.dev/jeugd/2024/wedstrijd/34964
DTSTAMP:20260420T090218Z
SUMMARY:Brabantia 3 - Gemert 5
DESCRIPTION:Baan 5\, Wedstrijdnummer 163\, Afdeling H-klasse 
DTSTART:20241208T093000
DTEND:20241208T111500
LOCATION:City Resort Helmond
ATTACH;FMTTYPE=text/plain:https://hbb.rivio.dev/jeugd/2024/wedstrijd/34964
END:VEVENT
BEGIN:VEVENT
UID:https://hbb.rivio.dev/jeugd/2024/wedstrijd/35000
DTSTAMP:20260420T090218Z
SUMMARY:Geldrop 5 - Gemert 5
DESCRIPTION:Baan 1\, Wedstrijdnummer 189\, Afdeling H-klasse 
DTSTART:20250112T093000
DTEND:20250112T111500
LOCATION:City Resort Helmond
ATTACH;FMTTYPE=text/plain:https://hbb.rivio.dev/jeugd/2024/wedstrijd/35000
END:VEVENT
BEGIN:VEVENT
UID:https://hbb.rivio.dev/jeugd/2024/wedstrijd/35024
DTSTAMP:20260420T090218Z
SUMMARY:Gemert 5 - VBSC 2
DESCRIPTION:Baan 5\, Wedstrijdnummer 213\, Afdeling H-klasse 
DTSTART:20250202T093000
DTEND:20250202T111500
LOCATION:City Resort Helmond
ATTACH;FMTTYPE=text/plain:https://hbb.rivio.dev/jeugd/2024/wedstrijd/35024
END:VEVENT
BEGIN:VEVENT
UID:https://hbb.rivio.dev/jeugd/2024/wedstrijd/35047
DTSTAMP:20260420T090218Z
SUMMARY:Mixed 8 - Gemert 5
DESCRIPTION:Baan 13\, Wedstrijdnummer 236\, Afdeling H-klasse 
DTSTART:20250209T093000
DTEND:20250209T111500
LOCATION:City Resort Helmond
ATTACH;FMTTYPE=text/plain:https://hbb.rivio.dev/jeugd/2024/wedstrijd/35047
END:VEVENT
BEGIN:VEVENT
UID:https://hbb.rivio.dev/jeugd/2024/wedstrijd/35886
DTSTAMP:20260420T090218Z
SUMMARY:Geldrop 5 - Gemert 5
DESCRIPTION:Baan 5\, Wedstrijdnummer 253\, Afdeling H-klasse 
DTSTART:20250216T093000
DTEND:20250216T111500
LOCATION:City Resort Helmond
ATTACH;FMTTYPE=text/plain:https://hbb.rivio.dev/jeugd/2024/wedstrijd/35886
END:VEVENT
BEGIN:VEVENT
UID:https://hbb.rivio.dev/jeugd/2024/wedstrijd/35918
DTSTAMP:20260420T090218Z
SUMMARY:Gemert 5 - Brabantia 3
DESCRIPTION:Baan 11\, Wedstrijdnummer 285\, Afdeling H-klasse 
DTSTART:20250406T093000
DTEND:20250406T111500
LOCATION:City Resort Helmond
ATTACH;FMTTYPE=text/plain:https://hbb.rivio.dev/jeugd/2024/wedstrijd/35918
END:VEVENT
BEGIN:VTIMEZONE
TZID:Europe/Amsterdam
BEGIN:STANDARD
DTSTART:20240101T000000
TZNAME:CET
TZOFFSETTO:+0100
TZOFFSETFROM:+0100
END:STANDARD
BEGIN:DAYLIGHT
DTSTART:20240331T030000
TZNAME:CEST
TZOFFSETTO:+0200
TZOFFSETFROM:+0100
END:DAYLIGHT
BEGIN:STANDARD
DTSTART:20241027T020000
TZNAME:CET
TZOFFSETTO:+0100
TZOFFSETFROM:+0200
END:STANDARD
BEGIN:DAYLIGHT
DTSTART:20250330T030000
TZNAME:CEST
TZOFFSETTO:+0200
TZOFFSETFROM:+0100
END:DAYLIGHT
BEGIN:STANDARD
DTSTART:20251026T020000
TZNAME:CET
TZOFFSETTO:+0100
TZOFFSETFROM:+0200
END:STANDARD
END:VTIMEZONE
END:VCALENDAR
