BEGIN:VCALENDAR
PRODID:-//eluceo/ical//2.0/EN
VERSION:2.0
CALSCALE:GREGORIAN
BEGIN:VEVENT
UID:https://hbb.rivio.dev/jeugd/2024/wedstrijd/34815
DTSTAMP:20260420T164630Z
SUMMARY:Gemert 2 - Veldhoven 1
DESCRIPTION:Baan 4\, Wedstrijdnummer 5\, Afdeling C-klasse 
DTSTART:20240908T093000
DTEND:20240908T111500
LOCATION:City Resort Helmond
ATTACH;FMTTYPE=text/plain:https://hbb.rivio.dev/jeugd/2024/wedstrijd/34815
END:VEVENT
BEGIN:VEVENT
UID:https://hbb.rivio.dev/jeugd/2024/wedstrijd/34826
DTSTAMP:20260420T164630Z
SUMMARY:RBC 1 - Gemert 2
DESCRIPTION:Baan 4\, Wedstrijdnummer 29\, Afdeling C-klasse 
DTSTART:20240915T093000
DTEND:20240915T111500
LOCATION:City Resort Helmond
ATTACH;FMTTYPE=text/plain:https://hbb.rivio.dev/jeugd/2024/wedstrijd/34826
END:VEVENT
BEGIN:VEVENT
UID:https://hbb.rivio.dev/jeugd/2024/wedstrijd/34864
DTSTAMP:20260420T164630Z
SUMMARY:Gemert 2 - Mierlo 2
DESCRIPTION:Baan 13\, Wedstrijdnummer 53\, Afdeling C-klasse 
DTSTART:20241006T123000
DTEND:20241006T230000
LOCATION:City Resort Helmond
ATTACH;FMTTYPE=text/plain:https://hbb.rivio.dev/jeugd/2024/wedstrijd/34864
END:VEVENT
BEGIN:VEVENT
UID:https://hbb.rivio.dev/jeugd/2024/wedstrijd/34888
DTSTAMP:20260420T164630Z
SUMMARY:Mixed 2 - Gemert 2
DESCRIPTION:Baan 4\, Wedstrijdnummer 77\, Afdeling C-klasse 
DTSTART:20241013T093000
DTEND:20241013T111500
LOCATION:City Resort Helmond
ATTACH;FMTTYPE=text/plain:https://hbb.rivio.dev/jeugd/2024/wedstrijd/34888
END:VEVENT
BEGIN:VEVENT
UID:https://hbb.rivio.dev/jeugd/2024/wedstrijd/34911
DTSTAMP:20260420T164630Z
SUMMARY:Phoenix 1 - Gemert 2
DESCRIPTION:Baan 2\, Wedstrijdnummer 100\, Afdeling C-klasse 
DTSTART:20241117T093000
DTEND:20241117T111500
LOCATION:City Resort Helmond
ATTACH;FMTTYPE=text/plain:https://hbb.rivio.dev/jeugd/2024/wedstrijd/34911
END:VEVENT
BEGIN:VEVENT
UID:https://hbb.rivio.dev/jeugd/2024/wedstrijd/34936
DTSTAMP:20260420T164630Z
SUMMARY:Veldhoven 1 - Gemert 2
DESCRIPTION:Baan 12\, Wedstrijdnummer 125\, Afdeling C-klasse 
DTSTART:20241124T093000
DTEND:20241124T111500
LOCATION:City Resort Helmond
ATTACH;FMTTYPE=text/plain:https://hbb.rivio.dev/jeugd/2024/wedstrijd/34936
END:VEVENT
BEGIN:VEVENT
UID:https://hbb.rivio.dev/jeugd/2024/wedstrijd/34974
DTSTAMP:20260420T164630Z
SUMMARY:Mierlo 2 - Gemert 2
DESCRIPTION:Baan 5\, Wedstrijdnummer 173\, Afdeling C-klasse 
DTSTART:20241208T123000
DTEND:20241208T230000
LOCATION:City Resort Helmond
ATTACH;FMTTYPE=text/plain:https://hbb.rivio.dev/jeugd/2024/wedstrijd/34974
END:VEVENT
BEGIN:VEVENT
UID:https://hbb.rivio.dev/jeugd/2024/wedstrijd/34990
DTSTAMP:20260420T164630Z
SUMMARY:Gemert 2 - RBC 1
DESCRIPTION:Baan 2\, Wedstrijdnummer 149\, Afdeling C-klasse 
DTSTART:20241215T093000
DTEND:20241215T111500
LOCATION:City Resort Helmond
ATTACH;FMTTYPE=text/plain:https://hbb.rivio.dev/jeugd/2024/wedstrijd/34990
END:VEVENT
BEGIN:VEVENT
UID:https://hbb.rivio.dev/jeugd/2024/wedstrijd/35008
DTSTAMP:20260420T164630Z
SUMMARY:Gemert 2 - Mixed 2
DESCRIPTION:Baan 14\, Wedstrijdnummer 197\, Afdeling C-klasse 
DTSTART:20250112T093000
DTEND:20250112T111500
LOCATION:City Resort Helmond
ATTACH;FMTTYPE=text/plain:https://hbb.rivio.dev/jeugd/2024/wedstrijd/35008
END:VEVENT
BEGIN:VEVENT
UID:https://hbb.rivio.dev/jeugd/2024/wedstrijd/35031
DTSTAMP:20260420T164630Z
SUMMARY:Gemert 2 - Phoenix 1
DESCRIPTION:Baan 2\, Wedstrijdnummer 220\, Afdeling C-klasse 
DTSTART:20250202T123000
DTEND:20250202T230000
LOCATION:City Resort Helmond
ATTACH;FMTTYPE=text/plain:https://hbb.rivio.dev/jeugd/2024/wedstrijd/35031
END:VEVENT
BEGIN:VEVENT
UID:https://hbb.rivio.dev/jeugd/2024/wedstrijd/35839
DTSTAMP:20260420T164630Z
SUMMARY:Mierlo 2 - Gemert 2
DESCRIPTION:Baan 5\, Wedstrijdnummer 243\, Afdeling C-klasse 
DTSTART:20250209T123000
DTEND:20250209T230000
LOCATION:City Resort Helmond
ATTACH;FMTTYPE=text/plain:https://hbb.rivio.dev/jeugd/2024/wedstrijd/35839
END:VEVENT
BEGIN:VEVENT
UID:https://hbb.rivio.dev/jeugd/2024/wedstrijd/35908
DTSTAMP:20260420T164630Z
SUMMARY:Gemert 2 - Mixed 2
DESCRIPTION:Baan 11\, Wedstrijdnummer 275\, Afdeling C-klasse 
DTSTART:20250330T093000
DTEND:20250330T111500
LOCATION:City Resort Helmond
ATTACH;FMTTYPE=text/plain:https://hbb.rivio.dev/jeugd/2024/wedstrijd/35908
END:VEVENT
BEGIN:VTIMEZONE
TZID:Europe/Amsterdam
BEGIN:STANDARD
DTSTART:20240101T000000
TZNAME:CET
TZOFFSETTO:+0100
TZOFFSETFROM:+0100
END:STANDARD
BEGIN:DAYLIGHT
DTSTART:20240331T030000
TZNAME:CEST
TZOFFSETTO:+0200
TZOFFSETFROM:+0100
END:DAYLIGHT
BEGIN:STANDARD
DTSTART:20241027T020000
TZNAME:CET
TZOFFSETTO:+0100
TZOFFSETFROM:+0200
END:STANDARD
BEGIN:DAYLIGHT
DTSTART:20250330T030000
TZNAME:CEST
TZOFFSETTO:+0200
TZOFFSETFROM:+0100
END:DAYLIGHT
BEGIN:STANDARD
DTSTART:20251026T020000
TZNAME:CET
TZOFFSETTO:+0100
TZOFFSETFROM:+0200
END:STANDARD
END:VTIMEZONE
END:VCALENDAR
