BEGIN:VCALENDAR
PRODID:-//eluceo/ical//2.0/EN
VERSION:2.0
CALSCALE:GREGORIAN
BEGIN:VEVENT
UID:https://hbb.rivio.dev/jeugd/2024/wedstrijd/34812
DTSTAMP:20260420T153454Z
SUMMARY:Bakel 1 - Mixed 1
DESCRIPTION:Baan 1\, Wedstrijdnummer 1\, Afdeling AB-klasse 
DTSTART:20240908T093000
DTEND:20240908T111500
LOCATION:City Resort Helmond
ATTACH;FMTTYPE=text/plain:https://hbb.rivio.dev/jeugd/2024/wedstrijd/34812
END:VEVENT
BEGIN:VEVENT
UID:https://hbb.rivio.dev/jeugd/2024/wedstrijd/34832
DTSTAMP:20260420T153454Z
SUMMARY:Mierlo 1 - Bakel 1
DESCRIPTION:Baan 14\, Wedstrijdnummer 25\, Afdeling AB-klasse 
DTSTART:20240915T093000
DTEND:20240915T111500
LOCATION:City Resort Helmond
ATTACH;FMTTYPE=text/plain:https://hbb.rivio.dev/jeugd/2024/wedstrijd/34832
END:VEVENT
BEGIN:VEVENT
UID:https://hbb.rivio.dev/jeugd/2024/wedstrijd/34860
DTSTAMP:20260420T153454Z
SUMMARY:Bakel 1 - Gemert 1
DESCRIPTION:Baan 5\, Wedstrijdnummer 49\, Afdeling AB-klasse 
DTSTART:20241006T123000
DTEND:20241006T230000
LOCATION:City Resort Helmond
ATTACH;FMTTYPE=text/plain:https://hbb.rivio.dev/jeugd/2024/wedstrijd/34860
END:VEVENT
BEGIN:VEVENT
UID:https://hbb.rivio.dev/jeugd/2024/wedstrijd/34884
DTSTAMP:20260420T153454Z
SUMMARY:Con Brio 1 - Bakel 1
DESCRIPTION:Baan 11\, Wedstrijdnummer 73\, Afdeling AB-klasse 
DTSTART:20241013T123000
DTEND:20241013T230000
LOCATION:City Resort Helmond
ATTACH;FMTTYPE=text/plain:https://hbb.rivio.dev/jeugd/2024/wedstrijd/34884
END:VEVENT
BEGIN:VEVENT
UID:https://hbb.rivio.dev/jeugd/2024/wedstrijd/34908
DTSTAMP:20260420T153454Z
SUMMARY:Bakel 1 - Brabantia 1
DESCRIPTION:Baan 14\, Wedstrijdnummer 97\, Afdeling AB-klasse 
DTSTART:20241103T123000
DTEND:20241103T230000
LOCATION:City Resort Helmond
ATTACH;FMTTYPE=text/plain:https://hbb.rivio.dev/jeugd/2024/wedstrijd/34908
END:VEVENT
BEGIN:VEVENT
UID:https://hbb.rivio.dev/jeugd/2024/wedstrijd/34950
DTSTAMP:20260420T153454Z
SUMMARY:Mixed 1 - Bakel 1
DESCRIPTION:Baan 1\, Wedstrijdnummer 121\, Afdeling AB-klasse 
DTSTART:20241201T093000
DTEND:20241201T111500
LOCATION:City Resort Helmond
ATTACH;FMTTYPE=text/plain:https://hbb.rivio.dev/jeugd/2024/wedstrijd/34950
END:VEVENT
BEGIN:VEVENT
UID:https://hbb.rivio.dev/jeugd/2024/wedstrijd/34970
DTSTAMP:20260420T153454Z
SUMMARY:Gemert 1 - Bakel 1
DESCRIPTION:Baan 1\, Wedstrijdnummer 169\, Afdeling AB-klasse 
DTSTART:20241208T123000
DTEND:20241208T230000
LOCATION:City Resort Helmond
ATTACH;FMTTYPE=text/plain:https://hbb.rivio.dev/jeugd/2024/wedstrijd/34970
END:VEVENT
BEGIN:VEVENT
UID:https://hbb.rivio.dev/jeugd/2024/wedstrijd/34982
DTSTAMP:20260420T153454Z
SUMMARY:Bakel 1 - Mierlo 1
DESCRIPTION:Baan 3\, Wedstrijdnummer 145\, Afdeling AB-klasse 
DTSTART:20241215T093000
DTEND:20241215T111500
LOCATION:City Resort Helmond
ATTACH;FMTTYPE=text/plain:https://hbb.rivio.dev/jeugd/2024/wedstrijd/34982
END:VEVENT
BEGIN:VEVENT
UID:https://hbb.rivio.dev/jeugd/2024/wedstrijd/35004
DTSTAMP:20260420T153454Z
SUMMARY:Bakel 1 - Con Brio 1
DESCRIPTION:Baan 5\, Wedstrijdnummer 193\, Afdeling AB-klasse 
DTSTART:20250112T093000
DTEND:20250112T111500
LOCATION:City Resort Helmond
ATTACH;FMTTYPE=text/plain:https://hbb.rivio.dev/jeugd/2024/wedstrijd/35004
END:VEVENT
BEGIN:VEVENT
UID:https://hbb.rivio.dev/jeugd/2024/wedstrijd/35028
DTSTAMP:20260420T153454Z
SUMMARY:Brabantia 1 - Bakel 1
DESCRIPTION:Baan 14\, Wedstrijdnummer 217\, Afdeling AB-klasse 
DTSTART:20250202T093000
DTEND:20250202T111500
LOCATION:City Resort Helmond
ATTACH;FMTTYPE=text/plain:https://hbb.rivio.dev/jeugd/2024/wedstrijd/35028
END:VEVENT
BEGIN:VEVENT
UID:https://hbb.rivio.dev/jeugd/2024/wedstrijd/35890
DTSTAMP:20260420T153454Z
SUMMARY:Bakel 1 - Mierlo 1
DESCRIPTION:Baan 14\, Wedstrijdnummer 257\, Afdeling AB-klasse 
DTSTART:20250216T093000
DTEND:20250216T111500
LOCATION:City Resort Helmond
ATTACH;FMTTYPE=text/plain:https://hbb.rivio.dev/jeugd/2024/wedstrijd/35890
END:VEVENT
BEGIN:VEVENT
UID:https://hbb.rivio.dev/jeugd/2024/wedstrijd/35906
DTSTAMP:20260420T153454Z
SUMMARY:Gemert 1 - Bakel 1
DESCRIPTION:Baan 4\, Wedstrijdnummer 273\, Afdeling AB-klasse 
DTSTART:20250330T093000
DTEND:20250330T111500
LOCATION:City Resort Helmond
ATTACH;FMTTYPE=text/plain:https://hbb.rivio.dev/jeugd/2024/wedstrijd/35906
END:VEVENT
BEGIN:VTIMEZONE
TZID:Europe/Amsterdam
BEGIN:STANDARD
DTSTART:20240101T000000
TZNAME:CET
TZOFFSETTO:+0100
TZOFFSETFROM:+0100
END:STANDARD
BEGIN:DAYLIGHT
DTSTART:20240331T030000
TZNAME:CEST
TZOFFSETTO:+0200
TZOFFSETFROM:+0100
END:DAYLIGHT
BEGIN:STANDARD
DTSTART:20241027T020000
TZNAME:CET
TZOFFSETTO:+0100
TZOFFSETFROM:+0200
END:STANDARD
BEGIN:DAYLIGHT
DTSTART:20250330T030000
TZNAME:CEST
TZOFFSETTO:+0200
TZOFFSETFROM:+0100
END:DAYLIGHT
BEGIN:STANDARD
DTSTART:20251026T020000
TZNAME:CET
TZOFFSETTO:+0100
TZOFFSETFROM:+0200
END:STANDARD
END:VTIMEZONE
END:VCALENDAR
