BEGIN:VCALENDAR
PRODID:-//eluceo/ical//2.0/EN
VERSION:2.0
CALSCALE:GREGORIAN
BEGIN:VEVENT
UID:https://hbb.rivio.dev/jeugd/2024/wedstrijd/34831
DTSTAMP:20260420T133424Z
SUMMARY:'t Veertje 1 - Phoenix 2
DESCRIPTION:Baan 13\, Wedstrijdnummer 57\, Afdeling D-klasse 
DTSTART:20240915T093000
DTEND:20240915T111500
LOCATION:City Resort Helmond
ATTACH;FMTTYPE=text/plain:https://hbb.rivio.dev/jeugd/2024/wedstrijd/34831
END:VEVENT
BEGIN:VEVENT
UID:https://hbb.rivio.dev/jeugd/2024/wedstrijd/34840
DTSTAMP:20260420T133424Z
SUMMARY:'t Veertje 1 - Mierlo 3
DESCRIPTION:Baan 11\, Wedstrijdnummer 31\, Afdeling D-klasse 
DTSTART:20240929T093000
DTEND:20240929T111500
LOCATION:City Resort Helmond
ATTACH;FMTTYPE=text/plain:https://hbb.rivio.dev/jeugd/2024/wedstrijd/34840
END:VEVENT
BEGIN:VEVENT
UID:https://hbb.rivio.dev/jeugd/2024/wedstrijd/34866
DTSTAMP:20260420T133424Z
SUMMARY:Mixed 4 - 't Veertje 1
DESCRIPTION:Baan 15\, Wedstrijdnummer 8\, Afdeling D-klasse 
DTSTART:20241006T123000
DTEND:20241006T230000
LOCATION:City Resort Helmond
ATTACH;FMTTYPE=text/plain:https://hbb.rivio.dev/jeugd/2024/wedstrijd/34866
END:VEVENT
BEGIN:VEVENT
UID:https://hbb.rivio.dev/jeugd/2024/wedstrijd/34892
DTSTAMP:20260420T133424Z
SUMMARY:Gemert 3 - 't Veertje 1
DESCRIPTION:Baan 4\, Wedstrijdnummer 81\, Afdeling D-klasse 
DTSTART:20241103T093000
DTEND:20241103T111500
LOCATION:City Resort Helmond
ATTACH;FMTTYPE=text/plain:https://hbb.rivio.dev/jeugd/2024/wedstrijd/34892
END:VEVENT
BEGIN:VEVENT
UID:https://hbb.rivio.dev/jeugd/2024/wedstrijd/34915
DTSTAMP:20260420T133424Z
SUMMARY:'t Veertje 1 - Mixed 3
DESCRIPTION:Baan 11\, Wedstrijdnummer 104\, Afdeling D-klasse 
DTSTART:20241117T093000
DTEND:20241117T111500
LOCATION:City Resort Helmond
ATTACH;FMTTYPE=text/plain:https://hbb.rivio.dev/jeugd/2024/wedstrijd/34915
END:VEVENT
BEGIN:VEVENT
UID:https://hbb.rivio.dev/jeugd/2024/wedstrijd/34939
DTSTAMP:20260420T133424Z
SUMMARY:'t Veertje 1 - Mixed 4
DESCRIPTION:Baan 15\, Wedstrijdnummer 128\, Afdeling D-klasse 
DTSTART:20241124T093000
DTEND:20241124T111500
LOCATION:City Resort Helmond
ATTACH;FMTTYPE=text/plain:https://hbb.rivio.dev/jeugd/2024/wedstrijd/34939
END:VEVENT
BEGIN:VEVENT
UID:https://hbb.rivio.dev/jeugd/2024/wedstrijd/34978
DTSTAMP:20260420T133424Z
SUMMARY:Phoenix 2 - 't Veertje 1
DESCRIPTION:Baan 14\, Wedstrijdnummer 177\, Afdeling D-klasse 
DTSTART:20241208T123000
DTEND:20241208T230000
LOCATION:City Resort Helmond
ATTACH;FMTTYPE=text/plain:https://hbb.rivio.dev/jeugd/2024/wedstrijd/34978
END:VEVENT
BEGIN:VEVENT
UID:https://hbb.rivio.dev/jeugd/2024/wedstrijd/34991
DTSTAMP:20260420T133425Z
SUMMARY:Mierlo 3 - 't Veertje 1
DESCRIPTION:Baan 2\, Wedstrijdnummer 151\, Afdeling D-klasse 
DTSTART:20241215T123000
DTEND:20241215T230000
LOCATION:City Resort Helmond
ATTACH;FMTTYPE=text/plain:https://hbb.rivio.dev/jeugd/2024/wedstrijd/34991
END:VEVENT
BEGIN:VEVENT
UID:https://hbb.rivio.dev/jeugd/2024/wedstrijd/35012
DTSTAMP:20260420T133425Z
SUMMARY:'t Veertje 1 - Gemert 3
DESCRIPTION:Baan 3\, Wedstrijdnummer 201\, Afdeling D-klasse 
DTSTART:20250119T093000
DTEND:20250119T111500
LOCATION:City Resort Helmond
ATTACH;FMTTYPE=text/plain:https://hbb.rivio.dev/jeugd/2024/wedstrijd/35012
END:VEVENT
BEGIN:VEVENT
UID:https://hbb.rivio.dev/jeugd/2024/wedstrijd/35035
DTSTAMP:20260420T133425Z
SUMMARY:Mixed 3 - 't Veertje 1
DESCRIPTION:Baan 11\, Wedstrijdnummer 224\, Afdeling D-klasse 
DTSTART:20250202T123000
DTEND:20250202T230000
LOCATION:City Resort Helmond
ATTACH;FMTTYPE=text/plain:https://hbb.rivio.dev/jeugd/2024/wedstrijd/35035
END:VEVENT
BEGIN:VEVENT
UID:https://hbb.rivio.dev/jeugd/2024/wedstrijd/35894
DTSTAMP:20260420T133425Z
SUMMARY:'t Veertje 1 - Gemert 3
DESCRIPTION:Baan 3\, Wedstrijdnummer 261\, Afdeling D-klasse 
DTSTART:20250316T093000
DTEND:20250316T111500
LOCATION:City Resort Helmond
ATTACH;FMTTYPE=text/plain:https://hbb.rivio.dev/jeugd/2024/wedstrijd/35894
END:VEVENT
BEGIN:VEVENT
UID:https://hbb.rivio.dev/jeugd/2024/wedstrijd/35910
DTSTAMP:20260420T133425Z
SUMMARY:Mixed 3 - 't Veertje 1
DESCRIPTION:Baan 13\, Wedstrijdnummer 277\, Afdeling D-klasse 
DTSTART:20250330T093000
DTEND:20250330T111500
LOCATION:City Resort Helmond
ATTACH;FMTTYPE=text/plain:https://hbb.rivio.dev/jeugd/2024/wedstrijd/35910
END:VEVENT
BEGIN:VTIMEZONE
TZID:Europe/Amsterdam
BEGIN:STANDARD
DTSTART:20240101T000000
TZNAME:CET
TZOFFSETTO:+0100
TZOFFSETFROM:+0100
END:STANDARD
BEGIN:DAYLIGHT
DTSTART:20240331T030000
TZNAME:CEST
TZOFFSETTO:+0200
TZOFFSETFROM:+0100
END:DAYLIGHT
BEGIN:STANDARD
DTSTART:20241027T020000
TZNAME:CET
TZOFFSETTO:+0100
TZOFFSETFROM:+0200
END:STANDARD
BEGIN:DAYLIGHT
DTSTART:20250330T030000
TZNAME:CEST
TZOFFSETTO:+0200
TZOFFSETFROM:+0100
END:DAYLIGHT
BEGIN:STANDARD
DTSTART:20251026T020000
TZNAME:CET
TZOFFSETTO:+0100
TZOFFSETFROM:+0200
END:STANDARD
END:VTIMEZONE
END:VCALENDAR
