BEGIN:VCALENDAR
PRODID:-//eluceo/ical//2.0/EN
VERSION:2.0
CALSCALE:GREGORIAN
BEGIN:VEVENT
UID:https://hbb.rivio.dev/jeugd/2024/wedstrijd/34824
DTSTAMP:20260420T164219Z
SUMMARY:Brabantia 3 - Geldrop 5
DESCRIPTION:Baan 2\, Wedstrijdnummer 19\, Afdeling H-klasse 
DTSTART:20240915T093000
DTEND:20240915T111500
LOCATION:City Resort Helmond
ATTACH;FMTTYPE=text/plain:https://hbb.rivio.dev/jeugd/2024/wedstrijd/34824
END:VEVENT
BEGIN:VEVENT
UID:https://hbb.rivio.dev/jeugd/2024/wedstrijd/34854
DTSTAMP:20260420T164219Z
SUMMARY:Gemert 5 - Brabantia 3
DESCRIPTION:Baan 14\, Wedstrijdnummer 43\, Afdeling H-klasse 
DTSTART:20241006T093000
DTEND:20241006T111500
LOCATION:City Resort Helmond
ATTACH;FMTTYPE=text/plain:https://hbb.rivio.dev/jeugd/2024/wedstrijd/34854
END:VEVENT
BEGIN:VEVENT
UID:https://hbb.rivio.dev/jeugd/2024/wedstrijd/34878
DTSTAMP:20260420T164219Z
SUMMARY:Brabantia 3 - VBSC 2
DESCRIPTION:Baan 1\, Wedstrijdnummer 67\, Afdeling H-klasse 
DTSTART:20241013T123000
DTEND:20241013T230000
LOCATION:City Resort Helmond
ATTACH;FMTTYPE=text/plain:https://hbb.rivio.dev/jeugd/2024/wedstrijd/34878
END:VEVENT
BEGIN:VEVENT
UID:https://hbb.rivio.dev/jeugd/2024/wedstrijd/34902
DTSTAMP:20260420T164219Z
SUMMARY:Mixed 8 - Brabantia 3
DESCRIPTION:Baan 3\, Wedstrijdnummer 91\, Afdeling H-klasse 
DTSTART:20241103T123000
DTEND:20241103T230000
LOCATION:City Resort Helmond
ATTACH;FMTTYPE=text/plain:https://hbb.rivio.dev/jeugd/2024/wedstrijd/34902
END:VEVENT
BEGIN:VEVENT
UID:https://hbb.rivio.dev/jeugd/2024/wedstrijd/34926
DTSTAMP:20260420T164219Z
SUMMARY:Brabantia 3 - Mierlo 6
DESCRIPTION:Baan 12\, Wedstrijdnummer 115\, Afdeling H-klasse 
DTSTART:20241117T123000
DTEND:20241117T230000
LOCATION:City Resort Helmond
ATTACH;FMTTYPE=text/plain:https://hbb.rivio.dev/jeugd/2024/wedstrijd/34926
END:VEVENT
BEGIN:VEVENT
UID:https://hbb.rivio.dev/jeugd/2024/wedstrijd/34932
DTSTAMP:20260420T164219Z
SUMMARY:Geldrop 5 - Brabantia 3
DESCRIPTION:Baan 3\, Wedstrijdnummer 139\, Afdeling H-klasse 
DTSTART:20241124T093000
DTEND:20241124T111500
LOCATION:City Resort Helmond
ATTACH;FMTTYPE=text/plain:https://hbb.rivio.dev/jeugd/2024/wedstrijd/34932
END:VEVENT
BEGIN:VEVENT
UID:https://hbb.rivio.dev/jeugd/2024/wedstrijd/34964
DTSTAMP:20260420T164219Z
SUMMARY:Brabantia 3 - Gemert 5
DESCRIPTION:Baan 5\, Wedstrijdnummer 163\, Afdeling H-klasse 
DTSTART:20241208T093000
DTEND:20241208T111500
LOCATION:City Resort Helmond
ATTACH;FMTTYPE=text/plain:https://hbb.rivio.dev/jeugd/2024/wedstrijd/34964
END:VEVENT
BEGIN:VEVENT
UID:https://hbb.rivio.dev/jeugd/2024/wedstrijd/34988
DTSTAMP:20260420T164219Z
SUMMARY:VBSC 2 - Brabantia 3
DESCRIPTION:Baan 14\, Wedstrijdnummer 187\, Afdeling H-klasse 
DTSTART:20241215T093000
DTEND:20241215T111500
LOCATION:City Resort Helmond
ATTACH;FMTTYPE=text/plain:https://hbb.rivio.dev/jeugd/2024/wedstrijd/34988
END:VEVENT
BEGIN:VEVENT
UID:https://hbb.rivio.dev/jeugd/2024/wedstrijd/35022
DTSTAMP:20260420T164219Z
SUMMARY:Brabantia 3 - Mixed 8
DESCRIPTION:Baan 3\, Wedstrijdnummer 211\, Afdeling H-klasse 
DTSTART:20250207T093000
DTEND:20250207T111500
LOCATION:City Resort Helmond
ATTACH;FMTTYPE=text/plain:https://hbb.rivio.dev/jeugd/2024/wedstrijd/35022
END:VEVENT
BEGIN:VEVENT
UID:https://hbb.rivio.dev/jeugd/2024/wedstrijd/35046
DTSTAMP:20260420T164219Z
SUMMARY:Mierlo 6 - Brabantia 3
DESCRIPTION:Baan 12\, Wedstrijdnummer 235\, Afdeling H-klasse 
DTSTART:20250209T093000
DTEND:20250209T111500
LOCATION:City Resort Helmond
ATTACH;FMTTYPE=text/plain:https://hbb.rivio.dev/jeugd/2024/wedstrijd/35046
END:VEVENT
BEGIN:VEVENT
UID:https://hbb.rivio.dev/jeugd/2024/wedstrijd/35897
DTSTAMP:20260420T164219Z
SUMMARY:Brabantia 3 - Geldrop 5
DESCRIPTION:Baan 10\, Wedstrijdnummer 269\, Afdeling H-klasse 
DTSTART:20250316T093000
DTEND:20250316T111500
LOCATION:City Resort Helmond
ATTACH;FMTTYPE=text/plain:https://hbb.rivio.dev/jeugd/2024/wedstrijd/35897
END:VEVENT
BEGIN:VEVENT
UID:https://hbb.rivio.dev/jeugd/2024/wedstrijd/35918
DTSTAMP:20260420T164219Z
SUMMARY:Gemert 5 - Brabantia 3
DESCRIPTION:Baan 11\, Wedstrijdnummer 285\, Afdeling H-klasse 
DTSTART:20250406T093000
DTEND:20250406T111500
LOCATION:City Resort Helmond
ATTACH;FMTTYPE=text/plain:https://hbb.rivio.dev/jeugd/2024/wedstrijd/35918
END:VEVENT
BEGIN:VTIMEZONE
TZID:Europe/Amsterdam
BEGIN:STANDARD
DTSTART:20240101T000000
TZNAME:CET
TZOFFSETTO:+0100
TZOFFSETFROM:+0100
END:STANDARD
BEGIN:DAYLIGHT
DTSTART:20240331T030000
TZNAME:CEST
TZOFFSETTO:+0200
TZOFFSETFROM:+0100
END:DAYLIGHT
BEGIN:STANDARD
DTSTART:20241027T020000
TZNAME:CET
TZOFFSETTO:+0100
TZOFFSETFROM:+0200
END:STANDARD
BEGIN:DAYLIGHT
DTSTART:20250330T030000
TZNAME:CEST
TZOFFSETTO:+0200
TZOFFSETFROM:+0100
END:DAYLIGHT
BEGIN:STANDARD
DTSTART:20251026T020000
TZNAME:CET
TZOFFSETTO:+0100
TZOFFSETFROM:+0200
END:STANDARD
END:VTIMEZONE
END:VCALENDAR
