BEGIN:VCALENDAR
PRODID:-//eluceo/ical//2.0/EN
VERSION:2.0
CALSCALE:GREGORIAN
BEGIN:VEVENT
UID:https://hbb.rivio.dev/jeugd/2024/wedstrijd/34833
DTSTAMP:20260420T165553Z
SUMMARY:Gemert 1 - Brabantia 1
DESCRIPTION:Baan 15\, Wedstrijdnummer 26\, Afdeling AB-klasse 
DTSTART:20240915T093000
DTEND:20240915T111500
LOCATION:City Resort Helmond
ATTACH;FMTTYPE=text/plain:https://hbb.rivio.dev/jeugd/2024/wedstrijd/34833
END:VEVENT
BEGIN:VEVENT
UID:https://hbb.rivio.dev/jeugd/2024/wedstrijd/34836
DTSTAMP:20260420T165553Z
SUMMARY:Brabantia 1 - Mierlo 1
DESCRIPTION:Baan 3\, Wedstrijdnummer 2\, Afdeling AB-klasse 
DTSTART:20240929T093000
DTEND:20240929T111500
LOCATION:City Resort Helmond
ATTACH;FMTTYPE=text/plain:https://hbb.rivio.dev/jeugd/2024/wedstrijd/34836
END:VEVENT
BEGIN:VEVENT
UID:https://hbb.rivio.dev/jeugd/2024/wedstrijd/34861
DTSTAMP:20260420T165553Z
SUMMARY:Brabantia 1 - Con Brio 1
DESCRIPTION:Baan 10\, Wedstrijdnummer 50\, Afdeling AB-klasse 
DTSTART:20241006T123000
DTEND:20241006T230000
LOCATION:City Resort Helmond
ATTACH;FMTTYPE=text/plain:https://hbb.rivio.dev/jeugd/2024/wedstrijd/34861
END:VEVENT
BEGIN:VEVENT
UID:https://hbb.rivio.dev/jeugd/2024/wedstrijd/34908
DTSTAMP:20260420T165553Z
SUMMARY:Bakel 1 - Brabantia 1
DESCRIPTION:Baan 14\, Wedstrijdnummer 97\, Afdeling AB-klasse 
DTSTART:20241103T123000
DTEND:20241103T230000
LOCATION:City Resort Helmond
ATTACH;FMTTYPE=text/plain:https://hbb.rivio.dev/jeugd/2024/wedstrijd/34908
END:VEVENT
BEGIN:VEVENT
UID:https://hbb.rivio.dev/jeugd/2024/wedstrijd/34951
DTSTAMP:20260420T165553Z
SUMMARY:Mierlo 1 - Brabantia 1
DESCRIPTION:Baan 2\, Wedstrijdnummer 122\, Afdeling AB-klasse 
DTSTART:20241201T093000
DTEND:20241201T111500
LOCATION:City Resort Helmond
ATTACH;FMTTYPE=text/plain:https://hbb.rivio.dev/jeugd/2024/wedstrijd/34951
END:VEVENT
BEGIN:VEVENT
UID:https://hbb.rivio.dev/jeugd/2024/wedstrijd/34971
DTSTAMP:20260420T165553Z
SUMMARY:Con Brio 1 - Brabantia 1
DESCRIPTION:Baan 2\, Wedstrijdnummer 170\, Afdeling AB-klasse 
DTSTART:20241208T123000
DTEND:20241208T230000
LOCATION:City Resort Helmond
ATTACH;FMTTYPE=text/plain:https://hbb.rivio.dev/jeugd/2024/wedstrijd/34971
END:VEVENT
BEGIN:VEVENT
UID:https://hbb.rivio.dev/jeugd/2024/wedstrijd/34983
DTSTAMP:20260420T165553Z
SUMMARY:Brabantia 1 - Gemert 1
DESCRIPTION:Baan 4\, Wedstrijdnummer 146\, Afdeling AB-klasse 
DTSTART:20241215T093000
DTEND:20241215T111500
LOCATION:City Resort Helmond
ATTACH;FMTTYPE=text/plain:https://hbb.rivio.dev/jeugd/2024/wedstrijd/34983
END:VEVENT
BEGIN:VEVENT
UID:https://hbb.rivio.dev/jeugd/2024/wedstrijd/35005
DTSTAMP:20260420T165553Z
SUMMARY:Brabantia 1 - Mixed 1
DESCRIPTION:Baan 11\, Wedstrijdnummer 194\, Afdeling AB-klasse 
DTSTART:20250117T093000
DTEND:20250117T111500
LOCATION:City Resort Helmond
ATTACH;FMTTYPE=text/plain:https://hbb.rivio.dev/jeugd/2024/wedstrijd/35005
END:VEVENT
BEGIN:VEVENT
UID:https://hbb.rivio.dev/jeugd/2024/wedstrijd/34885
DTSTAMP:20260420T165553Z
SUMMARY:Mixed 1 - Brabantia 1
DESCRIPTION:Baan 11\, Wedstrijdnummer 74\, Afdeling AB-klasse 
DTSTART:20250119T093000
DTEND:20250119T111500
LOCATION:City Resort Helmond
ATTACH;FMTTYPE=text/plain:https://hbb.rivio.dev/jeugd/2024/wedstrijd/34885
END:VEVENT
BEGIN:VEVENT
UID:https://hbb.rivio.dev/jeugd/2024/wedstrijd/35028
DTSTAMP:20260420T165553Z
SUMMARY:Brabantia 1 - Bakel 1
DESCRIPTION:Baan 14\, Wedstrijdnummer 217\, Afdeling AB-klasse 
DTSTART:20250202T093000
DTEND:20250202T111500
LOCATION:City Resort Helmond
ATTACH;FMTTYPE=text/plain:https://hbb.rivio.dev/jeugd/2024/wedstrijd/35028
END:VEVENT
BEGIN:VEVENT
UID:https://hbb.rivio.dev/jeugd/2024/wedstrijd/35838
DTSTAMP:20260420T165553Z
SUMMARY:Con Brio 1 - Brabantia 1
DESCRIPTION:Baan 4\, Wedstrijdnummer 242\, Afdeling AB-klasse 
DTSTART:20250209T123000
DTEND:20250209T230000
LOCATION:City Resort Helmond
ATTACH;FMTTYPE=text/plain:https://hbb.rivio.dev/jeugd/2024/wedstrijd/35838
END:VEVENT
BEGIN:VEVENT
UID:https://hbb.rivio.dev/jeugd/2024/wedstrijd/35907
DTSTAMP:20260420T165553Z
SUMMARY:Brabantia 1 - Mixed 1
DESCRIPTION:Baan 5\, Wedstrijdnummer 274\, Afdeling AB-klasse 
DTSTART:20250330T093000
DTEND:20250330T111500
LOCATION:City Resort Helmond
ATTACH;FMTTYPE=text/plain:https://hbb.rivio.dev/jeugd/2024/wedstrijd/35907
END:VEVENT
BEGIN:VTIMEZONE
TZID:Europe/Amsterdam
BEGIN:STANDARD
DTSTART:20240101T000000
TZNAME:CET
TZOFFSETTO:+0100
TZOFFSETFROM:+0100
END:STANDARD
BEGIN:DAYLIGHT
DTSTART:20240331T030000
TZNAME:CEST
TZOFFSETTO:+0200
TZOFFSETFROM:+0100
END:DAYLIGHT
BEGIN:STANDARD
DTSTART:20241027T020000
TZNAME:CET
TZOFFSETTO:+0100
TZOFFSETFROM:+0200
END:STANDARD
BEGIN:DAYLIGHT
DTSTART:20250330T030000
TZNAME:CEST
TZOFFSETTO:+0200
TZOFFSETFROM:+0100
END:DAYLIGHT
BEGIN:STANDARD
DTSTART:20251026T020000
TZNAME:CET
TZOFFSETTO:+0100
TZOFFSETFROM:+0200
END:STANDARD
END:VTIMEZONE
END:VCALENDAR
