BEGIN:VCALENDAR
PRODID:-//eluceo/ical//2.0/EN
VERSION:2.0
CALSCALE:GREGORIAN
BEGIN:VEVENT
UID:https://hbb.rivio.dev/jeugd/2024/wedstrijd/34813
DTSTAMP:20260420T133610Z
SUMMARY:Con Brio 1 - Gemert 1
DESCRIPTION:Baan 2\, Wedstrijdnummer 3\, Afdeling AB-klasse 
DTSTART:20240908T093000
DTEND:20240908T111500
LOCATION:City Resort Helmond
ATTACH;FMTTYPE=text/plain:https://hbb.rivio.dev/jeugd/2024/wedstrijd/34813
END:VEVENT
BEGIN:VEVENT
UID:https://hbb.rivio.dev/jeugd/2024/wedstrijd/34861
DTSTAMP:20260420T133610Z
SUMMARY:Brabantia 1 - Con Brio 1
DESCRIPTION:Baan 10\, Wedstrijdnummer 50\, Afdeling AB-klasse 
DTSTART:20241006T123000
DTEND:20241006T230000
LOCATION:City Resort Helmond
ATTACH;FMTTYPE=text/plain:https://hbb.rivio.dev/jeugd/2024/wedstrijd/34861
END:VEVENT
BEGIN:VEVENT
UID:https://hbb.rivio.dev/jeugd/2024/wedstrijd/34884
DTSTAMP:20260420T133610Z
SUMMARY:Con Brio 1 - Bakel 1
DESCRIPTION:Baan 11\, Wedstrijdnummer 73\, Afdeling AB-klasse 
DTSTART:20241013T123000
DTEND:20241013T230000
LOCATION:City Resort Helmond
ATTACH;FMTTYPE=text/plain:https://hbb.rivio.dev/jeugd/2024/wedstrijd/34884
END:VEVENT
BEGIN:VEVENT
UID:https://hbb.rivio.dev/jeugd/2024/wedstrijd/34893
DTSTAMP:20260420T133610Z
SUMMARY:Mierlo 1 - Con Brio 1
DESCRIPTION:Baan 5\, Wedstrijdnummer 98\, Afdeling AB-klasse 
DTSTART:20241103T093000
DTEND:20241103T111500
LOCATION:City Resort Helmond
ATTACH;FMTTYPE=text/plain:https://hbb.rivio.dev/jeugd/2024/wedstrijd/34893
END:VEVENT
BEGIN:VEVENT
UID:https://hbb.rivio.dev/jeugd/2024/wedstrijd/34844
DTSTAMP:20260420T133610Z
SUMMARY:Mixed 1 - Con Brio 1
DESCRIPTION:Baan 10\, Wedstrijdnummer 27\, Afdeling AB-klasse 
DTSTART:20241124T093000
DTEND:20241124T111500
LOCATION:City Resort Helmond
ATTACH;FMTTYPE=text/plain:https://hbb.rivio.dev/jeugd/2024/wedstrijd/34844
END:VEVENT
BEGIN:VEVENT
UID:https://hbb.rivio.dev/jeugd/2024/wedstrijd/34952
DTSTAMP:20260420T133610Z
SUMMARY:Gemert 1 - Con Brio 1
DESCRIPTION:Baan 3\, Wedstrijdnummer 123\, Afdeling AB-klasse 
DTSTART:20241201T093000
DTEND:20241201T111500
LOCATION:City Resort Helmond
ATTACH;FMTTYPE=text/plain:https://hbb.rivio.dev/jeugd/2024/wedstrijd/34952
END:VEVENT
BEGIN:VEVENT
UID:https://hbb.rivio.dev/jeugd/2024/wedstrijd/34971
DTSTAMP:20260420T133610Z
SUMMARY:Con Brio 1 - Brabantia 1
DESCRIPTION:Baan 2\, Wedstrijdnummer 170\, Afdeling AB-klasse 
DTSTART:20241208T123000
DTEND:20241208T230000
LOCATION:City Resort Helmond
ATTACH;FMTTYPE=text/plain:https://hbb.rivio.dev/jeugd/2024/wedstrijd/34971
END:VEVENT
BEGIN:VEVENT
UID:https://hbb.rivio.dev/jeugd/2024/wedstrijd/34984
DTSTAMP:20260420T133610Z
SUMMARY:Con Brio 1 - Mixed 1
DESCRIPTION:Baan 5\, Wedstrijdnummer 147\, Afdeling AB-klasse 
DTSTART:20241215T093000
DTEND:20241215T111500
LOCATION:City Resort Helmond
ATTACH;FMTTYPE=text/plain:https://hbb.rivio.dev/jeugd/2024/wedstrijd/34984
END:VEVENT
BEGIN:VEVENT
UID:https://hbb.rivio.dev/jeugd/2024/wedstrijd/35004
DTSTAMP:20260420T133610Z
SUMMARY:Bakel 1 - Con Brio 1
DESCRIPTION:Baan 5\, Wedstrijdnummer 193\, Afdeling AB-klasse 
DTSTART:20250112T093000
DTEND:20250112T111500
LOCATION:City Resort Helmond
ATTACH;FMTTYPE=text/plain:https://hbb.rivio.dev/jeugd/2024/wedstrijd/35004
END:VEVENT
BEGIN:VEVENT
UID:https://hbb.rivio.dev/jeugd/2024/wedstrijd/35029
DTSTAMP:20260420T133610Z
SUMMARY:Con Brio 1 - Mierlo 1
DESCRIPTION:Baan 15\, Wedstrijdnummer 218\, Afdeling AB-klasse 
DTSTART:20250202T093000
DTEND:20250202T111500
LOCATION:City Resort Helmond
ATTACH;FMTTYPE=text/plain:https://hbb.rivio.dev/jeugd/2024/wedstrijd/35029
END:VEVENT
BEGIN:VEVENT
UID:https://hbb.rivio.dev/jeugd/2024/wedstrijd/35838
DTSTAMP:20260420T133610Z
SUMMARY:Con Brio 1 - Brabantia 1
DESCRIPTION:Baan 4\, Wedstrijdnummer 242\, Afdeling AB-klasse 
DTSTART:20250209T123000
DTEND:20250209T230000
LOCATION:City Resort Helmond
ATTACH;FMTTYPE=text/plain:https://hbb.rivio.dev/jeugd/2024/wedstrijd/35838
END:VEVENT
BEGIN:VEVENT
UID:https://hbb.rivio.dev/jeugd/2024/wedstrijd/35891
DTSTAMP:20260420T133610Z
SUMMARY:Mixed 1 - Con Brio 1
DESCRIPTION:Baan 15\, Wedstrijdnummer 258\, Afdeling AB-klasse 
DTSTART:20250216T093000
DTEND:20250216T111500
LOCATION:City Resort Helmond
ATTACH;FMTTYPE=text/plain:https://hbb.rivio.dev/jeugd/2024/wedstrijd/35891
END:VEVENT
BEGIN:VTIMEZONE
TZID:Europe/Amsterdam
BEGIN:STANDARD
DTSTART:20240101T000000
TZNAME:CET
TZOFFSETTO:+0100
TZOFFSETFROM:+0100
END:STANDARD
BEGIN:DAYLIGHT
DTSTART:20240331T030000
TZNAME:CEST
TZOFFSETTO:+0200
TZOFFSETFROM:+0100
END:DAYLIGHT
BEGIN:STANDARD
DTSTART:20241027T020000
TZNAME:CET
TZOFFSETTO:+0100
TZOFFSETFROM:+0200
END:STANDARD
BEGIN:DAYLIGHT
DTSTART:20250330T030000
TZNAME:CEST
TZOFFSETTO:+0200
TZOFFSETFROM:+0100
END:DAYLIGHT
BEGIN:STANDARD
DTSTART:20251026T020000
TZNAME:CET
TZOFFSETTO:+0100
TZOFFSETFROM:+0200
END:STANDARD
END:VTIMEZONE
END:VCALENDAR
