BEGIN:VCALENDAR
PRODID:-//eluceo/ical//2.0/EN
VERSION:2.0
CALSCALE:GREGORIAN
BEGIN:VEVENT
UID:https://hbb.rivio.dev/jeugd/2023/wedstrijd/30955
DTSTAMP:20260420T165413Z
SUMMARY:Bakel 2 - Veldhoven 3
DESCRIPTION:Baan 15\, Wedstrijdnummer 17\, Afdeling I-klasse 
DTSTART:20230924T093000
DTEND:20230924T111500
LOCATION:City Resort Helmond
ATTACH;FMTTYPE=text/plain:https://hbb.rivio.dev/jeugd/2023/wedstrijd/30955
END:VEVENT
BEGIN:VEVENT
UID:https://hbb.rivio.dev/jeugd/2023/wedstrijd/30979
DTSTAMP:20260420T165413Z
SUMMARY:Veldhoven 3 - Phoenix 4
DESCRIPTION:Baan 12\, Wedstrijdnummer 41\, Afdeling I-klasse 
DTSTART:20231001T093000
DTEND:20231001T111500
LOCATION:City Resort Helmond
ATTACH;FMTTYPE=text/plain:https://hbb.rivio.dev/jeugd/2023/wedstrijd/30979
END:VEVENT
BEGIN:VEVENT
UID:https://hbb.rivio.dev/jeugd/2023/wedstrijd/30998
DTSTAMP:20260420T165413Z
SUMMARY:Veldhoven 3 - Gemert 4
DESCRIPTION:Baan 5\, Wedstrijdnummer 60\, Afdeling I-klasse 
DTSTART:20231029T093000
DTEND:20231029T111500
LOCATION:City Resort Helmond
ATTACH;FMTTYPE=text/plain:https://hbb.rivio.dev/jeugd/2023/wedstrijd/30998
END:VEVENT
BEGIN:VEVENT
UID:https://hbb.rivio.dev/jeugd/2023/wedstrijd/31008
DTSTAMP:20260420T165413Z
SUMMARY:Veldhoven 3 - Geldrop 3
DESCRIPTION:Baan 4\, Wedstrijdnummer 70\, Afdeling I-klasse 
DTSTART:20231105T093000
DTEND:20231105T111500
LOCATION:City Resort Helmond
ATTACH;FMTTYPE=text/plain:https://hbb.rivio.dev/jeugd/2023/wedstrijd/31008
END:VEVENT
BEGIN:VEVENT
UID:https://hbb.rivio.dev/jeugd/2023/wedstrijd/31057
DTSTAMP:20260420T165413Z
SUMMARY:VBSC 1 - Veldhoven 3
DESCRIPTION:Baan 15\, Wedstrijdnummer 119\, Afdeling I-klasse 
DTSTART:20231203T093000
DTEND:20231203T111500
LOCATION:City Resort Helmond
ATTACH;FMTTYPE=text/plain:https://hbb.rivio.dev/jeugd/2023/wedstrijd/31057
END:VEVENT
BEGIN:VEVENT
UID:https://hbb.rivio.dev/jeugd/2023/wedstrijd/31065
DTSTAMP:20260420T165413Z
SUMMARY:Mixed 6 - Veldhoven 3
DESCRIPTION:Baan 13\, Wedstrijdnummer 127\, Afdeling I-klasse 
DTSTART:20231210T093000
DTEND:20231210T111500
LOCATION:City Resort Helmond
ATTACH;FMTTYPE=text/plain:https://hbb.rivio.dev/jeugd/2023/wedstrijd/31065
END:VEVENT
BEGIN:VEVENT
UID:https://hbb.rivio.dev/jeugd/2023/wedstrijd/31081
DTSTAMP:20260420T165413Z
SUMMARY:Geldrop 4 - Veldhoven 3
DESCRIPTION:Baan 4\, Wedstrijdnummer 143\, Afdeling I-klasse 
DTSTART:20240114T093000
DTEND:20240114T111500
LOCATION:City Resort Helmond
ATTACH;FMTTYPE=text/plain:https://hbb.rivio.dev/jeugd/2023/wedstrijd/31081
END:VEVENT
BEGIN:VEVENT
UID:https://hbb.rivio.dev/jeugd/2023/wedstrijd/31091
DTSTAMP:20260420T165413Z
SUMMARY:Veldhoven 3 - Bakel 2
DESCRIPTION:Baan 4\, Wedstrijdnummer 153\, Afdeling I-klasse 
DTSTART:20240121T093000
DTEND:20240121T111500
LOCATION:City Resort Helmond
ATTACH;FMTTYPE=text/plain:https://hbb.rivio.dev/jeugd/2023/wedstrijd/31091
END:VEVENT
BEGIN:VEVENT
UID:https://hbb.rivio.dev/jeugd/2023/wedstrijd/31141
DTSTAMP:20260420T165413Z
SUMMARY:Geldrop 3 - Veldhoven 3
DESCRIPTION:Baan 15\, Wedstrijdnummer 218\, Afdeling I-klasse 
DTSTART:20240204T093000
DTEND:20240204T111500
LOCATION:City Resort Helmond
ATTACH;FMTTYPE=text/plain:https://hbb.rivio.dev/jeugd/2023/wedstrijd/31141
END:VEVENT
BEGIN:VEVENT
UID:https://hbb.rivio.dev/jeugd/2023/wedstrijd/31105
DTSTAMP:20260420T165413Z
SUMMARY:Phoenix 4 - Veldhoven 3
DESCRIPTION:Baan 3\, Wedstrijdnummer 172\, Afdeling I-klasse 
DTSTART:20240225T093000
DTEND:20240225T111500
LOCATION:City Resort Helmond
ATTACH;FMTTYPE=text/plain:https://hbb.rivio.dev/jeugd/2023/wedstrijd/31105
END:VEVENT
BEGIN:VEVENT
UID:https://hbb.rivio.dev/jeugd/2023/wedstrijd/31122
DTSTAMP:20260420T165413Z
SUMMARY:Gemert 4 - Veldhoven 3
DESCRIPTION:Baan 3\, Wedstrijdnummer 194\, Afdeling I-klasse 
DTSTART:20240310T093000
DTEND:20240310T111500
LOCATION:City Resort Helmond
ATTACH;FMTTYPE=text/plain:https://hbb.rivio.dev/jeugd/2023/wedstrijd/31122
END:VEVENT
BEGIN:VEVENT
UID:https://hbb.rivio.dev/jeugd/2023/wedstrijd/31155
DTSTAMP:20260420T165413Z
SUMMARY:Veldhoven 3 - VBSC 1
DESCRIPTION:Baan 12\, Wedstrijdnummer 232\, Afdeling I-klasse 
DTSTART:20240407T093000
DTEND:20240407T111500
LOCATION:City Resort Helmond
ATTACH;FMTTYPE=text/plain:https://hbb.rivio.dev/jeugd/2023/wedstrijd/31155
END:VEVENT
BEGIN:VEVENT
UID:https://hbb.rivio.dev/jeugd/2023/wedstrijd/31165
DTSTAMP:20260420T165413Z
SUMMARY:Veldhoven 3 - Mixed 6
DESCRIPTION:Baan 14\, Wedstrijdnummer 245\, Afdeling I-klasse 
DTSTART:20240414T093000
DTEND:20240414T111500
LOCATION:City Resort Helmond
ATTACH;FMTTYPE=text/plain:https://hbb.rivio.dev/jeugd/2023/wedstrijd/31165
END:VEVENT
BEGIN:VEVENT
UID:https://hbb.rivio.dev/jeugd/2023/wedstrijd/31173
DTSTAMP:20260420T165413Z
SUMMARY:Veldhoven 3 - Geldrop 4
DESCRIPTION:Baan 15\, Wedstrijdnummer 255\, Afdeling I-klasse 
DTSTART:20240602T093000
DTEND:20240602T111500
LOCATION:City Resort Helmond
ATTACH;FMTTYPE=text/plain:https://hbb.rivio.dev/jeugd/2023/wedstrijd/31173
END:VEVENT
BEGIN:VTIMEZONE
TZID:Europe/Amsterdam
BEGIN:STANDARD
DTSTART:20230101T000000
TZNAME:CET
TZOFFSETTO:+0100
TZOFFSETFROM:+0100
END:STANDARD
BEGIN:DAYLIGHT
DTSTART:20230326T030000
TZNAME:CEST
TZOFFSETTO:+0200
TZOFFSETFROM:+0100
END:DAYLIGHT
BEGIN:STANDARD
DTSTART:20231029T020000
TZNAME:CET
TZOFFSETTO:+0100
TZOFFSETFROM:+0200
END:STANDARD
BEGIN:DAYLIGHT
DTSTART:20240331T030000
TZNAME:CEST
TZOFFSETTO:+0200
TZOFFSETFROM:+0100
END:DAYLIGHT
BEGIN:STANDARD
DTSTART:20241027T020000
TZNAME:CET
TZOFFSETTO:+0100
TZOFFSETFROM:+0200
END:STANDARD
END:VTIMEZONE
END:VCALENDAR
