BEGIN:VCALENDAR
PRODID:-//eluceo/ical//2.0/EN
VERSION:2.0
CALSCALE:GREGORIAN
BEGIN:VEVENT
UID:https://hbb.rivio.dev/jeugd/2023/wedstrijd/30940
DTSTAMP:20260420T181946Z
SUMMARY:'t Veertje 1 - Mixed 5
DESCRIPTION:Baan 2\, Wedstrijdnummer 2\, Afdeling G-klasse 
DTSTART:20230910T093000
DTEND:20230910T111500
LOCATION:City Resort Helmond
ATTACH;FMTTYPE=text/plain:https://hbb.rivio.dev/jeugd/2023/wedstrijd/30940
END:VEVENT
BEGIN:VEVENT
UID:https://hbb.rivio.dev/jeugd/2023/wedstrijd/30951
DTSTAMP:20260420T181946Z
SUMMARY:'t Veertje 1 - Phoenix 1
DESCRIPTION:Baan 2\, Wedstrijdnummer 13\, Afdeling G-klasse 
DTSTART:20230917T093000
DTEND:20230917T111500
LOCATION:City Resort Helmond
ATTACH;FMTTYPE=text/plain:https://hbb.rivio.dev/jeugd/2023/wedstrijd/30951
END:VEVENT
BEGIN:VEVENT
UID:https://hbb.rivio.dev/jeugd/2023/wedstrijd/30972
DTSTAMP:20260420T181946Z
SUMMARY:Gemert 3 - 't Veertje 1
DESCRIPTION:Baan 1\, Wedstrijdnummer 34\, Afdeling F-klasse 
DTSTART:20230924T093000
DTEND:20230924T111500
LOCATION:City Resort Helmond
ATTACH;FMTTYPE=text/plain:https://hbb.rivio.dev/jeugd/2023/wedstrijd/30972
END:VEVENT
BEGIN:VEVENT
UID:https://hbb.rivio.dev/jeugd/2023/wedstrijd/30961
DTSTAMP:20260420T181946Z
SUMMARY:'t Veertje 1 - Veldhoven 1
DESCRIPTION:Baan 1\, Wedstrijdnummer 23\, Afdeling G-klasse 
DTSTART:20231001T093000
DTEND:20231001T111500
LOCATION:City Resort Helmond
ATTACH;FMTTYPE=text/plain:https://hbb.rivio.dev/jeugd/2023/wedstrijd/30961
END:VEVENT
BEGIN:VEVENT
UID:https://hbb.rivio.dev/jeugd/2023/wedstrijd/30990
DTSTAMP:20260420T181946Z
SUMMARY:'t Veertje 1 - Phoenix 2
DESCRIPTION:Baan 12\, Wedstrijdnummer 52\, Afdeling G-klasse 
DTSTART:20231008T093000
DTEND:20231008T111500
LOCATION:City Resort Helmond
ATTACH;FMTTYPE=text/plain:https://hbb.rivio.dev/jeugd/2023/wedstrijd/30990
END:VEVENT
BEGIN:VEVENT
UID:https://hbb.rivio.dev/jeugd/2023/wedstrijd/31001
DTSTAMP:20260420T181946Z
SUMMARY:Mixed 4 - 't Veertje 1
DESCRIPTION:Baan 12\, Wedstrijdnummer 63\, Afdeling G-klasse 
DTSTART:20231029T093000
DTEND:20231029T111500
LOCATION:City Resort Helmond
ATTACH;FMTTYPE=text/plain:https://hbb.rivio.dev/jeugd/2023/wedstrijd/31001
END:VEVENT
BEGIN:VEVENT
UID:https://hbb.rivio.dev/jeugd/2023/wedstrijd/31011
DTSTAMP:20260420T181946Z
SUMMARY:Geldrop 1 - 't Veertje 1
DESCRIPTION:Baan 11\, Wedstrijdnummer 73\, Afdeling F-klasse 
DTSTART:20231105T093000
DTEND:20231105T111500
LOCATION:City Resort Helmond
ATTACH;FMTTYPE=text/plain:https://hbb.rivio.dev/jeugd/2023/wedstrijd/31011
END:VEVENT
BEGIN:VEVENT
UID:https://hbb.rivio.dev/jeugd/2023/wedstrijd/31026
DTSTAMP:20260420T181946Z
SUMMARY:'t Veertje 1 - RBC 1
DESCRIPTION:Baan 15\, Wedstrijdnummer 88\, Afdeling G-klasse 
DTSTART:20231112T093000
DTEND:20231112T111500
LOCATION:City Resort Helmond
ATTACH;FMTTYPE=text/plain:https://hbb.rivio.dev/jeugd/2023/wedstrijd/31026
END:VEVENT
BEGIN:VEVENT
UID:https://hbb.rivio.dev/jeugd/2023/wedstrijd/31040
DTSTAMP:20260420T181946Z
SUMMARY:Mixed 3 - 't Veertje 1
DESCRIPTION:Baan 3\, Wedstrijdnummer 102\, Afdeling F-klasse 
DTSTART:20231126T093000
DTEND:20231126T111500
LOCATION:City Resort Helmond
ATTACH;FMTTYPE=text/plain:https://hbb.rivio.dev/jeugd/2023/wedstrijd/31040
END:VEVENT
BEGIN:VEVENT
UID:https://hbb.rivio.dev/jeugd/2023/wedstrijd/31072
DTSTAMP:20260420T181946Z
SUMMARY:Mierlo 4 - 't Veertje 1
DESCRIPTION:Baan 5\, Wedstrijdnummer 134\, Afdeling G-klasse 
DTSTART:20231217T093000
DTEND:20231217T111500
LOCATION:City Resort Helmond
ATTACH;FMTTYPE=text/plain:https://hbb.rivio.dev/jeugd/2023/wedstrijd/31072
END:VEVENT
BEGIN:VEVENT
UID:https://hbb.rivio.dev/jeugd/2023/wedstrijd/32597
DTSTAMP:20260420T181946Z
SUMMARY:'t Veertje 1 - Mierlo 4
DESCRIPTION:Baan 5\, Wedstrijdnummer 260\, Afdeling G-klasse 
DTSTART:20240225T093000
DTEND:20240225T111500
LOCATION:City Resort Helmond
ATTACH;FMTTYPE=text/plain:https://hbb.rivio.dev/jeugd/2023/wedstrijd/32597
END:VEVENT
BEGIN:VEVENT
UID:https://hbb.rivio.dev/jeugd/2023/wedstrijd/32592
DTSTAMP:20260420T181946Z
SUMMARY:'t Veertje 1 - Mixed 5
DESCRIPTION:Baan 13\, Wedstrijdnummer 233\, Afdeling G-klasse 
DTSTART:20240407T093000
DTEND:20240407T111500
LOCATION:City Resort Helmond
ATTACH;FMTTYPE=text/plain:https://hbb.rivio.dev/jeugd/2023/wedstrijd/32592
END:VEVENT
BEGIN:VEVENT
UID:https://hbb.rivio.dev/jeugd/2023/wedstrijd/32595
DTSTAMP:20260420T181946Z
SUMMARY:Phoenix 2 - 't Veertje 1
DESCRIPTION:Baan 11\, Wedstrijdnummer 247\, Afdeling G-klasse 
DTSTART:20240414T093000
DTEND:20240414T111500
LOCATION:City Resort Helmond
ATTACH;FMTTYPE=text/plain:https://hbb.rivio.dev/jeugd/2023/wedstrijd/32595
END:VEVENT
BEGIN:VEVENT
UID:https://hbb.rivio.dev/jeugd/2023/wedstrijd/32580
DTSTAMP:20260420T181946Z
SUMMARY:Mixed 4 - 't Veertje 1
DESCRIPTION:Baan 3\, Wedstrijdnummer 174\, Afdeling G-klasse 
DTSTART:20240526T093000
DTEND:20240526T111500
LOCATION:City Resort Helmond
ATTACH;FMTTYPE=text/plain:https://hbb.rivio.dev/jeugd/2023/wedstrijd/32580
END:VEVENT
BEGIN:VTIMEZONE
TZID:Europe/Amsterdam
BEGIN:STANDARD
DTSTART:20230101T000000
TZNAME:CET
TZOFFSETTO:+0100
TZOFFSETFROM:+0100
END:STANDARD
BEGIN:DAYLIGHT
DTSTART:20230326T030000
TZNAME:CEST
TZOFFSETTO:+0200
TZOFFSETFROM:+0100
END:DAYLIGHT
BEGIN:STANDARD
DTSTART:20231029T020000
TZNAME:CET
TZOFFSETTO:+0100
TZOFFSETFROM:+0200
END:STANDARD
BEGIN:DAYLIGHT
DTSTART:20240331T030000
TZNAME:CEST
TZOFFSETTO:+0200
TZOFFSETFROM:+0100
END:DAYLIGHT
BEGIN:STANDARD
DTSTART:20241027T020000
TZNAME:CET
TZOFFSETTO:+0100
TZOFFSETFROM:+0200
END:STANDARD
END:VTIMEZONE
END:VCALENDAR
