BEGIN:VCALENDAR
PRODID:-//eluceo/ical//2.0/EN
VERSION:2.0
CALSCALE:GREGORIAN
BEGIN:VEVENT
UID:https://hbb.rivio.dev/jeugd/2023/wedstrijd/30948
DTSTAMP:20260420T151342Z
SUMMARY:Mierlo 5 - Veldhoven 2
DESCRIPTION:Baan 14\, Wedstrijdnummer 10\, Afdeling H-klasse 
DTSTART:20230910T093000
DTEND:20230910T111500
LOCATION:City Resort Helmond
ATTACH;FMTTYPE=text/plain:https://hbb.rivio.dev/jeugd/2023/wedstrijd/30948
END:VEVENT
BEGIN:VEVENT
UID:https://hbb.rivio.dev/jeugd/2023/wedstrijd/30982
DTSTAMP:20260420T151342Z
SUMMARY:Veldhoven 2 - Geldrop 2
DESCRIPTION:Baan 15\, Wedstrijdnummer 44\, Afdeling H-klasse 
DTSTART:20231001T093000
DTEND:20231001T111500
LOCATION:City Resort Helmond
ATTACH;FMTTYPE=text/plain:https://hbb.rivio.dev/jeugd/2023/wedstrijd/30982
END:VEVENT
BEGIN:VEVENT
UID:https://hbb.rivio.dev/jeugd/2023/wedstrijd/31010
DTSTAMP:20260420T151342Z
SUMMARY:Veldhoven 2 - Phoenix 3
DESCRIPTION:Baan 10\, Wedstrijdnummer 72\, Afdeling H-klasse 
DTSTART:20231105T093000
DTEND:20231105T111500
LOCATION:City Resort Helmond
ATTACH;FMTTYPE=text/plain:https://hbb.rivio.dev/jeugd/2023/wedstrijd/31010
END:VEVENT
BEGIN:VEVENT
UID:https://hbb.rivio.dev/jeugd/2023/wedstrijd/31049
DTSTAMP:20260420T151342Z
SUMMARY:Someren 1 - Veldhoven 2
DESCRIPTION:Baan 2\, Wedstrijdnummer 111\, Afdeling H-klasse 
DTSTART:20231203T093000
DTEND:20231203T111500
LOCATION:City Resort Helmond
ATTACH;FMTTYPE=text/plain:https://hbb.rivio.dev/jeugd/2023/wedstrijd/31049
END:VEVENT
BEGIN:VEVENT
UID:https://hbb.rivio.dev/jeugd/2023/wedstrijd/31061
DTSTAMP:20260420T151342Z
SUMMARY:Veldhoven 2 - Mierlo 5
DESCRIPTION:Baan 4\, Wedstrijdnummer 123\, Afdeling H-klasse 
DTSTART:20231210T093000
DTEND:20231210T111500
LOCATION:City Resort Helmond
ATTACH;FMTTYPE=text/plain:https://hbb.rivio.dev/jeugd/2023/wedstrijd/31061
END:VEVENT
BEGIN:VEVENT
UID:https://hbb.rivio.dev/jeugd/2023/wedstrijd/31073
DTSTAMP:20260420T151342Z
SUMMARY:Geldrop 2 - Veldhoven 2
DESCRIPTION:Baan 11\, Wedstrijdnummer 135\, Afdeling H-klasse 
DTSTART:20231217T093000
DTEND:20231217T111500
LOCATION:City Resort Helmond
ATTACH;FMTTYPE=text/plain:https://hbb.rivio.dev/jeugd/2023/wedstrijd/31073
END:VEVENT
BEGIN:VEVENT
UID:https://hbb.rivio.dev/jeugd/2023/wedstrijd/31085
DTSTAMP:20260420T151342Z
SUMMARY:Phoenix 3 - Veldhoven 2
DESCRIPTION:Baan 13\, Wedstrijdnummer 147\, Afdeling H-klasse 
DTSTART:20240114T093000
DTEND:20240114T111500
LOCATION:City Resort Helmond
ATTACH;FMTTYPE=text/plain:https://hbb.rivio.dev/jeugd/2023/wedstrijd/31085
END:VEVENT
BEGIN:VEVENT
UID:https://hbb.rivio.dev/jeugd/2023/wedstrijd/31112
DTSTAMP:20260420T151342Z
SUMMARY:Veldhoven 2 - Someren 1
DESCRIPTION:Baan 4\, Wedstrijdnummer 184\, Afdeling H-klasse 
DTSTART:20240303T093000
DTEND:20240303T111500
LOCATION:City Resort Helmond
ATTACH;FMTTYPE=text/plain:https://hbb.rivio.dev/jeugd/2023/wedstrijd/31112
END:VEVENT
BEGIN:VEVENT
UID:https://hbb.rivio.dev/jeugd/2023/wedstrijd/31126
DTSTAMP:20260420T151342Z
SUMMARY:Veldhoven 2 - Geldrop 2
DESCRIPTION:Baan 11\, Wedstrijdnummer 198\, Afdeling H-klasse 
DTSTART:20240310T093000
DTEND:20240310T111500
LOCATION:City Resort Helmond
ATTACH;FMTTYPE=text/plain:https://hbb.rivio.dev/jeugd/2023/wedstrijd/31126
END:VEVENT
BEGIN:VEVENT
UID:https://hbb.rivio.dev/jeugd/2023/wedstrijd/31144
DTSTAMP:20260420T151342Z
SUMMARY:Veldhoven 2 - Phoenix 3
DESCRIPTION:Baan 11\, Wedstrijdnummer 221\, Afdeling H-klasse 
DTSTART:20240324T093000
DTEND:20240324T111500
LOCATION:City Resort Helmond
ATTACH;FMTTYPE=text/plain:https://hbb.rivio.dev/jeugd/2023/wedstrijd/31144
END:VEVENT
BEGIN:VEVENT
UID:https://hbb.rivio.dev/jeugd/2023/wedstrijd/31128
DTSTAMP:20260420T151342Z
SUMMARY:Mierlo 5 - Veldhoven 2
DESCRIPTION:Baan 10\, Wedstrijdnummer 203\, Afdeling H-klasse 
DTSTART:20240407T093000
DTEND:20240407T111500
LOCATION:City Resort Helmond
ATTACH;FMTTYPE=text/plain:https://hbb.rivio.dev/jeugd/2023/wedstrijd/31128
END:VEVENT
BEGIN:VEVENT
UID:https://hbb.rivio.dev/jeugd/2023/wedstrijd/31179
DTSTAMP:20260420T151342Z
SUMMARY:Someren 1 - Veldhoven 2
DESCRIPTION:Baan 10\, Wedstrijdnummer 263\, Afdeling H-klasse 
DTSTART:20240602T093000
DTEND:20240602T111500
LOCATION:City Resort Helmond
ATTACH;FMTTYPE=text/plain:https://hbb.rivio.dev/jeugd/2023/wedstrijd/31179
END:VEVENT
BEGIN:VTIMEZONE
TZID:Europe/Amsterdam
BEGIN:STANDARD
DTSTART:20230101T000000
TZNAME:CET
TZOFFSETTO:+0100
TZOFFSETFROM:+0100
END:STANDARD
BEGIN:DAYLIGHT
DTSTART:20230326T030000
TZNAME:CEST
TZOFFSETTO:+0200
TZOFFSETFROM:+0100
END:DAYLIGHT
BEGIN:STANDARD
DTSTART:20231029T020000
TZNAME:CET
TZOFFSETTO:+0100
TZOFFSETFROM:+0200
END:STANDARD
BEGIN:DAYLIGHT
DTSTART:20240331T030000
TZNAME:CEST
TZOFFSETTO:+0200
TZOFFSETFROM:+0100
END:DAYLIGHT
BEGIN:STANDARD
DTSTART:20241027T020000
TZNAME:CET
TZOFFSETTO:+0100
TZOFFSETFROM:+0200
END:STANDARD
END:VTIMEZONE
END:VCALENDAR
